Трудится в сложных погодных условиях на двухсекционном «Авангарде», которые я водил.
- Раздел: Автомобили
- Дата съёмки: неизвестно
- Дата загрузки фото: 17.11.2023 04:51
- Оригинальная фотография: 1400 x 842 (511 Кб)
- Технические характеристики:
- Фотоаппарат: Nikon D3200
- Выдержка: 0,0
- Гиперфокальное расстояние: inf m
- Диафрагма: 4,5
- Светочувствительность: 400
- Фокусное расстояние: 35,0 mm (35 mm equivalent: 35,0 mm)
- Полный EXIF
- Adobe
- ColorTransform: YCbCr
- Composite
- Aperture: 4,5
- CircleOfConfusion: 0,020 mm
- DOF: inf (0,00 m - inf)
- FocalLength35efl: 35,0 mm (35 mm equivalent: 35,0 mm)
- FOV: 54,0 deg
- HyperfocalDistance: inf m
- LensID: AF-S DX Nikkor 35mm f/1.8G
- Megapixels: 1,2
- ScaleFactor35efl: 1,5
- ShutterSpeed: 0,0
- ExifIFD
- ApertureValue: 4,0
- CFAPattern: [Red,Green][Green,Blue]
- ColorSpace: sRGB
- Contrast: Normal
- CreateDate: 2023:11:07 16:06:48
- CustomRendered: Normal
- DateTimeOriginal: 2023:11:07 16:06:48
- DigitalZoomRatio: 1
- ExifImageHeight: 842
- ExifImageWidth: 1400
- ExposureCompensation: 0
- ExposureMode: Manual
- ExposureProgram: Manual
- ExposureTime: 0,0
- Flash: No Flash
- FNumber: 4,5
- FocalLength: 35,0 mm
- FocalLengthIn35mmFormat: 52 mm
- GainControl: Low gain up
- ISO: 400
- LensInfo: 35mm f/1.8
- LensModel: 35.0 mm f/1.8
- LightSource: Unknown
- MaxApertureValue: 1,4
- MeteringMode: Center-weighted average
- Saturation: Normal
- SceneCaptureType: Standard
- SceneType: Directly photographed
- SensingMethod: One-chip color area
- SensitivityType: Recommended Exposure Index
- SerialNumber: 6686063
- Sharpness: Hard
- ShutterSpeedValue: 1/128
- SubjectDistance: 5,01 m
- SubjectDistanceRange: Unknown
- WhiteBalance: Auto
- ICC-header
- ICC-meas
- ICC-view
- IFD0
- Make: NIKON CORPORATION
- Model: NIKON D3200
- ModifyDate: 2023:11:07 21:53:20
- IFD1
- IPTC
- DateCreated: 2023:11:07
- IPTC2
- System
- XMP-DxO
- XMP-aux
- ApproximateFocusDistance: 5,01
- ImageNumber: 28843
- Lens: 35.0 mm f/1.8
- LensID: 159
- XMP-crs
- AlreadyApplied: True
- AutoLateralCA: 0
- Blacks2012: -18
- BlueHue: 0
- BlueSaturation: 0
- Clarity2012: 0
- ColorGradeBlending: 50
- ColorGradeGlobalHue: 0
- ColorGradeGlobalLum: 0
- ColorGradeGlobalSat: 0
- ColorGradeHighlightLum: 0
- ColorGradeMidtoneHue: 0
- ColorGradeMidtoneLum: 0
- ColorGradeMidtoneSat: 0
- ColorGradeShadowLum: 0
- ColorNoiseReduction: 0
- ColorTemperature: 5800
- CompatibleVersion: 251658240
- Contrast2012: +5
- CropAngle: 0
- CropBottom: 0.933622
- CropConstrainToWarp: 0
- CropLeft: 0.034549
- CropRight: 1
- CropTop: 0.060606
- DefringeGreenAmount: 0
- DefringeGreenHueHi: 60
- DefringeGreenHueLo: 40
- DefringePurpleAmount: 0
- DefringePurpleHueHi: 70
- DefringePurpleHueLo: 30
- Dehaze: +9
- Exposure2012: +1.24
- GrainAmount: 0
- GreenHue: 0
- GreenSaturation: 0
- HasCrop: True
- HasSettings: True
- Highlights2012: -62
- HueAdjustmentAqua: 0
- HueAdjustmentBlue: 0
- HueAdjustmentGreen: 0
- HueAdjustmentMagenta: 0
- HueAdjustmentOrange: 0
- HueAdjustmentPurple: 0
- HueAdjustmentRed: 0
- HueAdjustmentYellow: 0
- LensManualDistortionAmount: 0
- LensProfileEnable: 0
- LookAmount: 1
- LookParametersConvertToGrayscale: False
- LookParametersLookTable: E1095149FDB39D7A057BAB208837E2E1
- LookParametersProcessVersion: 15.4
- LookParametersToneCurvePV2012: 0, 0, 22, 16, 40, 35, 127, 127, 224, 230, 240, 246, 255, 255
- LookParametersVersion: 15.5
- LuminanceAdjustmentAqua: 0
- LuminanceAdjustmentBlue: 0
- LuminanceAdjustmentGreen: 0
- LuminanceAdjustmentMagenta: 0
- LuminanceAdjustmentOrange: 0
- LuminanceAdjustmentPurple: 0
- LuminanceAdjustmentRed: 0
- LuminanceAdjustmentYellow: 0
- LuminanceSmoothing: 0
- OverrideLookVignette: False
- ParametricDarks: 0
- ParametricHighlights: 0
- ParametricHighlightSplit: 75
- ParametricLights: 0
- ParametricMidtoneSplit: 50
- ParametricShadows: 0
- ParametricShadowSplit: 25
- PerspectiveAspect: 0
- PerspectiveHorizontal: 0
- PerspectiveRotate: 0.0
- PerspectiveScale: 100
- PerspectiveUpright: 1
- PerspectiveVertical: 0
- PerspectiveX: 0.00
- PerspectiveY: 0.00
- PostCropVignetteAmount: 0
- ProcessVersion: 15.4
- RawFileName: DSC_0284-NEF_DxO_DeepPRIMEXD.dng
- RedHue: 0
- RedSaturation: 0
- Saturation: +8
- SaturationAdjustmentAqua: 0
- SaturationAdjustmentBlue: 0
- SaturationAdjustmentGreen: 0
- SaturationAdjustmentMagenta: 0
- SaturationAdjustmentOrange: 0
- SaturationAdjustmentPurple: 0
- SaturationAdjustmentRed: 0
- SaturationAdjustmentYellow: 0
- Shadows2012: +79
- ShadowTint: 0
- SharpenDetail: 25
- SharpenEdgeMasking: 0
- SharpenRadius: +1.0
- Sharpness: 85
- SplitToningBalance: 0
- SplitToningHighlightHue: 0
- SplitToningHighlightSaturation: 0
- SplitToningShadowHue: 0
- SplitToningShadowSaturation: 0
- Texture: +6
- Tint: -1
- ToneCurveName2012: Linear
- ToneCurvePV2012: 0, 0, 255, 255
- ToneCurvePV2012Blue: 0, 0, 255, 255
- ToneCurvePV2012Green: 0, 0, 255, 255
- ToneCurvePV2012Red: 0, 0, 255, 255
- Version: 15.5
- Vibrance: +20
- VignetteAmount: 0
- WhiteBalance: As Shot
- Whites2012: +18
- XMP-dc
- XMP-x
- XMP-xmp
- XMP-xmpMM
- PreservedFileName: DSC_0284-NEF_DxO_DeepPRIMEXD.dng
- Просмотров: 325
- Рейтинг: голосов еще нет
- Отзывов: 1
Получить код для блога
Вставка фотографии в текущем разрешении |
Вставка миниатюры |
HTML (для вставки в блог):
BBCode (для вставки в форум):
Ссылка на фото:
Ссылка на миниатюру:
- Послать ссылку другу
Комментарии к фотографии |
![](img/title-line.gif) |
![](img/title-shadow.gif) | |