- Раздел: Животные
- Дата съёмки: неизвестно
- Дата загрузки фото: 03.03.2024 16:43
- Оригинальная фотография: 900 x 600 (120 Кб)
- Технические характеристики:
- Фотоаппарат: Canon EOS R6
- Выдержка: 0,0
- Гиперфокальное расстояние: inf m
- Диафрагма: 2,8
- Светочувствительность: 25600
- Фокусное расстояние: 104,0 mm (35 mm equivalent: 624,0 mm)
- Полный EXIF
- Adobe
- ColorTransform: YCbCr
- Composite
- Aperture: 2,8
- CircleOfConfusion: 0,005 mm
- FocalLength35efl: 104,0 mm (35 mm equivalent: 624,0 mm)
- FOV: 3,0 deg
- HyperfocalDistance: inf m
- LensID: Canon RF70-200mm F2.8 L IS USM
- Megapixels: 0,540
- ScaleFactor35efl: 6,1
- ShutterSpeed: 0,0
- ExifIFD
- ApertureValue: 2,0
- ColorSpace: sRGB
- CreateDate: 2024:02:17 13:07:39
- CustomRendered: Normal
- DateTimeOriginal: 2024:02:17 13:07:39
- ExifImageHeight: 600
- ExifImageWidth: 900
- ExposureCompensation: 0
- ExposureMode: Manual
- ExposureProgram: Manual
- ExposureTime: 0,0
- Flash: No Flash
- FNumber: 2,8
- FocalLength: 104,0 mm
- ISO: 25600
- LensInfo: 70-200mm f/?
- LensModel: RF70-200mm F2.8 L IS USM
- LensSerialNumber: 1850001336
- MaxApertureValue: 2,8
- MeteringMode: Multi-segment
- RecommendedExposureIndex: 25600
- SceneCaptureType: Standard
- SensitivityType: Recommended Exposure Index
- SerialNumber: 372022000266
- ShutterSpeedValue: 1/1024
- WhiteBalance: Manual
- ICC-header
- ICC-meas
- ICC-view
- IFD0
- BitsPerSample: 8 8 8
- ImageHeight: 3120
- ImageWidth: 4680
- Make: Canon
- Model: Canon EOS R6
- ModifyDate: 2024:02:21 20:39:26
- Orientation: Horizontal (normal)
- PhotometricInterpretation: RGB
- SamplesPerPixel: 3
- IFD1
- IPTC
- DateCreated: 2024:02:17
- System
- XMP-aux
- ApproximateFocusDistance: 9,94
- Firmware: 1.6.0
- FlashCompensation: 0
- ImageNumber: 0
- Lens: RF70-200mm F2.8 L IS USM
- LensID: 61182
- XMP-crs
- AlreadyApplied: True
- AutoLateralCA: 0
- Blacks2012: +71
- BlueHue: -39
- BlueSaturation: -43
- CameraProfile: Camera Standard
- Clarity2012: 0
- ColorGradeBlending: 50
- ColorGradeGlobalHue: 0
- ColorGradeGlobalLum: 0
- ColorGradeGlobalSat: 0
- ColorGradeHighlightLum: 0
- ColorGradeMidtoneHue: 0
- ColorGradeMidtoneLum: 0
- ColorGradeMidtoneSat: 0
- ColorGradeShadowLum: 0
- ColorNoiseReduction: 55
- ColorNoiseReductionDetail: 50
- ColorNoiseReductionSmoothness: 50
- ColorTemperature: 3900
- Contrast2012: +88
- ConvertToGrayscale: False
- CropAngle: -1.310689
- CropBottom: 0.86008
- CropConstrainToWarp: 0
- CropLeft: 0.132008
- CropRight: 1
- CropTop: 0.034471
- DefringeGreenAmount: 0
- DefringeGreenHueHi: 60
- DefringeGreenHueLo: 40
- DefringePurpleAmount: 0
- DefringePurpleHueHi: 70
- DefringePurpleHueLo: 30
- Dehaze: 0
- Exposure2012: +0.30
- GrainAmount: 0
- GreenHue: +47
- GreenSaturation: +47
- HasCrop: True
- HasSettings: True
- Highlights2012: -97
- HueAdjustmentAqua: 0
- HueAdjustmentBlue: 0
- HueAdjustmentGreen: -9
- HueAdjustmentMagenta: -31
- HueAdjustmentOrange: -14
- HueAdjustmentPurple: -7
- HueAdjustmentRed: 0
- HueAdjustmentYellow: -5
- LensManualDistortionAmount: 0
- LensProfileDistortionScale: 100
- LensProfileEnable: 0
- LensProfileFilename: Canon (Canon RF 70-200mm F2.8 L IS USM) - RAW.lcp
- LensProfileIsEmbedded: False
- LensProfileSetup: LensDefaults
- LensProfileVignettingScale: 100
- LuminanceAdjustmentAqua: 0
- LuminanceAdjustmentBlue: 0
- LuminanceAdjustmentGreen: 0
- LuminanceAdjustmentMagenta: 0
- LuminanceAdjustmentOrange: 0
- LuminanceAdjustmentPurple: 0
- LuminanceAdjustmentRed: 0
- LuminanceAdjustmentYellow: 0
- LuminanceNoiseReductionContrast: 0
- LuminanceNoiseReductionDetail: 50
- LuminanceSmoothing: 51
- OverrideLookVignette: True
- ParametricDarks: +10
- ParametricHighlights: -22
- ParametricHighlightSplit: 75
- ParametricLights: -89
- ParametricMidtoneSplit: 50
- ParametricShadows: +1
- ParametricShadowSplit: 25
- PerspectiveAspect: 0
- PerspectiveHorizontal: 0
- PerspectiveRotate: 0.0
- PerspectiveScale: 100
- PerspectiveUpright: 0
- PerspectiveVertical: 0
- PerspectiveX: 0.00
- PerspectiveY: 0.00
- PostCropVignetteAmount: +2
- PostCropVignetteFeather: 100
- PostCropVignetteMidpoint: 13
- PostCropVignetteRoundness: +38
- PostCropVignetteStyle: 1
- ProcessVersion: 11.0
- RawFileName: 0Q6A0113.CR3
- RedHue: +22
- RedSaturation: -6
- Saturation: -12
- SaturationAdjustmentAqua: -32
- SaturationAdjustmentBlue: -28
- SaturationAdjustmentGreen: -40
- SaturationAdjustmentMagenta: -33
- SaturationAdjustmentOrange: -40
- SaturationAdjustmentPurple: -49
- SaturationAdjustmentRed: -39
- SaturationAdjustmentYellow: -23
- Shadows2012: +43
- ShadowTint: +13
- SharpenDetail: 25
- SharpenEdgeMasking: 0
- SharpenRadius: +1.0
- Sharpness: 44
- SplitToningBalance: 0
- SplitToningHighlightHue: 0
- SplitToningHighlightSaturation: 0
- SplitToningShadowHue: 37
- SplitToningShadowSaturation: 29
- Texture: +4
- Tint: +48
- ToneCurveName2012: Custom
- ToneCurvePV2012: 1, 26, 42, 40, 185, 203, 255, 244
- ToneCurvePV2012Blue: 0, 2, 33, 32, 162, 170, 255, 255
- ToneCurvePV2012Green: 5, 0, 30, 23, 62, 62, 139, 153, 255, 249
- ToneCurvePV2012Red: 6, 0, 38, 26, 58, 52, 119, 131, 255, 255
- Version: 14.3
- Vibrance: -1
- VignetteAmount: 0
- WhiteBalance: Custom
- Whites2012: -90
- XMP-dc
- XMP-exifEX
- XMP-xmp
- ModifyDate: 2024:02:21 20:39:26+03:00
- XMP-xmpMM
- Просмотров: 142
- Рейтинг: голосов еще нет
- Отзывов: 0