- Раздел: Другое, разное
- Дата съёмки: неизвестно
- Дата загрузки фото: 23.03.2024 22:14
- Оригинальная фотография: 2048 x 1156 (1,5 Мб)
- Технические характеристики:
- Фотоаппарат: Apple iPhone 11
- Выдержка: 0,0
- Гиперфокальное расстояние: inf m
- Диафрагма: 2,4
- Светочувствительность: 20
- Фокусное расстояние: 1,0 mm (35 mm equivalent: 13,0 mm)
- Полный EXIF
- Adobe
- ColorTransform: YCbCr
- Composite
- Aperture: 2,4
- CircleOfConfusion: 0,002 mm
- FocalLength35efl: 1,0 mm (35 mm equivalent: 13,0 mm)
- FOV: 108,0 deg
- GPSAltitude: 187 m Above Sea Level
- GPSDateTime: 2024:02:11 09:48:02Z
- GPSLatitude: 43 deg 42' 38,00" N
- GPSLongitude: 39 deg 47' 17,00" E
- GPSPosition: 43 deg 42' 38,00" N, 39 deg 47' 17,00" E
- HyperfocalDistance: inf m
- Megapixels: 2,4
- ScaleFactor35efl: 13,0
- ShutterSpeed: 0,0
- ExifIFD
- ApertureValue: 2,0
- BrightnessValue: 7,306402127
- ColorSpace: Uncalibrated
- CreateDate: 2024:02:11 12:48:04
- DateTimeOriginal: 2024:02:11 12:48:04
- DigitalZoomRatio: 1,020931803
- ExifImageHeight: 1156
- ExifImageWidth: 2048
- ExposureCompensation: 0
- ExposureMode: Auto
- ExposureProgram: Program AE
- ExposureTime: 0,0
- Flash: Off, Did not fire
- FNumber: 2,4
- FocalLength: 1,0 mm
- FocalLengthIn35mmFormat: 13 mm
- ISO: 20
- LensInfo: 1.539999962-4.25mm f/1.8-2.4
- LensMake: Apple
- LensModel: iPhone 11 back dual wide camera 1.54mm f/2.4
- MeteringMode: Multi-segment
- SceneCaptureType: Standard
- SceneType: Directly photographed
- SensingMethod: One-chip color area
- ShutterSpeedValue: 1/128
- SubjectArea: 2015 1510 2321 1390
- WhiteBalance: Auto
- GPS
- GPSAltitude: 187,8702665 m
- GPSAltitudeRef: Above Sea Level
- GPSDateStamp: 2024:02:11
- GPSDestBearing: 193,1293945
- GPSDestBearingRef: True North
- GPSHPositioningError: 72,46533425 m
- GPSImgDirection: 193,1293945
- GPSImgDirectionRef: True North
- GPSLatitude: 43 deg 42' 38,00"
- GPSLatitudeRef: North
- GPSLongitude: 39 deg 47' 17,00"
- GPSLongitudeRef: East
- GPSSpeed: 0,48011288
- GPSSpeedRef: km/h
- GPSTimeStamp: 09:48:02
- ICC-header
- IFD0
- BitsPerSample: 8 8 8
- ImageHeight: 2127
- ImageWidth: 3769
- Make: Apple
- Model: iPhone 11
- ModifyDate: 2024:03:23 21:54:06
- Orientation: Horizontal (normal)
- PhotometricInterpretation: RGB
- SamplesPerPixel: 3
- IFD1
- IPTC
- DateCreated: 2024:02:11
- System
- XMP-aux
- DistortionCorrectionAlreadyApplied: True
- LateralChromaticAberrationCorrectionAlreadyApplied: True
- Lens: iPhone 11 back dual wide camera 1.54mm f/2.4
- LensInfo: 1.53999996185121-4.25mm f/1.8-2.4
- XMP-crs
- AlreadyApplied: True
- AutoLateralCA: 1
- AutoWhiteVersion: 134348800
- Blacks2012: -16
- BlueHue: 0
- BlueSaturation: 0
- CameraProfile: Embedded
- Clarity2012: +13
- ColorNoiseReduction: 0
- Contrast2012: +13
- ConvertToGrayscale: False
- DefringeGreenAmount: 0
- DefringeGreenHueHi: 60
- DefringeGreenHueLo: 40
- DefringePurpleAmount: 0
- DefringePurpleHueHi: 70
- DefringePurpleHueLo: 30
- Dehaze: 0
- Exposure2012: -0.10
- GrainAmount: 0
- GreenHue: 0
- GreenSaturation: 0
- HasCrop: False
- HasSettings: True
- Highlights2012: -100
- HueAdjustmentAqua: 0
- HueAdjustmentBlue: 0
- HueAdjustmentGreen: 0
- HueAdjustmentMagenta: 0
- HueAdjustmentOrange: 0
- HueAdjustmentPurple: -100
- HueAdjustmentRed: 0
- HueAdjustmentYellow: 0
- IncrementalTemperature: +1
- IncrementalTint: +24
- LensManualDistortionAmount: 0
- LensProfileChromaticAberrationScale: 100
- LensProfileDistortionScale: 100
- LensProfileEnable: 1
- LensProfileFilename: Apple iPhone (Apple iPhone 11 back camera 1.54mm f2.4).lcp
- LensProfileSetup: LensDefaults
- LensProfileVignettingScale: 100
- LuminanceAdjustmentAqua: 0
- LuminanceAdjustmentBlue: 0
- LuminanceAdjustmentGreen: 0
- LuminanceAdjustmentMagenta: 0
- LuminanceAdjustmentOrange: 0
- LuminanceAdjustmentPurple: 0
- LuminanceAdjustmentRed: 0
- LuminanceAdjustmentYellow: 0
- LuminanceSmoothing: 0
- OverrideLookVignette: False
- ParametricDarks: 0
- ParametricHighlights: 0
- ParametricHighlightSplit: 75
- ParametricLights: 0
- ParametricMidtoneSplit: 50
- ParametricShadows: 0
- ParametricShadowSplit: 25
- PerspectiveAspect: 0
- PerspectiveHorizontal: 0
- PerspectiveRotate: 0.0
- PerspectiveScale: 100
- PerspectiveUpright: 0
- PerspectiveVertical: 0
- PerspectiveX: 0.00
- PerspectiveY: 0.00
- PostCropVignetteAmount: 0
- ProcessVersion: 11.0
- RedHue: 0
- RedSaturation: 0
- Saturation: +1
- SaturationAdjustmentAqua: 0
- SaturationAdjustmentBlue: 0
- SaturationAdjustmentGreen: 0
- SaturationAdjustmentMagenta: 0
- SaturationAdjustmentOrange: 0
- SaturationAdjustmentPurple: 0
- SaturationAdjustmentRed: 0
- SaturationAdjustmentYellow: 0
- Shadows2012: +29
- ShadowTint: 0
- SharpenDetail: 25
- SharpenEdgeMasking: 0
- SharpenRadius: +1.0
- Sharpness: 0
- SplitToningBalance: 0
- SplitToningHighlightHue: 0
- SplitToningHighlightSaturation: 0
- SplitToningShadowHue: 0
- SplitToningShadowSaturation: 0
- Texture: 0
- ToneCurve: 0, 0, 255, 255
- ToneCurveBlue: 0, 0, 255, 255
- ToneCurveGreen: 0, 0, 255, 255
- ToneCurveName: Linear
- ToneCurveName2012: Linear
- ToneCurvePV2012: 0, 0, 255, 255
- ToneCurvePV2012Blue: 0, 0, 255, 255
- ToneCurvePV2012Green: 0, 0, 255, 255
- ToneCurvePV2012Red: 0, 0, 255, 255
- ToneCurveRed: 0, 0, 255, 255
- ToneMapStrength: 0
- Version: 12.1
- Vibrance: +1
- VignetteAmount: 0
- Whites2012: +9
- XMP-dc
- XMP-exifEX
- XMP-xmp
- CreatorTool: ACDSee Ultimate 2019
- ModifyDate: 2024:03:23 21:54:06+03:00
- XMP-xmpMM
- Просмотров: 73
- Рейтинг: голосов еще нет
- Отзывов: 0