- Раздел: Тесты фототехники
- Дата съёмки: неизвестно
- Дата загрузки фото: 30.05.2024 17:54
- Оригинальная фотография: 5568 x 3712 (2,5 Мб)
- Технические характеристики:
- Фотоаппарат: Nikon Z 30
- Выдержка: 0,0
- Гиперфокальное расстояние: inf m
- Диафрагма: 5,6
- Светочувствительность: 400
- Фокусное расстояние: 70,0 mm (35 mm equivalent: 70,0 mm)
- Полный EXIF
- Composite
- Aperture: 5,6
- AutoFocus: On
- BlueBalance: 1
- CircleOfConfusion: 0,020 mm
- DOF: inf (0,00 m - inf)
- Flash: On, Return detected
- FocalLength35efl: 70,0 mm (35 mm equivalent: 70,0 mm)
- FOV: 28,0 deg
- HyperfocalDistance: inf m
- LensSpec: 35-70mm f/2.8 D
- Megapixels: 20,7
- RedBalance: 2
- ScaleFactor35efl: 1,5
- ShutterSpeed: 0,0
- ExifIFD
- ApertureValue: 4,0
- CFAPattern: [Red,Green][Green,Blue]
- ColorSpace: sRGB
- Contrast: Normal
- CreateDate: 2023:01:21 14:30:02
- CustomRendered: Custom
- DateTimeOriginal: 2023:01:21 14:30:02
- ExifImageHeight: 3712
- ExifImageWidth: 5568
- ExposureCompensation: 0
- ExposureMode: Auto
- ExposureProgram: Aperture-priority AE
- ExposureTime: 0,0
- FNumber: 5,6
- FocalLength: 70,0 mm
- FocalLengthIn35mmFormat: 105 mm
- GainControl: None
- ISO: 400
- LensInfo: 35-70mm f/2.8
- LensMake:
- LensModel: 35-70mm f/2.8D
- LensSerialNumber:
- LightSource: Unknown
- MeteringMode: Multi-segment
- RecommendedExposureIndex: 400
- Saturation: Normal
- SceneCaptureType: Standard
- SceneType: Directly photographed
- SensingMethod: One-chip color area
- SensitivityType: Recommended Exposure Index
- SerialNumber: 7801149
- Sharpness: Normal
- ShutterSpeedValue: 1/64
- SubjectDistance: 2 m
- SubjectDistanceRange: Unknown
- UserComment:
- WhiteBalance: Auto
- GPS
- IFD0
- Make: NIKON CORPORATION
- Model: NIKON Z 30
- ModifyDate: 2024:05:30 19:46:17
- Orientation: Horizontal (normal)
- Rating: 0
- RatingPercent: 0
- Software: DxO PhotoLab 6.7
- TIFF-EPStandardID: 1 0 0 0
- Nikon
- ActiveD-Lighting: Off
- AFAreaMode: Unknown (193)
- AFFineTune: Off
- AFFineTuneAdj: 0
- AFFineTuneIndex: n/a
- AFInfo2Version: 0301
- AFPointsUsed: (none)
- AutoDistortionControl: Off
- BlackLevel: 1008 1008 1008 1008
- Brightness: 3,00
- Clarity: None
- ColorBalanceVersion: 0802
- Contrast: n/a
- ContrastDetectAF: Unknown (2)
- CropHiSpeed: On (5600x3728 cropped to 5600x3728 at pixel 0,0)
- DateDisplayFormat: D/M/Y
- DaylightSavings: No
- ExposureBracketValue: 0
- ExposureDifference: -4,1
- ExposureTuning: 0
- ExternalFlashExposureComp: 0
- FileInfoVersion: 0100
- FileNumber: 1491
- FilterEffect: Off
- FlashExposureBracketValue: 0,0
- FlashInfoVersion: 0300
- FlashMode: Fired, External
- FlashSetting: Normal
- FlashType: Optional,TTL-BL
- FocusMode: Manual
- HighISONoiseReduction: Normal
- Hue: 1,00
- ISO2: 100
- ISOExpansion: Off
- ISOExpansion2: Off
- Lens: 35-70mm f/2.8
- LensDataVersion: 0802
- LensFStops: 6,00
- LensType: D
- MakerNoteVersion: 2.11
- MemoryCardNumber: 0
- NoiseReduction: Off
- PhaseDetectAF: Off
- PictureControlAdjust: Quick Adjust
- PictureControlBase:
- PictureControlName: 0300STANDARD
- PictureControlQuickAdjust: Auto
- PictureControlVersion: 0300
- PowerUpTime: 0000:00:00 00:00:00
- PrimaryAFPoint: C6 (Center)
- ProgramShift: 0
- Quality: Fine
- Saturation: 2,00
- Sharpness: Auto
- ShootingMode: Single-Frame, Auto ISO
- ShotInfoVersion: 0807
- ShutterCount: 1451
- TimeZone: +05:00
- ToningEffect: Unknown (0x4)
- ToningSaturation: None
- VariProgram:
- VibrationReduction: Off
- VignetteControl: Normal
- VRInfoVersion: 0200
- VRMode: Normal
- WB_RBLevels: 2,091796875 1,2734375 1 1
- WhiteBalance: Auto1
- WhiteBalanceFineTune: 0 0
- System
- XMP-aux
- ImageNumber: 1451
- Lens: 35-70mm f/2.8D
- XMP-crd
- CameraProfile: Camera Standard
- ColorNoiseReduction: 10
- ColorNoiseReductionDetail: 50
- ColorNoiseReductionSmoothness: 50
- Contrast2012: 0
- Exposure2012: 0.00
- Highlights2012: 0
- HueAdjustmentOrange: 0
- HueAdjustmentRed: 0
- HueAdjustmentYellow: 0
- LuminanceAdjustmentOrange: 0
- LuminanceAdjustmentRed: 0
- LuminanceAdjustmentYellow: 0
- LuminanceNoiseReductionContrast: 0
- LuminanceNoiseReductionDetail: 75
- LuminanceSmoothing: 31
- Saturation: 0
- SaturationAdjustmentOrange: 0
- SaturationAdjustmentRed: 0
- SaturationAdjustmentYellow: 0
- Shadows2012: 0
- SharpenDetail: 25
- SharpenEdgeMasking: 0
- SharpenRadius: 2.00
- Sharpness: 40
- XMP-crs
- AlreadyApplied: True
- AutoLateralCA: 1
- Blacks2012: -21
- BlueHue: 0
- BlueSaturation: 0
- Clarity2012: 0
- ColorGradeBlending: 50
- ColorGradeGlobalHue: 0
- ColorGradeGlobalLum: 0
- ColorGradeGlobalSat: 0
- ColorGradeHighlightLum: 0
- ColorGradeMidtoneHue: 0
- ColorGradeMidtoneLum: 0
- ColorGradeMidtoneSat: 0
- ColorGradeShadowLum: 0
- ColorNoiseReduction: 25
- ColorTemperature: 6200
- Contrast2012: +7
- ConvertToGrayscale: False
- DefringeGreenAmount: 0
- DefringeGreenHueHi: 60
- DefringeGreenHueLo: 40
- DefringePurpleAmount: 0
- DefringePurpleHueHi: 70
- DefringePurpleHueLo: 30
- Dehaze: 0
- Exposure2012: +0.18
- GrainAmount: 0
- GreenHue: 0
- GreenSaturation: 0
- HasCrop: False
- HasSettings: True
- HDREditMode: 0
- Highlights2012: -66
- HueAdjustmentAqua: 0
- HueAdjustmentBlue: 0
- HueAdjustmentGreen: 0
- HueAdjustmentMagenta: 0
- HueAdjustmentPurple: 0
- LensManualDistortionAmount: 0
- LensProfileEnable: 0
- LuminanceAdjustmentAqua: 0
- LuminanceAdjustmentBlue: 0
- LuminanceAdjustmentGreen: 0
- LuminanceAdjustmentMagenta: 0
- LuminanceAdjustmentPurple: 0
- LuminanceSmoothing: 0
- OverrideLookVignette: False
- ParametricDarks: 0
- ParametricHighlights: 0
- ParametricHighlightSplit: 75
- ParametricLights: 0
- ParametricMidtoneSplit: 50
- ParametricShadows: 0
- ParametricShadowSplit: 25
- PerspectiveAspect: 0
- PerspectiveHorizontal: 0
- PerspectiveRotate: 0.0
- PerspectiveScale: 100
- PerspectiveUpright: 0
- PerspectiveVertical: 0
- PerspectiveX: 0.00
- PerspectiveY: 0.00
- PointColors: -1.000000, -1.000000, -1.000000, -1.000000, -1.000000, -1.000000, -1.000000, -1.000000, -1.000000, -1.000000, -1.000000, -1.000000, -1.000000, -1.000000, -1.000000, -1.000000, -1.000000, -1.000000, -1.000000
- PostCropVignetteAmount: 0
- ProcessVersion: 15.4
- RedHue: 0
- RedSaturation: 0
- SaturationAdjustmentAqua: 0
- SaturationAdjustmentBlue: 0
- SaturationAdjustmentGreen: 0
- SaturationAdjustmentMagenta: 0
- SaturationAdjustmentPurple: 0
- Shadows2012: +45
- ShadowTint: 0
- SharpenRadius: +1.0
- SplitToningBalance: 0
- SplitToningHighlightHue: 0
- SplitToningHighlightSaturation: 0
- SplitToningShadowHue: 0
- SplitToningShadowSaturation: 0
- Texture: 0
- Tint: +13
- ToneCurveName2012: Linear
- ToneCurvePV2012: 0, 0, 255, 255
- ToneCurvePV2012Blue: 0, 0, 255, 255
- ToneCurvePV2012Green: 0, 0, 255, 255
- ToneCurvePV2012Red: 0, 0, 255, 255
- Version: 16.3
- Vibrance: +15
- VignetteAmount: 0
- WhiteBalance: As Shot
- Whites2012: +50
- XMP-dc
- Format: image/x-nikon-nef
- XMP-exif
- ApertureValue: 5,6
- DateTimeOriginal: 2023:01:21 14:30:02.57+05:00
- ExposureTime: 1/125
- FlashFired: True
- FlashFunction: False
- FlashMode: On
- FlashRedEyeMode: False
- FlashReturn: Return detected
- SensitivityType: 2
- ShutterSpeedValue: 1/125
- XMP-exifEX
- XMP-tiff
- XMP-x
- XMP-xmp
- CreateDate: 2023:01:21 14:30:02.57+05:00
- CreatorTool: DxO PhotoLab 6.7
- ModifyDate: 2024:05:30 19:46:17+05:00
- XMP-xmpMM
- Просмотров: 7
- Рейтинг: голосов еще нет
- Отзывов: отключены