- Раздел: Другое, разное
- Дата съёмки: 13.04.2009 18:01
- Дата загрузки фото: 30.06.2024 18:25
- Оригинальная фотография: 1974 x 1813 (3,2 Мб)
- Технические характеристики:
- Фотоаппарат: Nikon D40
- Выдержка: 0,0
- Гиперфокальное расстояние: inf m
- Диафрагма: 4,0
- Светочувствительность: 400
- Фокусное расстояние: 26,0 mm (35 mm equivalent: 26,0 mm)
- Полный EXIF
- Composite
- Aperture: 4,0
- BlueBalance: 1,355469
- CircleOfConfusion: 0,020 mm
- DOF: inf (0,00 m - inf)
- FocalLength35efl: 26,0 mm (35 mm equivalent: 26,0 mm)
- FOV: 69,0 deg
- HyperfocalDistance: inf m
- LensID: AF-S DX Zoom-Nikkor 18-55mm f/3.5-5.6G ED II
- LensSpec: 18-55mm f/3.5-5.6 G
- Megapixels: 3,6
- RedBalance: 2,375
- ScaleFactor35efl: 1,5
- ShutterSpeed: 0,0
- ExifIFD
- ApertureValue: 4,0
- CFAPattern: [Blue,Green][Green,Red]
- ColorSpace: sRGB
- CompressedBitsPerPixel: 4
- Contrast: Normal
- CreateDate: 2009:04:13 18:01:13
- CustomRendered: Normal
- DateTimeOriginal: 2009:04:13 18:01:13
- DigitalZoomRatio: 1
- ExifImageHeight: 1813
- ExifImageWidth: 1974
- ExposureCompensation: 0
- ExposureMode: Auto
- ExposureProgram: Program AE
- ExposureTime: 0,0
- Flash: Auto, Fired, Return not detected
- FNumber: 4,0
- FocalLength: 26,0 mm
- FocalLengthIn35mmFormat: 39 mm
- GainControl: Low gain up
- ISO: 400
- LensInfo: 18-55mm f/3.5-5.6
- LensModel: 18.0-55.0 mm f/3.5-5.6
- LightSource: Unknown
- MaxApertureValue: 4,0
- MeteringMode: Multi-segment
- Saturation: Normal
- SceneCaptureType: Standard
- SceneType: Directly photographed
- SensingMethod: One-chip color area
- SerialNumber: 6438216
- Sharpness: Hard
- ShutterSpeedValue: 1/32
- SubjectDistanceRange: Unknown
- WhiteBalance: Auto
- ICC-header
- ICC-meas
- ICC-view
- IFD0
- Make: NIKON CORPORATION
- Model: NIKON D40
- ModifyDate: 2024:06:30 18:23:38
- Orientation: Horizontal (normal)
- Software: ACDSee Ultimate 2019
- IFD1
- IPTC
- DateCreated: 2009:04:13
- Nikon
- AFAperture: 4,0
- AFAreaMode: Dynamic Area
- AFPoint: Center
- AFPointsInFocus: Center
- ColorHue: Mode1a
- ColorMode: Color
- CropHiSpeed: Off (3040x2014 cropped to 3040x2014 at pixel 0,0)
- EffectiveMaxAperture: 4,0
- ExitPupilPosition: 75,9 mm
- ExposureDifference: -5,4
- ExternalFlashExposureComp: 0
- ExternalFlashFirmware: n/a
- ExternalFlashFlags: (none)
- FlashCommanderMode: Off
- FlashCompensation: +1
- FlashControlMode: iTTL-BL
- FlashExposureComp: +1
- FlashGNDistance: 0
- FlashGroupACompensation: 0
- FlashGroupAControlMode: Off
- FlashGroupBCompensation: 0
- FlashGroupBControlMode: Off
- FlashGroupCCompensation: 0
- FlashGroupCControlMode: Off
- FlashInfoVersion: 0102
- FlashMode: Fired, TTL Mode
- FlashSetting: Normal
- FlashSource: Internal
- FlashType: Built-in,TTL
- FocalLength: 25,9 mm
- FocusDistance: 0,84 m
- FocusMode: AF-A
- FocusPosition: 0x42
- HighISONoiseReduction: Off
- HueAdjustment: 3
- ImageBoundary: 0 0 3008 2000
- ImageDataSize: 2646532
- ImageOptimization: Custom
- ISOSetting: 400
- Lens: 18-55mm f/3.5-5.6
- LensDataVersion: 0202
- LensFStops: 5,33
- LensIDNumber: 148
- LensType: G
- LightSource: Speedlight
- MakerNoteVersion: 2.10
- MaxApertureAtMaxFocal: 5,7
- MaxApertureAtMinFocal: 3,6
- MaxFocalLength: 55,0 mm
- MCUVersion: 150
- MinFocalLength: 18,3 mm
- MultiExposureAutoGain: Off
- MultiExposureMode: Off
- MultiExposureShots: 0
- MultiExposureVersion: 0100
- NoiseReduction: Off
- ProgramShift: 0
- Quality: Fine
- SensorPixelSize: 6,05 x 6,05 um
- Sharpness: High
- ShootingMode: Continuous
- ShotInfoVersion: 0209
- ShutterCount: 1671
- ToneComp: Normal
- VariProgram:
- VibrationReduction: Off
- VRInfoVersion: 0100
- VRMode: Normal
- WB_RBLevels: 2,375 1,35546875 1 1
- WB_RGGBLevels: 608 256 256 347
- WhiteBalanceFineTune: 0
- NikonCustom
- AELock: On
- AELockButton: AE/AF Lock
- AFAreaModeSetting: Dynamic Area
- AFAssist: On
- AutoISO: Off
- AutoISOMax: 1600
- AutoISOMinShutterSpeed: 1/30 s
- Beep: On
- FlashLevel: +1,0
- FocusModeSetting: AF-A
- ImageReview: On
- ImageReviewTime: 4 s
- InternalFlash: TTL
- ManualFlashOutput: 1/32
- Metering: Matrix
- MeteringTime: 8 s
- MonitorOffTime: 8 s
- NoMemoryCard: Enable Release
- RemoteOnDuration: 1 min
- SelfTimerTime: 5 s
- ShootingModeSetting: Continuous
- TimerFunctionButton: ISO
- PreviewIFD
- System
- XMP-aux
- ApproximateFocusDistance: 0,84
- ImageNumber: 1671
- Lens: 18.0-55.0 mm f/3.5-5.6
- LensID: 148
- XMP-crs
- AlreadyApplied: False
- AutoLateralCA: 0
- AutoWhiteVersion: 134348800
- Blacks2012: -10
- BlueHue: 0
- BlueSaturation: 0
- CameraProfile: Embedded
- Clarity2012: +21
- ColorNoiseReduction: 0
- Contrast2012: +19
- ConvertToGrayscale: False
- CropAngle: 0
- CropBottom: 0.937811
- CropConstrainToWarp: 1
- CropLeft: 0.093466
- CropRight: 0.923077
- CropTop: 0.008706
- DefringeGreenAmount: 0
- DefringeGreenHueHi: 60
- DefringeGreenHueLo: 40
- DefringePurpleAmount: 0
- DefringePurpleHueHi: 70
- DefringePurpleHueLo: 30
- Dehaze: 0
- Exposure2012: 0.00
- GrainAmount: 0
- GreenHue: 0
- GreenSaturation: 0
- HasCrop: True
- HasSettings: True
- Highlights2012: -100
- HueAdjustmentAqua: 0
- HueAdjustmentBlue: 0
- HueAdjustmentGreen: 0
- HueAdjustmentMagenta: 0
- HueAdjustmentOrange: 0
- HueAdjustmentPurple: 0
- HueAdjustmentRed: 0
- HueAdjustmentYellow: 0
- IncrementalTemperature: 0
- IncrementalTint: 0
- LensManualDistortionAmount: 0
- LensProfileChromaticAberrationScale: 100
- LensProfileDistortionScale: 100
- LensProfileEnable: 1
- LensProfileFilename: NIKON D3X (Nikon FX 24-70mm f2.8 G ED).lcp
- LensProfileSetup: Custom
- LensProfileVignettingScale: 100
- LuminanceAdjustmentAqua: 0
- LuminanceAdjustmentBlue: 0
- LuminanceAdjustmentGreen: 0
- LuminanceAdjustmentMagenta: 0
- LuminanceAdjustmentOrange: 0
- LuminanceAdjustmentPurple: 0
- LuminanceAdjustmentRed: 0
- LuminanceAdjustmentYellow: 0
- LuminanceSmoothing: 0
- ParametricDarks: 0
- ParametricHighlights: -33
- ParametricHighlightSplit: 75
- ParametricLights: -26
- ParametricMidtoneSplit: 50
- ParametricShadows: 0
- ParametricShadowSplit: 25
- PerspectiveAspect: 0
- PerspectiveHorizontal: 0
- PerspectiveRotate: 0.0
- PerspectiveScale: 100
- PerspectiveUpright: 0
- PerspectiveVertical: 0
- PostCropVignetteAmount: 0
- ProcessVersion: 6.7
- RawFileName: DSC_1172.JPG
- RedHue: 0
- RedSaturation: 0
- Saturation: 0
- SaturationAdjustmentAqua: 0
- SaturationAdjustmentBlue: 0
- SaturationAdjustmentGreen: 0
- SaturationAdjustmentMagenta: 0
- SaturationAdjustmentOrange: 0
- SaturationAdjustmentPurple: 0
- SaturationAdjustmentRed: 0
- SaturationAdjustmentYellow: 0
- Shadows2012: +29
- ShadowTint: 0
- SharpenDetail: 25
- SharpenEdgeMasking: 0
- SharpenRadius: +1.0
- Sharpness: 0
- SplitToningBalance: 0
- SplitToningHighlightHue: 0
- SplitToningHighlightSaturation: 0
- SplitToningShadowHue: 0
- SplitToningShadowSaturation: 0
- ToneCurve: 0, 0, 255, 255
- ToneCurveBlue: 0, 0, 255, 255
- ToneCurveGreen: 0, 0, 255, 255
- ToneCurveName: Linear
- ToneCurveName2012: Linear
- ToneCurvePV2012: 0, 0, 255, 255
- ToneCurvePV2012Blue: 0, 0, 255, 255
- ToneCurvePV2012Green: 0, 0, 255, 255
- ToneCurvePV2012Red: 0, 0, 255, 255
- ToneCurveRed: 0, 0, 255, 255
- ToneMapStrength: 0
- Version: 9.1.1
- Vibrance: 0
- VignetteAmount: 0
- WhiteBalance: As Shot
- Whites2012: +23
- XMP-dc
- XMP-exifEX
- PhotographicSensitivity: 400
- XMP-x
- XMP-xmp
- CreateDate: 2009:04:13 18:01:13.20
- CreatorTool: Ver.1.11
- ModifyDate: 2009:04:13 18:01:13.20
- Rating: 0
- XMP-xmpMM
- Просмотров: 18
- Рейтинг: голосов еще нет
- Отзывов: отключены