- Раздел: Другое, разное
- Дата съёмки: неизвестно
- Дата загрузки фото: 09.07.2024 21:46
- Оригинальная фотография: 3000 x 2000 (3,6 Мб)
- Технические характеристики:
- Фотоаппарат: Nikon Z 50
- Выдержка: 0,0
- Гиперфокальное расстояние: inf m
- Диафрагма: 5,3
- Светочувствительность: 100
- Фокусное расстояние: 37,0 mm (35 mm equivalent: 37,0 mm)
- Полный EXIF
- Adobe
- ColorTransform: YCbCr
- Composite
- Aperture: 5,3
- CircleOfConfusion: 0,020 mm
- FocalLength35efl: 37,0 mm (35 mm equivalent: 37,0 mm)
- FOV: 51,0 deg
- HyperfocalDistance: inf m
- Megapixels: 6,0
- ScaleFactor35efl: 1,5
- ShutterSpeed: 0,0
- ExifIFD
- ApertureValue: 4,0
- CFAPattern: [Red,Green][Green,Blue]
- ColorSpace: sRGB
- Contrast: Normal
- CreateDate: 2024:06:24 19:09:19
- CustomRendered: Custom
- DateTimeOriginal: 2024:06:24 19:09:19
- ExifImageHeight: 2000
- ExifImageWidth: 3000
- ExposureCompensation: 0
- ExposureMode: Auto
- ExposureProgram: Aperture-priority AE
- ExposureTime: 0,0
- Flash: Off, Did not fire
- FNumber: 5,3
- FocalLength: 37,0 mm
- FocalLengthIn35mmFormat: 55 mm
- GainControl: None
- ISO: 100
- LensInfo: 16-50mm f/3.5-6.3
- LensMake: NIKON
- LensModel: NIKKOR Z DX 16-50mm f/3.5-6.3 VR
- LensSerialNumber: 20347305
- LightSource: Unknown
- MeteringMode: Multi-segment
- RecommendedExposureIndex: 100
- Saturation: Normal
- SceneCaptureType: Standard
- SceneType: Directly photographed
- SensingMethod: One-chip color area
- SensitivityType: Recommended Exposure Index
- SerialNumber: 7229348
- Sharpness: Normal
- ShutterSpeedValue: 1/128
- SubjectDistanceRange: Unknown
- WhiteBalance: Auto
- ICC-header
- ICC-meas
- ICC-view
- IFD0
- BitsPerSample: 8 8 8
- ImageHeight: 3685
- ImageWidth: 5527
- Make: NIKON CORPORATION
- Model: NIKON Z 50
- ModifyDate: 2024:07:09 21:30:54
- Orientation: Horizontal (normal)
- PhotometricInterpretation: RGB
- SamplesPerPixel: 3
- IFD1
- IPTC
- DateCreated: 2024:06:24
- System
- XMP-aux
- DistortionCorrectionAlreadyApplied: True
- ImageNumber: 3502
- LateralChromaticAberrationCorrectionAlreadyApplied: True
- Lens: NIKKOR Z DX 16-50mm f/3.5-6.3 VR
- VignetteCorrectionAlreadyApplied: True
- XMP-crs
- AlreadyApplied: True
- AutoLateralCA: 1
- Blacks2012: 0
- BlueHue: 0
- BlueSaturation: 0
- CameraProfile: Camera Standard
- Clarity2012: 0
- ColorGradeBlending: 50
- ColorGradeGlobalHue: 0
- ColorGradeGlobalLum: 0
- ColorGradeGlobalSat: 0
- ColorGradeHighlightLum: 0
- ColorGradeMidtoneHue: 0
- ColorGradeMidtoneLum: 0
- ColorGradeMidtoneSat: 0
- ColorGradeShadowLum: 0
- ColorNoiseReduction: 10
- ColorNoiseReductionDetail: 50
- ColorNoiseReductionSmoothness: 50
- ColorTemperature: 5850
- CompatibleVersion: 251854848
- Contrast2012: 0
- ConvertToGrayscale: False
- CropAngle: 0.28377
- CropBottom: 1
- CropConstrainToWarp: 0
- CropLeft: 0.005326
- CropRight: 0.994674
- CropTop: 0
- DefringeGreenAmount: 0
- DefringeGreenHueHi: 60
- DefringeGreenHueLo: 40
- DefringePurpleAmount: 0
- DefringePurpleHueHi: 70
- DefringePurpleHueLo: 30
- Dehaze: 0
- Exposure2012: -0.05
- GrainAmount: 0
- GreenHue: 0
- GreenSaturation: 0
- HasCrop: True
- HasSettings: True
- HDREditMode: 0
- Highlights2012: -100
- HueAdjustmentAqua: 0
- HueAdjustmentBlue: 0
- HueAdjustmentGreen: 0
- HueAdjustmentMagenta: 0
- HueAdjustmentOrange: 0
- HueAdjustmentPurple: 0
- HueAdjustmentRed: 0
- HueAdjustmentYellow: 0
- LensManualDistortionAmount: 0
- LensProfileEnable: 0
- LuminanceAdjustmentAqua: 0
- LuminanceAdjustmentBlue: 0
- LuminanceAdjustmentGreen: 0
- LuminanceAdjustmentMagenta: 0
- LuminanceAdjustmentOrange: 0
- LuminanceAdjustmentPurple: 0
- LuminanceAdjustmentRed: 0
- LuminanceAdjustmentYellow: 0
- LuminanceNoiseReductionContrast: 0
- LuminanceNoiseReductionDetail: 75
- LuminanceSmoothing: 26
- OverrideLookVignette: False
- ParametricDarks: 0
- ParametricHighlights: 0
- ParametricHighlightSplit: 75
- ParametricLights: 0
- ParametricMidtoneSplit: 50
- ParametricShadows: 0
- ParametricShadowSplit: 25
- PerspectiveAspect: 0
- PerspectiveHorizontal: 0
- PerspectiveRotate: 0.0
- PerspectiveScale: 100
- PerspectiveUpright: 0
- PerspectiveVertical: 0
- PerspectiveX: 0.00
- PerspectiveY: 0.00
- PostCropVignetteAmount: 0
- ProcessVersion: 15.4
- RawFileName: DSC_3799.NEF
- RedHue: 0
- RedSaturation: 0
- Saturation: +5
- SaturationAdjustmentAqua: 0
- SaturationAdjustmentBlue: 0
- SaturationAdjustmentGreen: 0
- SaturationAdjustmentMagenta: 0
- SaturationAdjustmentOrange: 0
- SaturationAdjustmentPurple: 0
- SaturationAdjustmentRed: 0
- SaturationAdjustmentYellow: 0
- Shadows2012: +10
- ShadowTint: 0
- SharpenDetail: 25
- SharpenEdgeMasking: 42
- SharpenRadius: +2.0
- Sharpness: 65
- SplitToningBalance: 0
- SplitToningHighlightHue: 0
- SplitToningHighlightSaturation: 0
- SplitToningShadowHue: 0
- SplitToningShadowSaturation: 0
- Texture: 0
- Tint: +21
- ToneCurveName2012: Linear
- ToneCurvePV2012: 0, 0, 255, 255
- ToneCurvePV2012Blue: 0, 0, 255, 255
- ToneCurvePV2012Green: 0, 0, 255, 255
- ToneCurvePV2012Red: 0, 0, 255, 255
- Version: 16.0
- Vibrance: +34
- VignetteAmount: 0
- WhiteBalance: As Shot
- Whites2012: +71
- XMP-dc
- XMP-exifEX
- XMP-xmp
- ModifyDate: 2024:07:09 21:30:54+03:00
- Rating: 5
- XMP-xmpMM
- Просмотров: 25
- Рейтинг: голосов еще нет
- Отзывов: 0