- Раздел: Город
- Дата съёмки: 26.01.2008 21:10
- Дата загрузки фото: 27.01.2008 16:29
- Оригинальная фотография: 1024 x 668 (430 Кб)
- Технические характеристики:
- Фотоаппарат: Nikon D50
- Выдержка: 1/125
- Гиперфокальное расстояние: 3,33 m
- Диафрагма: 29,0
- Светочувствительность: 220
- Фокусное расстояние: 44,0mm (35mm эквивалент: 66,0mm)
- Полный EXIF
- Composite
- Aperture: 29,0
- CircleOfConfusion: 0,020 mm
- FocalLength35efl: 44,0mm (35mm equivalent: 66,0mm)
- HyperfocalDistance: 3,33 m
- LightValue: 15,5
- ScaleFactor35efl: 1,5
- ShutterSpeed: 1/125
- ExifIFD
- ApertureValue: 29,0
- CFAPattern: [Blue,Green][Green,Red]
- ColorSpace: sRGB
- Contrast: Normal
- CreateDate: 2008:01:26 17:07:09
- CustomRendered: Normal
- DateTimeOriginal: 2008:01:26 17:07:09
- DigitalZoomRatio: 1
- ExifImageLength: 1024
- ExifImageWidth: 668
- ExposureCompensation: 0
- ExposureMode: Auto
- ExposureProgram: Aperture-priority AE
- ExposureTime: 1/125
- FNumber: 29,0
- Flash: No Flash
- FocalLength: 44,0mm
- FocalLengthIn35mmFormat: 66mm
- GainControl: None
- ISO: 220
- LightSource: Unknown (0)
- MaxApertureValue: 4,0
- MeteringMode: Multi-segment
- Saturation: Normal
- SceneCaptureType: Standard
- SceneType: Directly photographed
- SensingMethod: One-chip color area
- Sharpness: Normal
- ShutterSpeedValue: 1/125
- WhiteBalance: Auto
- ICC-header
- ICC-meas
- ICC-view
- IFD0
- Make: NIKON CORPORATION
- Model: NIKON D50
- ModifyDate: 2008:01:26 21:10:21
- Orientation: Horizontal (normal)
- IFD1
- IPTC
- XMP-aux
- ImageNumber: 5812
- Lens: 28.0-80.0 mm f/3.3-5.6
- LensInfo: 280/10 800/10 33/10 56/10
- XMP-crs
- AlreadyApplied: True
- BlueHue: 0
- BlueSaturation: 0
- Brightness: +125
- CameraProfile: ACR 2.4
- ChromaticAberrationB: 0
- ChromaticAberrationR: 0
- Clarity: 0
- ColorNoiseReduction: 25
- Contrast: +53
- ConvertToGrayscale: False
- CropAngle: 1.004731
- CropBottom: 0.988809
- CropLeft: 0.01563
- CropRight: 0.980382
- CropTop: 0.005194
- Defringe: 0
- Exposure: 0.00
- FillLight: 0
- GreenHue: 0
- GreenSaturation: 0
- HasCrop: True
- HasSettings: True
- HighlightRecovery: 70
- HueAdjustmentAqua: 0
- HueAdjustmentBlue: +1
- HueAdjustmentGreen: 0
- HueAdjustmentMagenta: 0
- HueAdjustmentOrange: -14
- HueAdjustmentPurple: -1
- HueAdjustmentRed: 0
- HueAdjustmentYellow: -3
- LuminanceAdjustmentAqua: 0
- LuminanceAdjustmentBlue: +2
- LuminanceAdjustmentGreen: 0
- LuminanceAdjustmentMagenta: 0
- LuminanceAdjustmentOrange: +77
- LuminanceAdjustmentPurple: -1
- LuminanceAdjustmentRed: +8
- LuminanceAdjustmentYellow: 0
- LuminanceSmoothing: 0
- ParametricDarks: 0
- ParametricHighlightSplit: 75
- ParametricHighlights: 0
- ParametricLights: 0
- ParametricMidtoneSplit: 50
- ParametricShadowSplit: 25
- ParametricShadows: 0
- RawFileName: _DSC2661.NEF
- RedHue: 0
- RedSaturation: +15
- Saturation: +12
- SaturationAdjustmentAqua: 0
- SaturationAdjustmentBlue: 0
- SaturationAdjustmentGreen: 0
- SaturationAdjustmentMagenta: 0
- SaturationAdjustmentOrange: 0
- SaturationAdjustmentPurple: 0
- SaturationAdjustmentRed: 0
- SaturationAdjustmentYellow: 0
- ShadowTint: 0
- Shadows: 5
- SharpenDetail: 25
- SharpenEdgeMasking: 0
- SharpenRadius: +0.8
- Sharpness: 70
- SplitToningBalance: 0
- SplitToningHighlightHue: 230
- SplitToningHighlightSaturation: 99
- SplitToningShadowHue: 225
- SplitToningShadowSaturation: 16
- Temperature: 5500
- Tint: -15
- ToneCurve: 0, 0, 32, 22, 64, 56, 128, 128, 192, 196, 255, 255
- ToneCurveName: Medium Contrast
- Version: 4.3
- Vibrance: 0
- VignetteAmount: 0
- WhiteBalance: Custom
- XMP-dc
- XMP-exif
- DateTimeDigitized: 2008:01:26 17:07:09.50+06:00
- DateTimeOriginal: 2008:01:26 17:07:09.50+06:00
- ExifImageLength: 1916
- ExifImageWidth: 2936
- FlashFired: False
- FlashFunction: False
- FlashMode: Unknown
- FlashRedEyeMode: False
- FlashReturn: No return detection
- FocalLengthIn35mmFormat: 66
- SubjectDistanceRange: Unknown
- XMP-tiff
- XMP-xmp
- CreateDate: 2008:01:26 21:10:21+06:00
- ModifyDate: 2008:01:26 21:10:21+06:00
- Rating: 0
- XMP-xmpMM
- DerivedFrom:
- Просмотров: 388
- Рейтинг: голосов еще нет
- Отзывов: 0