- Раздел: Город
- Дата съёмки: 26.01.2008 20:52
- Дата загрузки фото: 27.01.2008 16:35
- Оригинальная фотография: 1600 x 1072 (542 Кб)
- Технические характеристики:
- Фотоаппарат: Nikon D50
- Выдержка: 1/320
- Гиперфокальное расстояние: 30,46 m
- Диафрагма: 6,3
- Светочувствительность: 200
- Фокусное расстояние: 62,0mm (35mm эквивалент: 93,0mm)
- Полный EXIF
- Composite
- Aperture: 6,3
- CircleOfConfusion: 0,020 mm
- FocalLength35efl: 62,0mm (35mm equivalent: 93,0mm)
- HyperfocalDistance: 30,46 m
- LightValue: 12,6
- ScaleFactor35efl: 1,5
- ShutterSpeed: 1/320
- ExifIFD
- ApertureValue: 6,3
- CFAPattern: [Blue,Green][Green,Red]
- ColorSpace: sRGB
- Contrast: Normal
- CreateDate: 2008:01:26 17:48:10
- CustomRendered: Normal
- DateTimeOriginal: 2008:01:26 17:48:10
- DigitalZoomRatio: 1
- ExifImageLength: 1600
- ExifImageWidth: 1072
- ExposureCompensation: 0
- ExposureMode: Auto
- ExposureProgram: Aperture-priority AE
- ExposureTime: 1/320
- FNumber: 6,3
- Flash: No Flash
- FocalLength: 62,0mm
- FocalLengthIn35mmFormat: 93mm
- GainControl: None
- ISO: 200
- LightSource: Unknown (0)
- MaxApertureValue: 4,9
- MeteringMode: Multi-segment
- Saturation: Normal
- SceneCaptureType: Standard
- SceneType: Directly photographed
- SensingMethod: One-chip color area
- Sharpness: Normal
- ShutterSpeedValue: 1/320
- WhiteBalance: Auto
- ICC-header
- ICC-meas
- ICC-view
- IFD0
- Make: NIKON CORPORATION
- Model: NIKON D50
- ModifyDate: 2008:01:26 20:52:26
- Orientation: Horizontal (normal)
- IFD1
- IPTC
- XMP-aux
- ImageNumber: 5858
- Lens: 28.0-80.0 mm f/3.3-5.6
- LensInfo: 280/10 800/10 33/10 56/10
- XMP-crs
- AlreadyApplied: True
- BlueHue: 0
- BlueSaturation: 0
- Brightness: +64
- CameraProfile: ACR 2.4
- ChromaticAberrationB: 0
- ChromaticAberrationR: 0
- Clarity: 0
- ColorNoiseReduction: 25
- Contrast: +4
- ConvertToGrayscale: False
- CropAngle: 1.974231
- CropBottom: 0.995313
- CropLeft: 0.045481
- CropRight: 0.959487
- CropTop: 0.004023
- Defringe: 0
- Exposure: 0.00
- FillLight: 0
- GreenHue: 0
- GreenSaturation: 0
- HasCrop: True
- HasSettings: True
- HighlightRecovery: 9
- HueAdjustmentAqua: 0
- HueAdjustmentBlue: 0
- HueAdjustmentGreen: 0
- HueAdjustmentMagenta: 0
- HueAdjustmentOrange: -18
- HueAdjustmentPurple: 0
- HueAdjustmentRed: 0
- HueAdjustmentYellow: -16
- LuminanceAdjustmentAqua: 0
- LuminanceAdjustmentBlue: 0
- LuminanceAdjustmentGreen: 0
- LuminanceAdjustmentMagenta: 0
- LuminanceAdjustmentOrange: 0
- LuminanceAdjustmentPurple: 0
- LuminanceAdjustmentRed: 0
- LuminanceAdjustmentYellow: 0
- LuminanceSmoothing: 0
- ParametricDarks: 0
- ParametricHighlightSplit: 75
- ParametricHighlights: 0
- ParametricLights: 0
- ParametricMidtoneSplit: 50
- ParametricShadowSplit: 25
- ParametricShadows: 0
- RawFileName: _DSC2707.NEF
- RedHue: 0
- RedSaturation: +42
- Saturation: +12
- SaturationAdjustmentAqua: +28
- SaturationAdjustmentBlue: +36
- SaturationAdjustmentGreen: 0
- SaturationAdjustmentMagenta: 0
- SaturationAdjustmentOrange: 0
- SaturationAdjustmentPurple: 0
- SaturationAdjustmentRed: 0
- SaturationAdjustmentYellow: 0
- ShadowTint: 0
- Shadows: 5
- SharpenDetail: 25
- SharpenEdgeMasking: 0
- SharpenRadius: +0.8
- Sharpness: 56
- SplitToningBalance: 0
- SplitToningHighlightHue: 0
- SplitToningHighlightSaturation: 0
- SplitToningShadowHue: 0
- SplitToningShadowSaturation: 0
- Temperature: 5600
- Tint: -18
- ToneCurve: 0, 0, 32, 22, 64, 56, 128, 128, 192, 196, 255, 255
- ToneCurveName: Medium Contrast
- Version: 4.3
- Vibrance: 0
- VignetteAmount: 0
- WhiteBalance: As Shot
- XMP-dc
- XMP-exif
- DateTimeDigitized: 2008:01:26 17:48:10.70+06:00
- DateTimeOriginal: 2008:01:26 17:48:10.70+06:00
- ExifImageLength: 1887
- ExifImageWidth: 2816
- FlashFired: False
- FlashFunction: False
- FlashMode: Unknown
- FlashRedEyeMode: False
- FlashReturn: No return detection
- FocalLengthIn35mmFormat: 93
- SubjectDistanceRange: Unknown
- XMP-tiff
- XMP-xmp
- CreateDate: 2008:01:26 20:52:26+06:00
- ModifyDate: 2008:01:26 20:52:26+06:00
- Rating: 0
- XMP-xmpMM
- DerivedFrom:
- Просмотров: 437
- Рейтинг: голосов еще нет
- Отзывов: 0