- Раздел: Животные
- Дата съёмки: неизвестно
- Дата загрузки фото: 21.09.2024 18:09
- Оригинальная фотография: 2800 x 2052 (5,2 Мб)
- Технические характеристики:
- Фотоаппарат: Canon PowerShot SX50 HS
- Выдержка: 0,0
- Гиперфокальное расстояние: inf m
- Диафрагма: 6,5
- Светочувствительность: 80
- Фокусное расстояние: 215,0 mm (35 mm equivalent: 1075,0 mm)
- Экспокоррекция: -2/3
- Полный EXIF
- Adobe
- ColorTransform: YCbCr
- Composite
- Aperture: 6,5
- CircleOfConfusion: 0,005 mm
- Flash: Off, Did not fire
- FocalLength35efl: 215,0 mm (35 mm equivalent: 1075,0 mm)
- FOV: 1,0 deg
- HyperfocalDistance: inf m
- Megapixels: 5,7
- ScaleFactor35efl: 5,6
- ShutterSpeed: 0,0
- ExifIFD
- ApertureValue: 5,7
- ColorSpace: sRGB
- CreateDate: 2024:09:17 11:24:22
- CustomRendered: Normal
- DateTimeOriginal: 2024:09:17 11:24:22
- DigitalZoomRatio: 1
- ExifImageHeight: 2052
- ExifImageWidth: 2800
- ExposureCompensation: 0
- ExposureMode: Manual
- ExposureTime: 0,0
- FNumber: 6,5
- FocalLength: 215,0 mm
- ISO: 80
- LensInfo: 4.3-215mm f/?
- LensModel: 4.3-215.0 mm
- MaxApertureValue: 5,7
- MeteringMode: Multi-segment
- SceneCaptureType: Standard
- SensingMethod: One-chip color area
- SensitivityType: Standard Output Sensitivity and Recommended Exposure Index
- ShutterSpeedValue: 1/128
- WhiteBalance: Auto
- ICC-header
- ICC-meas
- ICC-view
- IFD0
- Make: Canon
- Model: Canon PowerShot SX50 HS
- ModifyDate: 2024:09:21 19:58:27
- Orientation: Horizontal (normal)
- IFD1
- IPTC
- DateCreated: 2024:09:17
- System
- XMP-aux
- ApproximateFocusDistance: 18,9
- Firmware: 1.00
- FlashCompensation: 0
- LateralChromaticAberrationCorrectionAlreadyApplied: True
- Lens: 4.3-215.0 mm
- XMP-crs
- AlreadyApplied: True
- AutoLateralCA: 1
- Blacks2012: +51
- BlueHue: 0
- BlueSaturation: 0
- CameraProfile: Embedded
- Clarity2012: +12
- ColorNoiseReduction: 0
- Contrast2012: +22
- ConvertToGrayscale: False
- DefringeGreenAmount: 4
- DefringeGreenHueHi: 84
- DefringeGreenHueLo: 15
- DefringePurpleAmount: 5
- DefringePurpleHueHi: 74
- DefringePurpleHueLo: 0
- Dehaze: 0
- Exposure2012: -0.75
- GrainAmount: 0
- GreenHue: 0
- GreenSaturation: 0
- HasCrop: False
- HasSettings: True
- Highlights2012: -47
- HueAdjustmentAqua: 0
- HueAdjustmentBlue: 0
- HueAdjustmentGreen: 0
- HueAdjustmentMagenta: 0
- HueAdjustmentOrange: 0
- HueAdjustmentPurple: 0
- HueAdjustmentRed: 0
- HueAdjustmentYellow: -1
- IncrementalTemperature: 0
- IncrementalTint: 0
- LensManualDistortionAmount: 0
- LensProfileEnable: 1
- LensProfileSetup: LensDefaults
- LuminanceAdjustmentAqua: 0
- LuminanceAdjustmentBlue: 0
- LuminanceAdjustmentGreen: 0
- LuminanceAdjustmentMagenta: 0
- LuminanceAdjustmentOrange: 0
- LuminanceAdjustmentPurple: 0
- LuminanceAdjustmentRed: 0
- LuminanceAdjustmentYellow: 0
- LuminanceSmoothing: 0
- ParametricDarks: 0
- ParametricHighlights: 0
- ParametricHighlightSplit: 75
- ParametricLights: 0
- ParametricMidtoneSplit: 50
- ParametricShadows: 0
- ParametricShadowSplit: 25
- PerspectiveAspect: 0
- PerspectiveHorizontal: 0
- PerspectiveRotate: 0.0
- PerspectiveScale: 100
- PerspectiveUpright: 0
- PerspectiveVertical: 0
- PerspectiveX: 0.00
- PerspectiveY: 0.00
- PostCropVignetteAmount: 0
- ProcessVersion: 6.7
- RawFileName: 258.JPG
- RedHue: 0
- RedSaturation: 0
- Saturation: 0
- SaturationAdjustmentAqua: 0
- SaturationAdjustmentBlue: 0
- SaturationAdjustmentGreen: 0
- SaturationAdjustmentMagenta: 0
- SaturationAdjustmentOrange: +24
- SaturationAdjustmentPurple: 0
- SaturationAdjustmentRed: 0
- SaturationAdjustmentYellow: +8
- Shadows2012: +30
- ShadowTint: 0
- SharpenDetail: 25
- SharpenEdgeMasking: 0
- SharpenRadius: +1.0
- Sharpness: 0
- SplitToningBalance: 0
- SplitToningHighlightHue: 0
- SplitToningHighlightSaturation: 0
- SplitToningShadowHue: 0
- SplitToningShadowSaturation: 0
- ToneCurve: 0, 0, 255, 255
- ToneCurveBlue: 0, 0, 255, 255
- ToneCurveGreen: 0, 0, 255, 255
- ToneCurveName: Linear
- ToneCurveName2012: Linear
- ToneCurvePV2012: 0, 0, 255, 255
- ToneCurvePV2012Blue: 0, 0, 255, 255
- ToneCurvePV2012Green: 0, 0, 255, 255
- ToneCurvePV2012Red: 0, 0, 255, 255
- ToneCurveRed: 0, 0, 255, 255
- ToneMapStrength: 0
- Version: 9.12.1
- Vibrance: +13
- VignetteAmount: 0
- WhiteBalance: As Shot
- Whites2012: -63
- XMP-dc
- XMP-exif
- ApertureValue: 6,5
- DateTimeDigitized: 2024:09:17 11:24:22+05:00
- DateTimeOriginal: 2024:09:17 11:24:22+05:00
- ExposureCompensation: -2/3
- ExposureTime: 1/200
- FlashFired: False
- FlashFunction: False
- FlashMode: Off
- FlashRedEyeMode: False
- FlashReturn: No return detection
- MaxApertureValue: 6,5
- ShutterSpeedValue: 1/200
- XMP-microsoft
- DateAcquired: 2024:09:17 17:02:31.397
- XMP-rdf
- XMP-tiff
- XMP-x
- XMP-xmp
- CreateDate: 2024:09:21 19:58:27+05:00
- ModifyDate: 2024:09:21 19:58:27+05:00
- XMP-xmpMM
- Просмотров: 141
- Рейтинг: голосов еще нет
- Отзывов: 0