- Раздел: Природа
- Дата съёмки: 01.02.2007 06:05
- Дата загрузки фото: 28.03.2008 00:03
- Оригинальная фотография: 1000 x 750 (784 Кб)
- Технические характеристики:
- Фотоаппарат: FujiFilm FinePix S6500fd
- Выдержка: 1/480
- Гиперфокальное расстояние: 2,05 m
- Диафрагма: 4,5
- Светочувствительность: 100
- Фокусное расстояние: 6,2mm (35mm эквивалент: 44,6mm)
- Полный EXIF
- Adobe
- ColorTransform: YCbCr
- Composite
- Aperture: 4,5
- CircleOfConfusion: 0,004 mm
- FocalLength35efl: 6,2mm (35mm equivalent: 44,6mm)
- HyperfocalDistance: 2,05 m
- LightValue: 13,2
- ScaleFactor35efl: 7,2
- ShutterSpeed: 1/480
- ExifIFD
- ApertureValue: 4,5
- BrightnessValue: 8,15
- CreateDate: 2007:02:01 06:05:05
- CustomRendered: Normal
- DateTimeOriginal: 2007:02:01 06:05:05
- ExposureCompensation: 0
- ExposureMode: Auto
- ExposureProgram: Program AE
- ExposureTime: 1/480
- FNumber: 4,5
- Flash: Off
- FocalLength: 6,2mm
- ISO: 100
- LightSource: Unknown (0)
- MaxApertureValue: 2,8
- MeteringMode: Average
- SceneCaptureType: Standard
- SceneType: Directly photographed
- SensingMethod: One-chip color area
- Sharpness: Normal
- ShutterSpeedValue: 1/480
- WhiteBalance: Auto
- ICC-header
- ICC-meas
- ICC-view
- IFD0
- Make: FUJIFILM
- Model: FinePix S6500fd
- ModifyDate: 2007:10:16 00:02:23
- Software: Digital Camera FinePix S6500fd Ver1.00
- TimeZoneOffset: 3 4
- XMP-crs
- AlreadyApplied: True
- BlueHue: 0
- BlueSaturation: 0
- Brightness: +50
- CameraProfile: ACR 3.6
- ChromaticAberrationB: 0
- ChromaticAberrationR: 0
- Clarity: 100
- ColorNoiseReduction: 100
- Contrast: +25
- ConvertToGrayscale: False
- Defringe: 0
- Exposure: +1.46
- FillLight: 0
- GreenHue: 0
- GreenSaturation: 0
- HasCrop: False
- HasSettings: True
- HighlightRecovery: 0
- HueAdjustmentAqua: 0
- HueAdjustmentBlue: 0
- HueAdjustmentGreen: 0
- HueAdjustmentMagenta: 0
- HueAdjustmentOrange: 0
- HueAdjustmentPurple: 0
- HueAdjustmentRed: 0
- HueAdjustmentYellow: 0
- LuminanceAdjustmentAqua: +1
- LuminanceAdjustmentBlue: -22
- LuminanceAdjustmentGreen: +100
- LuminanceAdjustmentMagenta: 0
- LuminanceAdjustmentOrange: +93
- LuminanceAdjustmentPurple: +4
- LuminanceAdjustmentRed: 0
- LuminanceAdjustmentYellow: +79
- LuminanceSmoothing: 100
- ParametricDarks: 0
- ParametricHighlightSplit: 75
- ParametricHighlights: 0
- ParametricLights: 0
- ParametricMidtoneSplit: 50
- ParametricShadowSplit: 25
- ParametricShadows: 0
- RedHue: 0
- RedSaturation: 0
- Saturation: 0
- SaturationAdjustmentAqua: +100
- SaturationAdjustmentBlue: +76
- SaturationAdjustmentGreen: +72
- SaturationAdjustmentMagenta: +6
- SaturationAdjustmentOrange: +74
- SaturationAdjustmentPurple: +1
- SaturationAdjustmentRed: 0
- SaturationAdjustmentYellow: +69
- ShadowTint: 0
- Shadows: 2
- SharpenDetail: 38
- SharpenEdgeMasking: 0
- SharpenRadius: +1.0
- Sharpness: 62
- SplitToningBalance: 0
- SplitToningHighlightHue: 0
- SplitToningHighlightSaturation: 0
- SplitToningShadowHue: 0
- SplitToningShadowSaturation: 0
- Temperature: 4941
- Tint: -7
- ToneCurve: 0, 0, 32, 22, 64, 56, 128, 128, 192, 196, 255, 255
- ToneCurveName: Medium Contrast
- Version: 1.0
- Vibrance: 0
- VignetteAmount: 0
- WhiteBalance: Custom
- XMP-exif
- DateTimeDigitized: 2007:02:01 06:05:05+03:00
- DateTimeOriginal: 2007:02:01 06:05:05+03:00
- FlashFired: False
- FlashFunction: False
- FlashMode: Off
- FlashRedEyeMode: False
- FlashReturn: No return detection
- SubjectDistanceRange: Unknown
- XMP-tiff
- ImageHeight: 750
- ImageWidth: 1000
- XMP-xmp
- ModifyDate: 2007:10:16 00:02:23+04:00