- Раздел: Портрет
- Дата съёмки: 13.02.2008 00:07
- Дата загрузки фото: 03.04.2008 17:33
- Оригинальная фотография: 2122 x 1415 (1,7 Мб)
- Технические характеристики:
- Фотоаппарат: Canon EOS 10D
- Выдержка: 1/20
- Диафрагма: 1,4
- Светочувствительность: 400
- Фокусное расстояние: 35,0mm
- Полный EXIF
- Adobe
- ColorTransform: YCbCr
- Composite
- Aperture: 1,4
- FocalLength35efl: 35,0mm
- LightValue: 3,3
- ShutterSpeed: 1/20
- ExifIFD
- ApertureValue: 1,4
- CreateDate: 2008:02:13 00:07:42
- DateTimeOriginal: 2008:02:13 00:07:42
- ExposureCompensation: 0
- ExposureProgram: Program AE
- ExposureTime: 1/20
- FNumber: 1,4
- Flash: No Flash
- FocalLength: 35,0mm
- ISO: 400
- MaxApertureValue: 1,4
- MeteringMode: Partial
- ShutterSpeedValue: 1/20
- ICC-header
- ICC-meas
- ICC-view
- IFD0
- Make: Canon
- Model: Canon EOS 10D
- ModifyDate: 2008:04:03 17:29:54
- XMP-aux
- Firmware: 2.0.1
- Lens: 35.0 mm
- LensInfo: 35/1 35/1 0/0 0/0
- SerialNumber: 1720511286
- XMP-crs
- AlreadyApplied: True
- BlueHue: 0
- BlueSaturation: 0
- Brightness: +50
- CameraProfile: ACR 2.4
- ChromaticAberrationB: 0
- ChromaticAberrationR: 0
- Clarity: 0
- Contrast: +25
- ConvertToGrayscale: True
- CropAngle: 0
- CropBottom: 1
- CropHeight: 1415
- CropLeft: 0.309259
- CropRight: 1
- CropTop: 0.309259
- CropUnit: 0
- CropWidth: 2122
- Defringe: 0
- Exposure: 0.00
- FillLight: 26
- GrayMixerAqua: -10
- GrayMixerBlue: +20
- GrayMixerGreen: -17
- GrayMixerMagenta: +32
- GrayMixerOrange: +12
- GrayMixerPurple: +25
- GrayMixerRed: +39
- GrayMixerYellow: -9
- GreenHue: 0
- GreenSaturation: 0
- HasCrop: True
- HasSettings: True
- HighlightRecovery: 0
- LuminanceSmoothing: 0
- ParametricDarks: -17
- ParametricHighlightSplit: 75
- ParametricHighlights: 0
- ParametricLights: +28
- ParametricMidtoneSplit: 50
- ParametricShadowSplit: 25
- ParametricShadows: 0
- RedHue: 0
- RedSaturation: 0
- ShadowTint: 0
- Shadows: 2
- SharpenDetail: 25
- SharpenEdgeMasking: 0
- SharpenRadius: +1.0
- Sharpness: 25
- SplitToningBalance: 0
- SplitToningHighlightHue: 51
- SplitToningHighlightSaturation: 22
- SplitToningShadowHue: 37
- SplitToningShadowSaturation: 32
- Temperature: 5550
- Tint: -4
- ToneCurve: 0, 0, 32, 22, 64, 56, 128, 128, 192, 196, 255, 255
- ToneCurveName: Medium Contrast
- Version: 1.0
- VignetteAmount: 0
- WhiteBalance: Custom
- XMP-exif
- DateTimeDigitized: 2008:02:13 00:07:42+03:00
- DateTimeOriginal: 2008:02:13 00:07:42+03:00
- FlashFired: False
- XMP-tiff
- ImageHeight: 1415
- ImageWidth: 2122
- XMP-xmp
- ModifyDate: 2008:04:03 17:29:54+04:00
- Просмотров: 1447
- Рейтинг: голосов еще нет
- Отзывов: 1