- Раздел: Пейзаж
- Дата съёмки: 06.04.2008 22:20
- Дата загрузки фото: 06.04.2008 23:22
- Оригинальная фотография: 683 x 1024 (212 Кб)
- Технические характеристики:
- Фотоаппарат: FujiFilm FinePix S9500
- Выдержка: 1/320
- Гиперфокальное расстояние: 4,48 m
- Диафрагма: 3,1
- Светочувствительность: 100
- Фокусное расстояние: 7,6mm (35mm эквивалент: 54,9mm)
- Полный EXIF
- Adobe
- ColorTransform: YCbCr
- Composite
- Aperture: 3,1
- CircleOfConfusion: 0,004 mm
- FocalLength35efl: 7,6mm (35mm equivalent: 54,9mm)
- HyperfocalDistance: 4,48 m
- LightValue: 11,6
- ScaleFactor35efl: 7,2
- ShutterSpeed: 1/320
- ExifIFD
- ApertureValue: 3,1
- BrightnessValue: 6,57
- ColorSpace: Uncalibrated
- Contrast: Low
- CreateDate: 2008:03:01 14:03:34
- CustomRendered: Normal
- DateTimeOriginal: 2008:03:01 14:03:34
- ExifImageLength: 1024
- ExifImageWidth: 683
- ExposureCompensation: 0
- ExposureMode: Auto
- ExposureProgram: Program AE
- ExposureTime: 1/320
- FNumber: 3,1
- Flash: Off
- FocalLength: 7,6mm
- ISO: 100
- LightSource: Daylight
- MaxApertureValue: 2,8
- MeteringMode: Spot
- Saturation: Normal
- SceneCaptureType: Standard
- SceneType: Directly photographed
- SensingMethod: One-chip color area
- Sharpness: Soft
- ShutterSpeedValue: 1/320
- SubjectDistanceRange: Macro
- WhiteBalance: Manual
- ICC-header
- IFD0
- Make: FUJIFILM
- Model: FinePix S9500
- ModifyDate: 2008:04:06 22:20:39
- Orientation: Horizontal (normal)
- TimeZoneOffset: 2 2
- IFD1
- IPTC
- XMP-crs
- AlreadyApplied: True
- BlueHue: 0
- BlueSaturation: 0
- Brightness: +50
- CameraProfile: ACR 3.3
- ChromaticAberrationB: +24
- ChromaticAberrationR: -35
- Clarity: 60
- ColorNoiseReduction: 25
- Contrast: +33
- ConvertToGrayscale: False
- Defringe: 0
- Exposure: 0.00
- FillLight: 34
- GreenHue: 0
- GreenSaturation: 0
- HasCrop: False
- HasSettings: True
- HighlightRecovery: 33
- HueAdjustmentAqua: +13
- HueAdjustmentBlue: 0
- HueAdjustmentGreen: +17
- HueAdjustmentMagenta: +24
- HueAdjustmentOrange: +3
- HueAdjustmentPurple: -14
- HueAdjustmentRed: 0
- HueAdjustmentYellow: +20
- LuminanceAdjustmentAqua: 0
- LuminanceAdjustmentBlue: 0
- LuminanceAdjustmentGreen: 0
- LuminanceAdjustmentMagenta: 0
- LuminanceAdjustmentOrange: -1
- LuminanceAdjustmentPurple: 0
- LuminanceAdjustmentRed: 0
- LuminanceAdjustmentYellow: 0
- LuminanceSmoothing: 0
- ParametricDarks: -30
- ParametricHighlightSplit: 81
- ParametricHighlights: +25
- ParametricLights: +22
- ParametricMidtoneSplit: 52
- ParametricShadowSplit: 14
- ParametricShadows: -82
- RawFileName: DSCF0053.RAF
- RedHue: 0
- RedSaturation: 0
- Saturation: -8
- SaturationAdjustmentAqua: +9
- SaturationAdjustmentBlue: 0
- SaturationAdjustmentGreen: -36
- SaturationAdjustmentMagenta: 0
- SaturationAdjustmentOrange: +14
- SaturationAdjustmentPurple: +13
- SaturationAdjustmentRed: +11
- SaturationAdjustmentYellow: 0
- ShadowTint: 0
- Shadows: 38
- SharpenDetail: 67
- SharpenEdgeMasking: 58
- SharpenRadius: +1.4
- Sharpness: 65
- SplitToningBalance: 0
- SplitToningHighlightHue: 36
- SplitToningHighlightSaturation: 15
- SplitToningShadowHue: 51
- SplitToningShadowSaturation: 0
- Temperature: 4450
- Tint: -3
- ToneCurve: 0, 0, 35, 20, 66, 53, 128, 128, 192, 196, 255, 255
- ToneCurveName: Custom
- Version: 4.1
- Vibrance: +10
- VignetteAmount: 0
- WhiteBalance: Custom
- XMP-dc
- XMP-exif
- ColorSpace: Unknown (-1)
- DateTimeDigitized: 2008:03:01 14:03:34+02:00
- DateTimeOriginal: 2008:03:01 14:03:34+02:00
- FlashFired: False
- FlashFunction: False
- FlashMode: Off
- FlashRedEyeMode: False
- FlashReturn: No return detection
- XMP-tiff
- XMP-xmp
- CreateDate: 2008:04:06 22:20:39+03:00
- ModifyDate: 2008:04:06 22:20:39+03:00
- Rating: 0
- XMP-xmpMM
- Просмотров: 385
- Рейтинг: голосов еще нет
- Отзывов: 0