- Раздел: Животные
- Дата съёмки: 06.04.2008 21:37
- Дата загрузки фото: 06.04.2008 23:24
- Оригинальная фотография: 1087 x 798 (164 Кб)
- Технические характеристики:
- Фотоаппарат: Canon EOS 40D
- Выдержка: 1/400
- Гиперфокальное расстояние: 1867,11 m
- Диафрагма: 4,0
- Светочувствительность: 400
- Фокусное расстояние: 200,0mm (35mm эквивалент: 1122,0mm)
- Полный EXIF
- Adobe
- ColorTransform: YCbCr
- Composite
- Aperture: 4,0
- CircleOfConfusion: 0,005 mm
- FocalLength35efl: 200,0mm (35mm equivalent: 1122,0mm)
- HyperfocalDistance: 1867,11 m
- LightValue: 10,6
- ScaleFactor35efl: 5,6
- ShutterSpeed: 1/400
- ExifIFD
- ApertureValue: 4,0
- ColorSpace: sRGB
- CreateDate: 2008:04:06 13:03:06
- CustomRendered: Normal
- DateTimeOriginal: 2008:04:06 13:03:06
- ExifImageLength: 798
- ExifImageWidth: 1087
- ExposureCompensation: 0
- ExposureMode: Auto
- ExposureProgram: Aperture-priority AE
- ExposureTime: 1/400
- FNumber: 4,0
- Flash: Off
- FocalLength: 200,0mm
- ISO: 400
- MaxApertureValue: 4,0
- MeteringMode: Spot
- SceneCaptureType: Standard
- ShutterSpeedValue: 1/400
- WhiteBalance: Auto
- ICC-header
- ICC-meas
- ICC-view
- IFD0
- Artist: Dmitriy Balykin
- Make: Canon
- Model: Canon EOS 40D
- ModifyDate: 2008:04:06 21:37:14
- Orientation: Horizontal (normal)
- IFD1
- IPTC
- By-line: Dmitriy Balykin
- XMP-aux
- Firmware: 1.0.5
- FlashCompensation: 0
- ImageNumber: 0
- Lens: EF70-200mm f/4L IS USM
- LensInfo: 70/1 200/1 0/0 0/0
- OwnerName: Dmitriy Balykin
- SerialNumber: 430112341
- XMP-crs
- AlreadyApplied: True
- BlueHue: +3
- BlueSaturation: -15
- Brightness: +50
- CameraProfile: ACR 4.2
- ChromaticAberrationB: 0
- ChromaticAberrationR: 0
- Clarity: 0
- ColorNoiseReduction: 25
- Contrast: +25
- ConvertToGrayscale: False
- Defringe: 0
- Exposure: 0.00
- FillLight: 0
- GreenHue: +5
- GreenSaturation: +5
- HasCrop: False
- HasSettings: True
- HighlightRecovery: 0
- HueAdjustmentAqua: 0
- HueAdjustmentBlue: 0
- HueAdjustmentGreen: 0
- HueAdjustmentMagenta: -25
- HueAdjustmentOrange: 0
- HueAdjustmentPurple: 0
- HueAdjustmentRed: 0
- HueAdjustmentYellow: +7
- LuminanceAdjustmentAqua: 0
- LuminanceAdjustmentBlue: 0
- LuminanceAdjustmentGreen: 0
- LuminanceAdjustmentMagenta: 0
- LuminanceAdjustmentOrange: 0
- LuminanceAdjustmentPurple: 0
- LuminanceAdjustmentRed: 0
- LuminanceAdjustmentYellow: -5
- LuminanceSmoothing: 0
- ParametricDarks: 0
- ParametricHighlightSplit: 75
- ParametricHighlights: 0
- ParametricLights: 0
- ParametricMidtoneSplit: 50
- ParametricShadowSplit: 25
- ParametricShadows: 0
- RawFileName: IMG_5285.CR2
- RedHue: 0
- RedSaturation: -5
- Saturation: 0
- SaturationAdjustmentAqua: 0
- SaturationAdjustmentBlue: 0
- SaturationAdjustmentGreen: 0
- SaturationAdjustmentMagenta: +25
- SaturationAdjustmentOrange: 0
- SaturationAdjustmentPurple: 0
- SaturationAdjustmentRed: 0
- SaturationAdjustmentYellow: +25
- ShadowTint: 0
- Shadows: 5
- SharpenDetail: 25
- SharpenEdgeMasking: 0
- SharpenRadius: +1.0
- Sharpness: 25
- SplitToningBalance: 0
- SplitToningHighlightHue: 0
- SplitToningHighlightSaturation: 0
- SplitToningShadowHue: 0
- SplitToningShadowSaturation: 0
- Temperature: 5000
- Tint: +4
- ToneCurve: 0, 0, 50, 39, 95, 91, 142, 145, 187, 192, 217, 221, 238, 238, 255, 255
- ToneCurveName: Custom
- Version: 4.3
- Vibrance: 0
- VignetteAmount: 0
- WhiteBalance: As Shot
- XMP-dc
- Creator: Dmitriy Balykin
- Format: image/jpeg
- XMP-exif
- DateTimeDigitized: 2008:04:06 13:03:06.01+03:00
- DateTimeOriginal: 2008:04:06 13:03:06.01+03:00
- FlashFired: False
- FlashFunction: False
- FlashMode: Off
- FlashRedEyeMode: False
- FlashReturn: No return detection
- XMP-tiff
- XMP-xmp
- CreateDate: 2008:04:06 21:37:14+03:00
- ModifyDate: 2008:04:06 21:37:14+03:00
- Rating: 0
- XMP-xmpMM