- Раздел: Портрет
- Дата съёмки: 23.04.2008 17:35
- Дата загрузки фото: 23.04.2008 17:37
- Оригинальная фотография: 3072 x 2048 (2,1 Мб)
- Технические характеристики:
- Фотоаппарат: Canon EOS 10D
- Выдержка: 1/45
- Гиперфокальное расстояние: 18,51 m
- Диафрагма: 3,5
- Светочувствительность: 400
- Фокусное расстояние: 35,0mm (35mm эквивалент: 55,6mm)
- Полный EXIF
- Adobe
- ColorTransform: YCbCr
- Composite
- Aperture: 3,5
- CircleOfConfusion: 0,019 mm
- FocalLength35efl: 35,0mm (35mm equivalent: 55,6mm)
- HyperfocalDistance: 18,51 m
- LightValue: 7,1
- ScaleFactor35efl: 1,6
- ShutterSpeed: 1/45
- ExifIFD
- ApertureValue: 3,5
- CreateDate: 2008:04:23 17:35:47
- CustomRendered: Normal
- DateTimeOriginal: 2008:04:23 17:35:47
- ExposureCompensation: 0
- ExposureMode: Auto
- ExposureTime: 1/45
- FNumber: 3,5
- Flash: No Flash
- FocalLength: 35,0mm
- ISO: 400
- MaxApertureValue: 1,4
- MeteringMode: Multi-segment
- SceneCaptureType: Standard
- SensingMethod: One-chip color area
- ShutterSpeedValue: 1/45
- WhiteBalance: Auto
- ICC-header
- ICC-meas
- ICC-view
- IFD0
- Make: Canon
- Model: Canon EOS 10D
- ModifyDate: 2008:04:23 17:33:36
- XMP-aux
- Firmware: 2.0.1
- FlashCompensation: 0
- ImageNumber: 0
- Lens: 35.0 mm
- LensInfo: 35/1 35/1 0/0 0/0
- SerialNumber: 1720511286
- XMP-crs
- AlreadyApplied: True
- BlueHue: 0
- BlueSaturation: 0
- Brightness: -54
- CameraProfile: Embedded
- ChromaticAberrationB: 0
- ChromaticAberrationR: 0
- Clarity: 35
- Contrast: +45
- ConvertToGrayscale: True
- Defringe: 0
- Exposure: +0.86
- FillLight: 35
- GrayMixerAqua: -20
- GrayMixerBlue: +7
- GrayMixerGreen: -26
- GrayMixerMagenta: +7
- GrayMixerOrange: -16
- GrayMixerPurple: +15
- GrayMixerRed: -5
- GrayMixerYellow: -20
- GreenHue: 0
- GreenSaturation: 0
- HasCrop: False
- HasSettings: True
- HighlightRecovery: 0
- IncrementalTemperature: 0
- IncrementalTint: -2
- LuminanceSmoothing: 0
- ParametricDarks: 0
- ParametricHighlightSplit: 75
- ParametricHighlights: 0
- ParametricLights: 0
- ParametricMidtoneSplit: 50
- ParametricShadowSplit: 25
- ParametricShadows: 0
- RedHue: 0
- RedSaturation: 0
- ShadowTint: 0
- Shadows: 20
- SharpenDetail: 25
- SharpenEdgeMasking: 0
- SharpenRadius: +1.0
- Sharpness: 0
- SplitToningBalance: 0
- SplitToningHighlightHue: 0
- SplitToningHighlightSaturation: 0
- SplitToningShadowHue: 0
- SplitToningShadowSaturation: 0
- ToneCurve: 0, 0, 255, 255
- ToneCurveName: Linear
- Version: 1.0
- VignetteAmount: 0
- WhiteBalance: Custom
- XMP-exif
- DateTimeDigitized: 2008:04:23 17:35:47+04:00
- DateTimeOriginal: 2008:04:23 17:35:47+04:00
- FlashFired: False
- FlashFunction: False
- FlashMode: Unknown
- FlashRedEyeMode: False
- FlashReturn: No return detection
- XMP-tiff
- ImageHeight: 2048
- ImageWidth: 3072
- XMP-xmp
- ModifyDate: 2008:04:23 17:33:36+04:00