- Раздел: Тесты фототехники
- Дата съёмки: 22.01.2008 17:00
- Дата загрузки фото: 02.05.2008 13:20
- Оригинальная фотография: 2592 x 3872 (2,9 Мб)
- Технические характеристики:
- Фотоаппарат: Nikon D80
- Выдержка: 1/10
- Гиперфокальное расстояние: 32,09 m
- Диафрагма: 1,4
- Светочувствительность: 160
- Фокусное расстояние: 30,0mm (35mm эквивалент: 45,0mm)
- Экспокоррекция: -2/3
- Полный EXIF
- Adobe
- ColorTransform: YCbCr
- Composite
- Aperture: 1,4
- CircleOfConfusion: 0,020 mm
- FocalLength35efl: 30,0mm (35mm equivalent: 45,0mm)
- HyperfocalDistance: 32,09 m
- LightValue: 3,6
- ScaleFactor35efl: 1,5
- ShutterSpeed: 1/10
- ExifIFD
- ApertureValue: 1,4
- CFAPattern: [Green,Blue][Red,Green]
- ColorSpace: sRGB
- Contrast: Normal
- CreateDate: 2008:01:22 17:00:28
- CustomRendered: Normal
- DateTimeOriginal: 2008:01:22 17:00:28
- DigitalZoomRatio: 1
- ExifImageLength: 3872
- ExifImageWidth: 2592
- ExposureCompensation: -2/3
- ExposureMode: Auto
- ExposureProgram: Aperture-priority AE
- ExposureTime: 1/10
- FNumber: 1,4
- Flash: No Flash
- FocalLength: 30,0mm
- FocalLengthIn35mmFormat: 45mm
- GainControl: None
- ISO: 160
- LightSource: Tungsten
- MaxApertureValue: 1,4
- MeteringMode: Multi-segment
- Saturation: High
- SceneCaptureType: Standard
- SceneType: Directly photographed
- SensingMethod: One-chip color area
- Sharpness: Hard
- ShutterSpeedValue: 1/10
- UserComment: AMARANTA LT
- WhiteBalance: Manual
- ICC-header
- ICC-meas
- ICC-view
- IFD0
- Artist: Amaranta LT
- Make: NIKON CORPORATION
- Model: NIKON D80
- ModifyDate: 2008:05:01 19:59:49
- Orientation: Horizontal (normal)
- IFD1
- IPTC
- By-line: Amaranta LT
- City: Vilnius
- Country-PrimaryLocationName: Lithuania
- Keywords: testy Nikon D80
- XMP-aux
- ImageNumber: 969
- Lens: 30.0 mm f/1.4
- LensInfo: 300/10 300/10 14/10 14/10
- XMP-crs
- AlreadyApplied: True
- BlueHue: 0
- BlueSaturation: 0
- Brightness: +74
- CameraProfile: ACR 3.6
- ChromaticAberrationB: 0
- ChromaticAberrationR: 0
- Clarity: 100
- ColorNoiseReduction: 99
- Contrast: +29
- ConvertToGrayscale: False
- Defringe: 0
- Exposure: 0.00
- FillLight: 0
- GreenHue: 0
- GreenSaturation: 0
- HasCrop: False
- HasSettings: True
- HighlightRecovery: 53
- HueAdjustmentAqua: 0
- HueAdjustmentBlue: 0
- HueAdjustmentGreen: 0
- HueAdjustmentMagenta: 0
- HueAdjustmentOrange: -15
- HueAdjustmentPurple: 0
- HueAdjustmentRed: 0
- HueAdjustmentYellow: 0
- LuminanceAdjustmentAqua: 0
- LuminanceAdjustmentBlue: 0
- LuminanceAdjustmentGreen: 0
- LuminanceAdjustmentMagenta: 0
- LuminanceAdjustmentOrange: +58
- LuminanceAdjustmentPurple: 0
- LuminanceAdjustmentRed: 0
- LuminanceAdjustmentYellow: 0
- LuminanceSmoothing: 0
- ParametricDarks: +2
- ParametricHighlightSplit: 75
- ParametricHighlights: 0
- ParametricLights: -4
- ParametricMidtoneSplit: 50
- ParametricShadowSplit: 25
- ParametricShadows: +2
- RedHue: 0
- RedSaturation: 0
- Saturation: +8
- SaturationAdjustmentAqua: 0
- SaturationAdjustmentBlue: 0
- SaturationAdjustmentGreen: 0
- SaturationAdjustmentMagenta: 0
- SaturationAdjustmentOrange: -29
- SaturationAdjustmentPurple: 0
- SaturationAdjustmentRed: 0
- SaturationAdjustmentYellow: 0
- ShadowTint: 0
- Shadows: 8
- SharpenDetail: 74
- SharpenEdgeMasking: 0
- SharpenRadius: +2.0
- Sharpness: 102
- SplitToningBalance: 0
- SplitToningHighlightHue: 131
- SplitToningHighlightSaturation: 0
- SplitToningShadowHue: 0
- SplitToningShadowSaturation: 0
- Temperature: 2850
- Tint: +11
- ToneCurve: 0, 0, 32, 22, 64, 56, 128, 128, 192, 196, 255, 255
- ToneCurveName: Medium Contrast
- Version: 1.0
- Vibrance: +2
- VignetteAmount: 0
- WhiteBalance: Custom
- XMP-dc
- Creator: Amaranta LT
- Format: image/jpeg
- Subject: testy Nikon D80
- XMP-exif
- DateTimeDigitized: 2008:01:22 17:00:28.60+02:00
- DateTimeOriginal: 2008:01:22 17:00:28.60+02:00
- FlashFired: False
- FlashFunction: False
- FlashMode: Unknown
- FlashRedEyeMode: False
- FlashReturn: No return detection
- FocalLengthIn35mmFormat: 45
- SubjectDistanceRange: Unknown
- XMP-iptcCore
- CountryCode: LT
- CreatorContactInfoCiAdrCity: Vilnius
- CreatorContactInfoCiAdrCtry: Lithuania
- CreatorContactInfoCiAdrExtadr: 54.780663, 25.191044
- CreatorContactInfoCiEmailWork: amaranta@takas.lt
- XMP-lr
- HierarchicalSubject: testy Nikon D80
- XMP-tiff
- ImageHeight: 3872
- ImageWidth: 2592
- XMP-xmp
- CreateDate: 2008:01:22 17:00:28.6+02:00
- ModifyDate: 2008:05:01 19:59:49+03:00
- XMP-xmpMM
- Просмотров: 265
- Рейтинг: голосов еще нет
- Отзывов: 0