- Раздел: Другое, разное
- Дата съёмки: 04.05.2008 10:51
- Дата загрузки фото: 04.05.2008 12:48
- Оригинальная фотография: 3201 x 2133 (1,5 Мб)
- Технические характеристики:
- Фотоаппарат: Canon EOS 30D
- Выдержка: 1/800
- Гиперфокальное расстояние: 328,76 m
- Диафрагма: 7,1
- Светочувствительность: 400
- Фокусное расстояние: 200,0mm (35mm эквивалент: 350,7mm)
- Экспокоррекция: +1/3
- Полный EXIF
- Adobe
- ColorTransform: YCbCr
- Composite
- Aperture: 7,1
- CircleOfConfusion: 0,017 mm
- FocalLength35efl: 200,0mm (35mm equivalent: 350,7mm)
- HyperfocalDistance: 328,76 m
- LightValue: 13,3
- ScaleFactor35efl: 1,8
- ShutterSpeed: 1/800
- ExifIFD
- ApertureValue: 7,1
- ColorSpace: sRGB
- CreateDate: 2008:05:03 12:15:41
- CustomRendered: Normal
- DateTimeOriginal: 2008:05:03 12:15:41
- ExifImageLength: 2133
- ExifImageWidth: 3201
- ExposureCompensation: +1/3
- ExposureMode: Auto
- ExposureProgram: Aperture-priority AE
- ExposureTime: 1/800
- FNumber: 7,1
- Flash: Off
- FocalLength: 200,0mm
- ISO: 400
- MaxApertureValue: 2,8
- MeteringMode: Average
- SceneCaptureType: Standard
- ShutterSpeedValue: 1/800
- WhiteBalance: Auto
- ICC-header
- ICC-meas
- ICC-view
- IFD0
- Artist: Usenko Oleksandr
- Make: Canon
- Model: Canon EOS 30D
- ModifyDate: 2008:05:04 10:51:09
- Orientation: Horizontal (normal)
- IFD1
- IPTC
- By-line: Usenko Oleksandr
- XMP-aux
- Firmware: 1.0.4
- FlashCompensation: -0,666666666666667
- ImageNumber: 160
- Lens: EF80-200mm f/2.8L
- LensInfo: 80/1 200/1 0/0 0/0
- OwnerName: Usenko Oleksandr
- SerialNumber: 930601407
- XMP-crs
- AlreadyApplied: True
- BlueHue: 0
- BlueSaturation: 0
- Brightness: +50
- CameraProfile: ACR 3.4
- ChromaticAberrationB: 0
- ChromaticAberrationR: 0
- Clarity: 0
- ColorNoiseReduction: 25
- Contrast: +25
- ConvertToGrayscale: False
- CropAngle: -3.701039
- CropBottom: 0.911554
- CropHeight: 3
- CropLeft: 0.014119
- CropRight: 0.964982
- CropTop: 0.088446
- CropUnit: 3
- CropWidth: 2
- Defringe: 0
- Exposure: -0.40
- FillLight: 11
- GreenHue: 0
- GreenSaturation: 0
- HasCrop: True
- HasSettings: True
- HighlightRecovery: 17
- HueAdjustmentAqua: 0
- HueAdjustmentBlue: 0
- HueAdjustmentGreen: 0
- HueAdjustmentMagenta: 0
- HueAdjustmentOrange: 0
- HueAdjustmentPurple: 0
- HueAdjustmentRed: 0
- HueAdjustmentYellow: 0
- LuminanceAdjustmentAqua: 0
- LuminanceAdjustmentBlue: 0
- LuminanceAdjustmentGreen: 0
- LuminanceAdjustmentMagenta: 0
- LuminanceAdjustmentOrange: 0
- LuminanceAdjustmentPurple: 0
- LuminanceAdjustmentRed: 0
- LuminanceAdjustmentYellow: 0
- LuminanceSmoothing: 0
- ParametricDarks: 0
- ParametricHighlightSplit: 75
- ParametricHighlights: 0
- ParametricLights: 0
- ParametricMidtoneSplit: 50
- ParametricShadowSplit: 25
- ParametricShadows: 0
- RawFileName: IMG_1034.CR2
- RedHue: 0
- RedSaturation: 0
- Saturation: 0
- SaturationAdjustmentAqua: 0
- SaturationAdjustmentBlue: 0
- SaturationAdjustmentGreen: 0
- SaturationAdjustmentMagenta: 0
- SaturationAdjustmentOrange: 0
- SaturationAdjustmentPurple: 0
- SaturationAdjustmentRed: 0
- SaturationAdjustmentYellow: 0
- ShadowTint: 0
- Shadows: 0
- SharpenDetail: 25
- SharpenEdgeMasking: 0
- SharpenRadius: +1.0
- Sharpness: 0
- SplitToningBalance: 0
- SplitToningHighlightHue: 0
- SplitToningHighlightSaturation: 0
- SplitToningShadowHue: 0
- SplitToningShadowSaturation: 0
- Temperature: 4650
- Tint: +7
- ToneCurve: 0, 0, 32, 22, 64, 56, 128, 128, 192, 196, 255, 255
- ToneCurveName: Medium Contrast
- Version: 4.3
- Vibrance: 0
- VignetteAmount: 0
- WhiteBalance: As Shot
- XMP-dc
- Creator: Usenko Oleksandr
- Format: image/jpeg
- XMP-exif
- DateTimeDigitized: 2008:05:03 12:15:41+02:00
- DateTimeOriginal: 2008:05:03 12:15:41+02:00
- FlashFired: False
- FlashFunction: False
- FlashMode: Off
- FlashRedEyeMode: False
- FlashReturn: No return detection
- XMP-tiff
- XMP-xmp
- CreateDate: 2008:05:04 10:51:09+02:00
- ModifyDate: 2008:05:04 10:51:09+02:00
- Rating: 0
- XMP-xmpMM
- Просмотров: 659
- Рейтинг: голосов еще нет
- Отзывов: 0