- Раздел: Другое, разное
- Дата съёмки: 04.05.2008 11:09
- Дата загрузки фото: 04.05.2008 13:05
- Оригинальная фотография: 3180 x 2120 (947 Кб)
- Технические характеристики:
- Фотоаппарат: Canon EOS 30D
- Выдержка: 1/1000
- Гиперфокальное расстояние: 75,77 m
- Диафрагма: 5,6
- Светочувствительность: 160
- Фокусное расстояние: 85,0mm (35mm эквивалент: 150,0mm)
- Экспокоррекция: -2/3
- Полный EXIF
- Adobe
- ColorTransform: YCbCr
- Composite
- Aperture: 5,6
- CircleOfConfusion: 0,017 mm
- FocalLength35efl: 85,0mm (35mm equivalent: 150,0mm)
- HyperfocalDistance: 75,77 m
- LightValue: 14,3
- ScaleFactor35efl: 1,8
- ShutterSpeed: 1/1000
- ExifIFD
- ApertureValue: 5,6
- ColorSpace: sRGB
- CreateDate: 2008:04:26 17:21:38
- CustomRendered: Normal
- DateTimeOriginal: 2008:04:26 17:21:38
- ExifImageLength: 2120
- ExifImageWidth: 3180
- ExposureCompensation: -2/3
- ExposureMode: Auto
- ExposureProgram: Aperture-priority AE
- ExposureTime: 1/1000
- FNumber: 5,6
- Flash: Off
- FocalLength: 85,0mm
- ISO: 160
- MaxApertureValue: 2,8
- MeteringMode: Average
- SceneCaptureType: Standard
- ShutterSpeedValue: 1/1000
- WhiteBalance: Auto
- ICC-header
- ICC-meas
- ICC-view
- IFD0
- Artist: Usenko Oleksandr
- Make: Canon
- Model: Canon EOS 30D
- ModifyDate: 2008:05:04 11:09:06
- Orientation: Horizontal (normal)
- IFD1
- IPTC
- By-line: Usenko Oleksandr
- XMP-aux
- Firmware: 1.0.4
- FlashCompensation: -0,666666666666667
- ImageNumber: 16
- Lens: EF80-200mm f/2.8L
- LensInfo: 80/1 200/1 0/0 0/0
- OwnerName: Usenko Oleksandr
- SerialNumber: 930601407
- XMP-crs
- AlreadyApplied: True
- BlueHue: 0
- BlueSaturation: 0
- Brightness: +50
- CameraProfile: ACR 3.4
- ChromaticAberrationB: 0
- ChromaticAberrationR: 0
- Clarity: 22
- ColorNoiseReduction: 25
- Contrast: +25
- ConvertToGrayscale: False
- CropAngle: 0
- CropBottom: 0.907524
- CropHeight: 3
- CropLeft: 0
- CropRight: 0.907524
- CropTop: 0
- CropUnit: 3
- CropWidth: 2
- Defringe: 0
- Exposure: +0.40
- FillLight: 0
- GreenHue: 0
- GreenSaturation: 0
- HasCrop: True
- HasSettings: True
- HighlightRecovery: 0
- HueAdjustmentAqua: 0
- HueAdjustmentBlue: 0
- HueAdjustmentGreen: 0
- HueAdjustmentMagenta: 0
- HueAdjustmentOrange: 0
- HueAdjustmentPurple: 0
- HueAdjustmentRed: 0
- HueAdjustmentYellow: 0
- LuminanceAdjustmentAqua: 0
- LuminanceAdjustmentBlue: 0
- LuminanceAdjustmentGreen: 0
- LuminanceAdjustmentMagenta: 0
- LuminanceAdjustmentOrange: 0
- LuminanceAdjustmentPurple: 0
- LuminanceAdjustmentRed: 0
- LuminanceAdjustmentYellow: 0
- LuminanceSmoothing: 0
- ParametricDarks: 0
- ParametricHighlightSplit: 75
- ParametricHighlights: 0
- ParametricLights: 0
- ParametricMidtoneSplit: 50
- ParametricShadowSplit: 25
- ParametricShadows: 0
- RawFileName: IMG_0769.CR2
- RedHue: 0
- RedSaturation: 0
- Saturation: 0
- SaturationAdjustmentAqua: 0
- SaturationAdjustmentBlue: 0
- SaturationAdjustmentGreen: 0
- SaturationAdjustmentMagenta: 0
- SaturationAdjustmentOrange: 0
- SaturationAdjustmentPurple: 0
- SaturationAdjustmentRed: 0
- SaturationAdjustmentYellow: 0
- ShadowTint: 0
- Shadows: 0
- SharpenDetail: 25
- SharpenEdgeMasking: 0
- SharpenRadius: +1.0
- Sharpness: 0
- SplitToningBalance: 0
- SplitToningHighlightHue: 0
- SplitToningHighlightSaturation: 0
- SplitToningShadowHue: 0
- SplitToningShadowSaturation: 0
- Temperature: 4600
- Tint: +2
- ToneCurve: 0, 0, 32, 22, 64, 56, 128, 128, 192, 196, 255, 255
- ToneCurveName: Medium Contrast
- Version: 4.3
- Vibrance: +28
- VignetteAmount: 0
- WhiteBalance: As Shot
- XMP-dc
- Creator: Usenko Oleksandr
- Format: image/jpeg
- XMP-exif
- DateTimeDigitized: 2008:04:26 17:21:38+02:00
- DateTimeOriginal: 2008:04:26 17:21:38+02:00
- FlashFired: False
- FlashFunction: False
- FlashMode: Off
- FlashRedEyeMode: False
- FlashReturn: No return detection
- XMP-tiff
- XMP-xmp
- CreateDate: 2008:05:04 11:09:06+02:00
- ModifyDate: 2008:05:04 11:09:06+02:00
- Rating: 0
- XMP-xmpMM
- Просмотров: 735
- Рейтинг: голосов еще нет
- Отзывов: 0