- Раздел: Другое, разное
- Дата съёмки: 04.05.2008 16:26
- Дата загрузки фото: 04.05.2008 17:07
- Оригинальная фотография: 1280 x 854 (376 Кб)
- Технические характеристики:
- Фотоаппарат: Canon EOS 40D
- Выдержка: 1/800
- Гиперфокальное расстояние: 143,16 m
- Диафрагма: 5,6
- Светочувствительность: 100
- Фокусное расстояние: 70,0mm (35mm эквивалент: 344,1mm)
- Полный EXIF
- Adobe
- ColorTransform: YCbCr
- Composite
- Aperture: 5,6
- CircleOfConfusion: 0,006 mm
- FocalLength35efl: 70,0mm (35mm equivalent: 344,1mm)
- HyperfocalDistance: 143,16 m
- LightValue: 14,6
- ScaleFactor35efl: 4,9
- ShutterSpeed: 1/800
- ExifIFD
- ApertureValue: 5,6
- ColorSpace: sRGB
- CreateDate: 2008:05:03 16:06:19
- CustomRendered: Normal
- DateTimeOriginal: 2008:05:03 16:06:19
- ExifImageLength: 854
- ExifImageWidth: 1280
- ExposureCompensation: 0
- ExposureMode: Auto
- ExposureProgram: Aperture-priority AE
- ExposureTime: 1/800
- FNumber: 5,6
- Flash: Off
- FocalLength: 70,0mm
- ISO: 100
- MaxApertureValue: 2,8
- MeteringMode: Partial
- SceneCaptureType: Standard
- ShutterSpeedValue: 1/800
- WhiteBalance: Auto
- ICC-header
- ICC-meas
- ICC-view
- IFD0
- Artist: Rylov Ilya
- Copyright: FotoEpic.ru (c) 2007-2008 by Rylov Ilya
- ImageDescription: Photo taken, editing, posted by Rylov Ilya. FotoEpic.ru
- Make: Canon
- Model: Canon EOS 40D
- ModifyDate: 2008:05:04 16:26:04
- Orientation: Horizontal (normal)
- IFD1
- IPTC
- By-line: Rylov Ilya
- Caption-Abstract: Photo taken, editing, posted by Rylov Ilya. FotoEpic.ru
- CopyrightNotice: FotoEpic.ru (c) 2007-2008 by Rylov Ilya
- XMP-aux
- Firmware: 1.0.5
- FlashCompensation: 0
- ImageNumber: 0
- Lens: EF24-70mm f/2.8L USM
- LensInfo: 24/1 70/1 0/0 0/0
- SerialNumber: 430117634
- XMP-crs
- AlreadyApplied: True
- BlueHue: 0
- BlueSaturation: 0
- Brightness: +50
- CameraProfile: ACR 3.7
- ChromaticAberrationB: 0
- ChromaticAberrationR: 0
- Clarity: 21
- ColorNoiseReduction: 25
- Contrast: +25
- ConvertToGrayscale: False
- Defringe: 0
- Exposure: -0.35
- FillLight: 0
- GreenHue: 0
- GreenSaturation: 0
- HasCrop: False
- HasSettings: True
- HighlightRecovery: 100
- HueAdjustmentAqua: 0
- HueAdjustmentBlue: 0
- HueAdjustmentGreen: 0
- HueAdjustmentMagenta: 0
- HueAdjustmentOrange: 0
- HueAdjustmentPurple: 0
- HueAdjustmentRed: 0
- HueAdjustmentYellow: 0
- LuminanceAdjustmentAqua: 0
- LuminanceAdjustmentBlue: 0
- LuminanceAdjustmentGreen: 0
- LuminanceAdjustmentMagenta: 0
- LuminanceAdjustmentOrange: 0
- LuminanceAdjustmentPurple: 0
- LuminanceAdjustmentRed: 0
- LuminanceAdjustmentYellow: 0
- LuminanceSmoothing: 0
- ParametricDarks: 0
- ParametricHighlightSplit: 75
- ParametricHighlights: 0
- ParametricLights: 0
- ParametricMidtoneSplit: 50
- ParametricShadowSplit: 25
- ParametricShadows: 0
- RawFileName: IMG_2875.CR2
- RedHue: 0
- RedSaturation: 0
- Saturation: 0
- SaturationAdjustmentAqua: 0
- SaturationAdjustmentBlue: 0
- SaturationAdjustmentGreen: 0
- SaturationAdjustmentMagenta: 0
- SaturationAdjustmentOrange: 0
- SaturationAdjustmentPurple: 0
- SaturationAdjustmentRed: 0
- SaturationAdjustmentYellow: 0
- ShadowTint: 0
- Shadows: 5
- SharpenDetail: 25
- SharpenEdgeMasking: 0
- SharpenRadius: +1.0
- Sharpness: 25
- SplitToningBalance: 0
- SplitToningHighlightHue: 0
- SplitToningHighlightSaturation: 0
- SplitToningShadowHue: 0
- SplitToningShadowSaturation: 0
- Temperature: 3350
- Tint: -12
- ToneCurve: 0, 0, 32, 22, 64, 56, 128, 128, 192, 196, 255, 255
- ToneCurveName: Medium Contrast
- Version: 4.4.1
- Vibrance: 0
- VignetteAmount: 0
- WhiteBalance: Custom
- XMP-dc
- Creator: Rylov Ilya
- Description: Photo taken, editing, posted by Rylov Ilya. FotoEpic.ru
- Format: image/jpeg
- Rights: FotoEpic.ru (c) 2007-2008 by Rylov Ilya
- XMP-exif
- DateTimeDigitized: 2008:05:03 16:06:19.26+04:00
- DateTimeOriginal: 2008:05:03 16:06:19.26+04:00
- FlashFired: False
- FlashFunction: False
- FlashMode: Off
- FlashRedEyeMode: False
- FlashReturn: No return detection
- XMP-tiff
- XMP-xmp
- CreateDate: 2008:05:04 16:26:04+04:00
- ModifyDate: 2008:05:04 16:26:04+04:00
- Rating: 0
- XMP-xmpMM
- DerivedFrom:
- XMP-xmpRights
- Marked: True
- WebStatement: FotoEpic.ru
- Просмотров: 360
- Рейтинг: голосов еще нет
- Отзывов: 0