- Раздел: Другое, разное
- Дата съёмки: 01.05.2008 18:47
- Дата загрузки фото: 05.05.2008 22:57
- Оригинальная фотография: 2428 x 1237 (713 Кб)
- Технические характеристики:
- Фотоаппарат: Canon EOS 20D
- Выдержка: 1/250
- Гиперфокальное расстояние: 428,51 m
- Диафрагма: 2,0
- Светочувствительность: 400
- Фокусное расстояние: 102,0mm (35mm эквивалент: 252,5mm)
- Экспокоррекция: -2/3
- Полный EXIF
- Adobe
- ColorTransform: YCbCr
- Composite
- Aperture: 2,0
- CircleOfConfusion: 0,012 mm
- FocalLength35efl: 102,0mm (35mm equivalent: 252,5mm)
- HyperfocalDistance: 428,51 m
- LightValue: 8,0
- ScaleFactor35efl: 2,5
- ShutterSpeed: 1/250
- ExifIFD
- ApertureValue: 2,0
- CreateDate: 2008:05:01 18:47:35
- CustomRendered: Normal
- DateTimeOriginal: 2008:05:01 18:47:35
- ExposureCompensation: -2/3
- ExposureMode: Auto
- ExposureProgram: Aperture-priority AE
- ExposureTime: 1/250
- FNumber: 2,0
- Flash: Off
- FocalLength: 102,0mm
- ISO: 400
- MaxApertureValue: 2,0
- MeteringMode: Multi-segment
- SceneCaptureType: Standard
- ShutterSpeedValue: 1/250
- WhiteBalance: Auto
- ICC-header
- ICC-meas
- ICC-view
- IFD0
- Artist: unknown
- Make: Canon
- Model: Canon EOS 20D
- ModifyDate: 2008:05:05 21:57:07
- IPTC
- By-line: unknown
- XMP-aux
- Firmware: 2.0.3
- FlashCompensation: 0
- ImageNumber: 87
- Lens: 102.0 mm
- LensInfo: 102/1 102/1 0/0 0/0
- OwnerName: unknown
- SerialNumber: 1621005344
- XMP-crs
- AlreadyApplied: True
- BlueHue: 0
- BlueSaturation: 0
- Brightness: +35
- CameraProfile: ACR 4.4
- ChromaticAberrationB: 0
- ChromaticAberrationR: 0
- Clarity: 12
- ColorNoiseReduction: 6
- Contrast: +29
- ConvertToGrayscale: False
- CropAngle: 0
- CropBottom: 0.806557
- CropLeft: 0.187978
- CropRight: 0.880874
- CropTop: 0.277049
- Defringe: 0
- Exposure: 0.00
- FillLight: 0
- GreenHue: 0
- GreenSaturation: 0
- HasCrop: True
- HasSettings: True
- HighlightRecovery: 0
- HueAdjustmentAqua: 0
- HueAdjustmentBlue: 0
- HueAdjustmentGreen: 0
- HueAdjustmentMagenta: 0
- HueAdjustmentOrange: 0
- HueAdjustmentPurple: 0
- HueAdjustmentRed: 0
- HueAdjustmentYellow: 0
- LuminanceAdjustmentAqua: 0
- LuminanceAdjustmentBlue: 0
- LuminanceAdjustmentGreen: 0
- LuminanceAdjustmentMagenta: 0
- LuminanceAdjustmentOrange: 0
- LuminanceAdjustmentPurple: 0
- LuminanceAdjustmentRed: 0
- LuminanceAdjustmentYellow: 0
- LuminanceSmoothing: 0
- ParametricDarks: 0
- ParametricHighlightSplit: 75
- ParametricHighlights: 0
- ParametricLights: 0
- ParametricMidtoneSplit: 50
- ParametricShadowSplit: 25
- ParametricShadows: 0
- RawFileName: IMG_8791.CR2
- RedHue: 0
- RedSaturation: 0
- Saturation: 0
- SaturationAdjustmentAqua: 0
- SaturationAdjustmentBlue: 0
- SaturationAdjustmentGreen: 0
- SaturationAdjustmentMagenta: 0
- SaturationAdjustmentOrange: 0
- SaturationAdjustmentPurple: 0
- SaturationAdjustmentRed: 0
- SaturationAdjustmentYellow: 0
- ShadowTint: 0
- Shadows: 5
- SharpenDetail: 13
- SharpenEdgeMasking: 0
- SharpenRadius: +1.2
- Sharpness: 45
- SplitToningBalance: 0
- SplitToningHighlightHue: 0
- SplitToningHighlightSaturation: 0
- SplitToningShadowHue: 0
- SplitToningShadowSaturation: 0
- Temperature: 4100
- Tint: +15
- ToneCurve: 0, 0, 32, 22, 64, 56, 128, 128, 192, 196, 255, 255
- ToneCurveName: Medium Contrast
- Version: 4.4.1
- Vibrance: +13
- VignetteAmount: 0
- WhiteBalance: As Shot
- XMP-dc
- XMP-exif
- DateTimeDigitized: 2008:05:01 18:47:35+03:00
- DateTimeOriginal: 2008:05:01 18:47:35+03:00
- FlashFired: False
- FlashFunction: False
- FlashMode: Off
- FlashRedEyeMode: False
- FlashReturn: No return detection
- XMP-tiff
- ImageHeight: 1237
- ImageWidth: 2428
- XMP-xmp
- ModifyDate: 2008:05:05 21:57:07+03:00
- Просмотров: 239
- Рейтинг: голосов еще нет
- Отзывов: 0