- Раздел: Портрет
- Дата съёмки: 24.05.2008 21:33
- Дата загрузки фото: 24.05.2008 15:37
- Оригинальная фотография: 862 x 1293 (101 Кб)
- Технические характеристики:
- Фотоаппарат: Canon EOS 400D DIGITAL
- Выдержка: 1/2500
- Гиперфокальное расстояние: 272,90 m
- Диафрагма: 2,0
- Светочувствительность: 100
- Фокусное расстояние: 58,0mm (35mm эквивалент: 282,7mm)
- Полный EXIF
- Adobe
- ColorTransform: YCbCr
- Composite
- Aperture: 2,0
- CircleOfConfusion: 0,006 mm
- FocalLength35efl: 58,0mm (35mm equivalent: 282,7mm)
- HyperfocalDistance: 272,90 m
- LightValue: 13,3
- ScaleFactor35efl: 4,9
- ShutterSpeed: 1/2500
- ExifIFD
- ApertureValue: 2,0
- ColorSpace: sRGB
- CreateDate: 2008:05:24 12:56:51
- CustomRendered: Normal
- DateTimeOriginal: 2008:05:24 12:56:51
- ExifImageLength: 1293
- ExifImageWidth: 862
- ExposureCompensation: 0
- ExposureMode: Auto
- ExposureProgram: Aperture-priority AE
- ExposureTime: 1/2500
- FNumber: 2,0
- Flash: Off
- FocalLength: 58,0mm
- ISO: 100
- MaxApertureValue: 2,0
- MeteringMode: Average
- SceneCaptureType: Standard
- ShutterSpeedValue: 1/2500
- WhiteBalance: Auto
- ICC-header
- ICC-meas
- ICC-view
- IFD0
- Artist: maxim
- Make: Canon
- Model: Canon EOS 400D DIGITAL
- ModifyDate: 2008:05:24 21:33:49
- Orientation: Horizontal (normal)
- IFD1
- IPTC
- By-line: maxim
- XMP-aux
- Firmware: 1.1.0
- FlashCompensation: 0
- ImageNumber: 96
- Lens: 58.0 mm
- LensInfo: 58/1 58/1 0/0 0/0
- OwnerName: maxim
- SerialNumber: 1480866546
- XMP-crs
- AlreadyApplied: True
- BlueHue: 0
- BlueSaturation: 0
- Brightness: +50
- CameraProfile: ACR 4.4
- ChromaticAberrationB: 0
- ChromaticAberrationR: 0
- Clarity: 8
- ColorNoiseReduction: 25
- Contrast: +53
- ConvertToGrayscale: False
- Defringe: 0
- Exposure: -0.40
- FillLight: 0
- GreenHue: 0
- GreenSaturation: 0
- HasCrop: False
- HasSettings: True
- HighlightRecovery: 5
- HueAdjustmentAqua: 0
- HueAdjustmentBlue: 0
- HueAdjustmentGreen: 0
- HueAdjustmentMagenta: 0
- HueAdjustmentOrange: 0
- HueAdjustmentPurple: 0
- HueAdjustmentRed: 0
- HueAdjustmentYellow: 0
- LuminanceAdjustmentAqua: 0
- LuminanceAdjustmentBlue: 0
- LuminanceAdjustmentGreen: 0
- LuminanceAdjustmentMagenta: 0
- LuminanceAdjustmentOrange: 0
- LuminanceAdjustmentPurple: 0
- LuminanceAdjustmentRed: 0
- LuminanceAdjustmentYellow: 0
- LuminanceSmoothing: 0
- ParametricDarks: 0
- ParametricHighlightSplit: 75
- ParametricHighlights: 0
- ParametricLights: 0
- ParametricMidtoneSplit: 50
- ParametricShadowSplit: 25
- ParametricShadows: 0
- RawFileName: IMG_2502.CR2
- RedHue: 0
- RedSaturation: 0
- Saturation: 0
- SaturationAdjustmentAqua: 0
- SaturationAdjustmentBlue: 0
- SaturationAdjustmentGreen: 0
- SaturationAdjustmentMagenta: 0
- SaturationAdjustmentOrange: 0
- SaturationAdjustmentPurple: 0
- SaturationAdjustmentRed: 0
- SaturationAdjustmentYellow: 0
- ShadowTint: 0
- Shadows: 7
- SharpenDetail: 25
- SharpenEdgeMasking: 0
- SharpenRadius: +1.0
- Sharpness: 25
- SplitToningBalance: 0
- SplitToningHighlightHue: 0
- SplitToningHighlightSaturation: 0
- SplitToningShadowHue: 0
- SplitToningShadowSaturation: 0
- Temperature: 6400
- Tint: +11
- ToneCurve: 0, 0, 32, 22, 64, 56, 128, 128, 192, 196, 255, 255
- ToneCurveName: Medium Contrast
- Version: 4.4.1
- Vibrance: +17
- VignetteAmount: -100
- VignetteMidpoint: 50
- WhiteBalance: Custom
- XMP-dc
- Creator: maxim
- Format: image/jpeg
- XMP-exif
- DateTimeDigitized: 2008:05:24 12:56:51+10:00
- DateTimeOriginal: 2008:05:24 12:56:51+10:00
- FlashFired: False
- FlashFunction: False
- FlashMode: Off
- FlashRedEyeMode: False
- FlashReturn: No return detection
- XMP-tiff
- XMP-xmp
- CreateDate: 2008:05:24 21:33:49+10:00
- ModifyDate: 2008:05:24 21:33:49+10:00
- Rating: 0
- XMP-xmpMM
- Просмотров: 396
- Рейтинг: голосов еще нет
- Отзывов: 0