- Раздел: Другое, разное
- Дата съёмки: 18.06.2008 23:35
- Дата загрузки фото: 20.06.2008 11:03
- Оригинальная фотография: 1000 x 750 (198 Кб)
- Технические характеристики:
- Фотоаппарат: FujiFilm FinePix S9100
- Выдержка: 1/140
- Гиперфокальное расстояние: 164,64 m
- Диафрагма: 6,4
- Светочувствительность: 80
- Фокусное расстояние: 66,7mm (35mm эквивалент: 474,7mm)
- Полный EXIF
- Adobe
- ColorTransform: YCbCr
- Composite
- Aperture: 6,4
- CircleOfConfusion: 0,004 mm
- FocalLength35efl: 66,7mm (35mm equivalent: 474,7mm)
- HyperfocalDistance: 164,64 m
- LightValue: 12,8
- ScaleFactor35efl: 7,1
- ShutterSpeed: 1/140
- ExifIFD
- ApertureValue: 6,4
- BrightnessValue: 8,45
- ColorSpace: sRGB
- Contrast: Normal
- CreateDate: 2007:07:07 13:23:28
- CustomRendered: Normal
- DateTimeOriginal: 2007:07:07 13:23:28
- ExifImageLength: 750
- ExifImageWidth: 1000
- ExposureCompensation: 0
- ExposureMode: Auto
- ExposureProgram: Program AE
- ExposureTime: 1/140
- FNumber: 6,4
- Flash: Off
- FocalLength: 66,7mm
- ISO: 80
- LightSource: Unknown (0)
- MaxApertureValue: 2,8
- MeteringMode: Multi-segment
- Saturation: Normal
- SceneCaptureType: Standard
- SceneType: Directly photographed
- SensingMethod: One-chip color area
- Sharpness: Normal
- ShutterSpeedValue: 1/140
- SubjectDistanceRange: Distant
- WhiteBalance: Auto
- ICC-header
- ICC-meas
- ICC-view
- IFD0
- Make: FUJIFILM
- Model: FinePix S9100
- ModifyDate: 2008:06:20 11:14:57
- Orientation: Horizontal (normal)
- TimeZoneOffset: 4 4
- IFD1
- IPTC
- Keywords: nature, grass, green, water, lake, wave, stone, travel, lesure, walk, rest, flower, rock, hat, jacket, dayligth, shadow, shore, mane
- XMP-crs
- AlreadyApplied: True
- BlueHue: 0
- BlueSaturation: 0
- Brightness: +50
- CameraProfile: ACR 3.6
- ChromaticAberrationB: -56
- ChromaticAberrationR: 0
- ColorNoiseReduction: 0
- Contrast: +44
- ConvertToGrayscale: False
- Exposure: 0.00
- FillLight: 0
- GreenHue: 0
- GreenSaturation: 0
- HasCrop: False
- HasSettings: True
- HighlightRecovery: 11
- HueAdjustmentAqua: 0
- HueAdjustmentBlue: 0
- HueAdjustmentGreen: 0
- HueAdjustmentMagenta: 0
- HueAdjustmentOrange: 0
- HueAdjustmentPurple: 0
- HueAdjustmentRed: 0
- HueAdjustmentYellow: 0
- LuminanceAdjustmentAqua: 0
- LuminanceAdjustmentBlue: 0
- LuminanceAdjustmentGreen: 0
- LuminanceAdjustmentMagenta: 0
- LuminanceAdjustmentOrange: 0
- LuminanceAdjustmentPurple: 0
- LuminanceAdjustmentRed: 0
- LuminanceAdjustmentYellow: 0
- LuminanceSmoothing: 0
- ParametricDarks: 0
- ParametricHighlightSplit: 75
- ParametricHighlights: 0
- ParametricLights: 0
- ParametricMidtoneSplit: 50
- ParametricShadowSplit: 25
- ParametricShadows: 0
- RawFileName: DSCF1131.RAF
- RedHue: 0
- RedSaturation: 0
- Saturation: +10
- SaturationAdjustmentAqua: 0
- SaturationAdjustmentBlue: 0
- SaturationAdjustmentGreen: 0
- SaturationAdjustmentMagenta: 0
- SaturationAdjustmentOrange: 0
- SaturationAdjustmentPurple: 0
- SaturationAdjustmentRed: 0
- SaturationAdjustmentYellow: 0
- ShadowTint: 0
- Shadows: 5
- Sharpness: 0
- SplitToningBalance: 0
- SplitToningHighlightHue: 0
- SplitToningHighlightSaturation: 0
- SplitToningShadowHue: 0
- SplitToningShadowSaturation: 0
- Temperature: 4700
- Tint: +2
- ToneCurve: 0, 0, 32, 22, 64, 56, 128, 128, 192, 196, 255, 255
- ToneCurveName: Medium Contrast
- Version: 4.0
- Vibrance: 0
- VignetteAmount: 0
- WhiteBalance: As Shot
- XMP-dc
- Format: image/jpeg
- Subject: nature, grass, green, water, lake, wave, stone, travel, lesure, walk, rest, flower, rock, hat, jacket, dayligth, shadow, shore, mane
- XMP-exif
- DateTimeDigitized: 2007:07:07 13:23:28+04:00
- DateTimeOriginal: 2007:07:07 13:23:28+04:00
- FlashFired: False
- FlashFunction: False
- FlashMode: Off
- FlashRedEyeMode: False
- FlashReturn: No return detection
- XMP-tiff
- XMP-xmp
- CreateDate: 2008:06:18 23:35:28+04:00
- ModifyDate: 2008:06:20 11:14:57+05:00
- Rating: 0
- XMP-xmpMM
- DerivedFrom:
- Просмотров: 464
- Рейтинг: голосов еще нет
- Отзывов: 0