- Раздел: Семья, личное
- Дата съёмки: 07.02.2004 10:59
- Дата загрузки фото: 23.06.2008 11:42
- Оригинальная фотография: 2036 x 3043 (1,1 Мб)
- Технические характеристики:
- Фотоаппарат: FujiFilm FinePix S3Pro
- Выдержка: 1/60
- Гиперфокальное расстояние: 68,54 m
- Диафрагма: 2,8
- Светочувствительность: 1600
- Фокусное расстояние: 62,0mm (35mm эквивалент: 93,0mm)
- Экспокоррекция: -1/2
- Полный EXIF
- Adobe
- ColorTransform: YCbCr
- Composite
- Aperture: 2,8
- CircleOfConfusion: 0,020 mm
- FocalLength35efl: 62,0mm (35mm equivalent: 93,0mm)
- HyperfocalDistance: 68,54 m
- LightValue: 4,9
- ScaleFactor35efl: 1,5
- ShutterSpeed: 1/60
- ExifIFD
- ApertureValue: 2,8
- BrightnessValue: -0,5
- Contrast: Normal
- CreateDate: 2004:02:07 10:59:42
- CustomRendered: Normal
- DateTimeOriginal: 2004:02:07 10:59:42
- ExposureCompensation: -1/2
- ExposureMode: Auto
- ExposureProgram: Aperture-priority AE
- ExposureTime: 1/60
- FNumber: 2,8
- Flash: No Flash
- FocalLength: 62,0mm
- FocalLengthIn35mmFormat: 93mm
- ISO: 1600
- LightSource: Unknown (0)
- MaxApertureValue: 2,8
- MeteringMode: Multi-segment
- Saturation: Normal
- SceneCaptureType: Standard
- SceneType: Directly photographed
- SensingMethod: One-chip color area
- Sharpness: Normal
- ShutterSpeedValue: 1/60
- WhiteBalance: Auto
- ICC-header
- ICC-meas
- ICC-view
- IFD0
- Make: FUJIFILM
- Model: FinePix S3Pro
- ModifyDate: 2008:06:10 22:30:41
- Software: Digital Camera FinePix S3Pro Ver1.00
- TimeZoneOffset: 3 4
- XMP-aux
- Lens: 28.0-70.0 mm f/2.8
- LensInfo: 2800/100 7000/100 280/100 280/100
- XMP-crs
- AlreadyApplied: True
- BlueHue: 0
- BlueSaturation: 0
- Brightness: +145
- CameraProfile: ACR 2.4
- ChromaticAberrationB: 0
- ChromaticAberrationR: 0
- ColorNoiseReduction: 5
- Contrast: +39
- ConvertToGrayscale: False
- Exposure: -3.00
- FillLight: 6
- GreenHue: 0
- GreenSaturation: 0
- HasCrop: False
- HasSettings: True
- HighlightRecovery: 40
- HueAdjustmentAqua: 0
- HueAdjustmentBlue: 0
- HueAdjustmentGreen: 0
- HueAdjustmentMagenta: 0
- HueAdjustmentOrange: 0
- HueAdjustmentPurple: 0
- HueAdjustmentRed: 0
- HueAdjustmentYellow: 0
- LuminanceAdjustmentAqua: 0
- LuminanceAdjustmentBlue: 0
- LuminanceAdjustmentGreen: 0
- LuminanceAdjustmentMagenta: 0
- LuminanceAdjustmentOrange: 0
- LuminanceAdjustmentPurple: 0
- LuminanceAdjustmentRed: 0
- LuminanceAdjustmentYellow: 0
- LuminanceSmoothing: 1
- ParametricDarks: 0
- ParametricHighlightSplit: 75
- ParametricHighlights: 0
- ParametricLights: 0
- ParametricMidtoneSplit: 50
- ParametricShadowSplit: 25
- ParametricShadows: 0
- RawFileName: DSCF0190.dng
- RedHue: -5
- RedSaturation: +11
- Saturation: 0
- SaturationAdjustmentAqua: 0
- SaturationAdjustmentBlue: 0
- SaturationAdjustmentGreen: 0
- SaturationAdjustmentMagenta: 0
- SaturationAdjustmentOrange: 0
- SaturationAdjustmentPurple: 0
- SaturationAdjustmentRed: 0
- SaturationAdjustmentYellow: 0
- ShadowTint: 0
- Shadows: 9
- Sharpness: 0
- SplitToningBalance: 0
- SplitToningHighlightHue: 0
- SplitToningHighlightSaturation: 0
- SplitToningShadowHue: 0
- SplitToningShadowSaturation: 0
- Temperature: 5400
- Tint: +24
- ToneCurve: 0, 0, 32, 22, 64, 56, 128, 128, 192, 196, 255, 255
- ToneCurveName: Medium Contrast
- Version: 4.0
- Vibrance: +30
- VignetteAmount: 0
- WhiteBalance: Custom
- XMP-exif
- DateTimeDigitized: 2004:02:07 10:59:42+03:00
- DateTimeOriginal: 2004:02:07 10:59:42+03:00
- FlashFired: False
- FlashFunction: False
- FlashMode: Unknown
- FlashRedEyeMode: False
- FlashReturn: No return detection
- FocalLengthIn35mmFormat: 93
- SubjectDistanceRange: Unknown
- XMP-tiff
- ImageHeight: 3043
- ImageWidth: 2036
- XMP-xmp
- CreatorTool: Digital Camera FinePix S3Pro Ver1.00
- ModifyDate: 2008:06:10 22:30:41+04:00
- Rating: 0