- Раздел: Природа
- Дата съёмки: 23.06.2008 23:59
- Дата загрузки фото: 24.06.2008 17:41
- Оригинальная фотография: 1565 x 1041 (1,3 Мб)
- Технические характеристики:
- Фотоаппарат: Minolta DYNAX 7D
- Выдержка: 1/30
- Гиперфокальное расстояние: 6,99 m
- Диафрагма: 5,6
- Светочувствительность: 400
- Фокусное расстояние: 28,0mm (35mm эквивалент: 42,0mm)
- Экспокоррекция: -3
- Полный EXIF
- Adobe
- ColorTransform: YCbCr
- Composite
- Aperture: 5,6
- CircleOfConfusion: 0,020 mm
- FocalLength35efl: 28,0mm (35mm equivalent: 42,0mm)
- HyperfocalDistance: 6,99 m
- LightValue: 7,9
- ScaleFactor35efl: 1,5
- ShutterSpeed: 1/30
- ExifIFD
- ApertureValue: 5,6
- BrightnessValue: 0,12
- ColorSpace: Uncalibrated
- Contrast: Normal
- CreateDate: 2008:05:27 18:47:53
- CustomRendered: Normal
- DateTimeOriginal: 2008:05:27 18:47:53
- DigitalZoomRatio: 0
- ExifImageLength: 1041
- ExifImageWidth: 1565
- ExposureCompensation: -3
- ExposureMode: Auto
- ExposureProgram: Aperture-priority AE
- ExposureTime: 1/30
- FNumber: 5,6
- Flash: Off
- FocalLength: 28,0mm
- FocalLengthIn35mmFormat: 42mm
- GainControl: Low gain up
- ISO: 400
- LightSource: Unknown (0)
- MaxApertureValue: 3,5
- MeteringMode: Spot
- Saturation: Normal
- SceneCaptureType: Standard
- Sharpness: Normal
- ShutterSpeedValue: 1/30
- SubjectLocation: 1504 1000 256 304
- WhiteBalance: Auto
- ICC-header
- IFD0
- ImageDescription: KONICA MINOLTA DIGITAL CAMERA
- Make: KONICA MINOLTA
- Model: DYNAX 7D
- ModifyDate: 2008:06:23 23:59:55
- Orientation: Horizontal (normal)
- IFD1
- IPTC
- Caption-Abstract: KONICA MINOLTA DIGITAL CAMERA
- XMP-aux
- XMP-crs
- AlreadyApplied: True
- BlueHue: 0
- BlueSaturation: 0
- Brightness: +50
- CameraProfile: ACR 4.4
- ChromaticAberrationB: 0
- ChromaticAberrationR: 0
- Clarity: 13
- ColorNoiseReduction: 25
- Contrast: +42
- ConvertToGrayscale: False
- Defringe: 0
- Exposure: +0.95
- FillLight: 0
- GreenHue: 0
- GreenSaturation: 0
- HasCrop: False
- HasSettings: True
- HighlightRecovery: 5
- HueAdjustmentAqua: 0
- HueAdjustmentBlue: 0
- HueAdjustmentGreen: 0
- HueAdjustmentMagenta: 0
- HueAdjustmentOrange: 0
- HueAdjustmentPurple: 0
- HueAdjustmentRed: 0
- HueAdjustmentYellow: 0
- LuminanceAdjustmentAqua: 0
- LuminanceAdjustmentBlue: 0
- LuminanceAdjustmentGreen: 0
- LuminanceAdjustmentMagenta: 0
- LuminanceAdjustmentOrange: 0
- LuminanceAdjustmentPurple: 0
- LuminanceAdjustmentRed: 0
- LuminanceAdjustmentYellow: 0
- LuminanceSmoothing: 0
- ParametricDarks: 0
- ParametricHighlightSplit: 75
- ParametricHighlights: 0
- ParametricLights: 0
- ParametricMidtoneSplit: 50
- ParametricShadowSplit: 25
- ParametricShadows: 0
- RawFileName: PICT8293.MRW
- RedHue: 0
- RedSaturation: 0
- Saturation: +42
- SaturationAdjustmentAqua: 0
- SaturationAdjustmentBlue: 0
- SaturationAdjustmentGreen: 0
- SaturationAdjustmentMagenta: 0
- SaturationAdjustmentOrange: 0
- SaturationAdjustmentPurple: 0
- SaturationAdjustmentRed: 0
- SaturationAdjustmentYellow: 0
- ShadowTint: 0
- Shadows: 5
- SharpenDetail: 25
- SharpenEdgeMasking: 0
- SharpenRadius: +1.0
- Sharpness: 25
- SplitToningBalance: 0
- SplitToningHighlightHue: 0
- SplitToningHighlightSaturation: 0
- SplitToningShadowHue: 0
- SplitToningShadowSaturation: 0
- Temperature: 7900
- Tint: +37
- ToneCurve: 0, 0, 32, 22, 64, 56, 128, 128, 192, 196, 255, 255
- ToneCurveName: Medium Contrast
- Version: 4.4.1
- Vibrance: +23
- VignetteAmount: 0
- WhiteBalance: Custom
- XMP-dc
- Description: KONICA MINOLTA DIGITAL CAMERA
- Format: image/jpeg
- XMP-exif
- ColorSpace: Unknown (-1)
- DateTimeDigitized: 2008:05:27 18:47:53+04:00
- DateTimeOriginal: 2008:05:27 18:47:53+04:00
- FlashFired: False
- FlashFunction: False
- FlashMode: Off
- FlashRedEyeMode: False
- FlashReturn: No return detection
- FocalLengthIn35mmFormat: 42
- SubjectArea: 1504, 1000, 256, 304
- XMP-tiff
- XMP-xmp
- CreateDate: 2008:06:23 23:59:55+04:00
- ModifyDate: 2008:06:23 23:59:55+04:00
- Rating: 0
- XMP-xmpMM
- Просмотров: 378
- Рейтинг: голосов еще нет
- Отзывов: 0