- Раздел: Другое, разное
- Дата съёмки: 26.06.2008 22:43
- Дата загрузки фото: 27.06.2008 10:30
- Оригинальная фотография: 1000 x 750 (219 Кб)
- Технические характеристики:
- Фотоаппарат: FujiFilm FinePix S9100
- Выдержка: 1/80
- Гиперфокальное расстояние: 1,17 m
- Диафрагма: 5,0
- Светочувствительность:
- Фокусное расстояние: 8,1mm (35mm эквивалент: 21,6mm)
- Полный EXIF
- Composite
- Aperture: 5,0
- CircleOfConfusion: 0,011 mm
- FocalLength35efl: 8,1mm (35mm equivalent: 21,6mm)
- HyperfocalDistance: 1,17 m
- ScaleFactor35efl: 2,7
- ShutterSpeed: 1/80
- ExifIFD
- ApertureValue: 5,0
- BrightnessValue: -1,45
- ColorSpace: sRGB
- Contrast: Normal
- CreateDate: 2008:06:26 16:13:33
- CustomRendered: Normal
- DateTimeOriginal: 2008:06:26 16:13:33
- ExifImageLength: 750
- ExifImageWidth: 1000
- ExposureCompensation: 0
- ExposureMode: Manual
- ExposureProgram: Manual
- ExposureTime: 1/80
- FNumber: 5,0
- Flash: On
- FocalLength: 8,1mm
- ISO:
- LightSource: Unknown (0)
- MaxApertureValue: 2,8
- MeteringMode: Multi-segment
- Saturation: Normal
- SceneCaptureType: Standard
- SceneType: Directly photographed
- SensingMethod: One-chip color area
- Sharpness: Normal
- ShutterSpeedValue: 1/80
- SubjectDistanceRange: Macro
- WhiteBalance: Auto
- ICC-header
- ICC-meas
- ICC-view
- IFD0
- Make: FUJIFILM
- Model: FinePix S9100
- ModifyDate: 2008:06:27 10:57:10
- Orientation: Horizontal (normal)
- Software: ACD Systems Digital Imaging
- IFD1
- IPTC
- XMP-crs
- AlreadyApplied: True
- BlueHue: 0
- BlueSaturation: 0
- Brightness: +50
- CameraProfile: ACR 3.6
- ChromaticAberrationB: 0
- ChromaticAberrationR: 0
- ColorNoiseReduction: 0
- Contrast: +25
- ConvertToGrayscale: False
- Exposure: +0.80
- FillLight: 22
- GreenHue: 0
- GreenSaturation: 0
- HasCrop: False
- HasSettings: True
- HighlightRecovery: 0
- HueAdjustmentAqua: 0
- HueAdjustmentBlue: 0
- HueAdjustmentGreen: 0
- HueAdjustmentMagenta: 0
- HueAdjustmentOrange: 0
- HueAdjustmentPurple: 0
- HueAdjustmentRed: 0
- HueAdjustmentYellow: 0
- LuminanceAdjustmentAqua: 0
- LuminanceAdjustmentBlue: 0
- LuminanceAdjustmentGreen: 0
- LuminanceAdjustmentMagenta: 0
- LuminanceAdjustmentOrange: 0
- LuminanceAdjustmentPurple: 0
- LuminanceAdjustmentRed: 0
- LuminanceAdjustmentYellow: 0
- LuminanceSmoothing: 0
- ParametricDarks: 0
- ParametricHighlightSplit: 75
- ParametricHighlights: 0
- ParametricLights: 0
- ParametricMidtoneSplit: 50
- ParametricShadowSplit: 25
- ParametricShadows: 0
- RawFileName: DSCF6517.RAF
- RedHue: 0
- RedSaturation: 0
- Saturation: 0
- SaturationAdjustmentAqua: 0
- SaturationAdjustmentBlue: 0
- SaturationAdjustmentGreen: 0
- SaturationAdjustmentMagenta: 0
- SaturationAdjustmentOrange: 0
- SaturationAdjustmentPurple: 0
- SaturationAdjustmentRed: 0
- SaturationAdjustmentYellow: 0
- ShadowTint: 0
- Shadows: 5
- Sharpness: 0
- SplitToningBalance: 0
- SplitToningHighlightHue: 0
- SplitToningHighlightSaturation: 0
- SplitToningShadowHue: 0
- SplitToningShadowSaturation: 0
- Temperature: 4500
- Tint: +7
- ToneCurve: 0, 0, 32, 22, 64, 56, 128, 128, 192, 196, 255, 255
- ToneCurveName: Medium Contrast
- Version: 4.0
- Vibrance: 0
- VignetteAmount: 0
- WhiteBalance: Custom
- XMP-dc
- XMP-exif
- DateTimeDigitized: 2008:06:26 16:13:330Z
- DateTimeOriginal: 2008:06:26 16:13:330Z
- ExifImageLength: 2000
- ExifImageWidth: 2667
- FlashFired: True
- FlashFunction: False
- FlashMode: On
- FlashRedEyeMode: False
- FlashReturn: No return detection
- XMP-tiff
- XMP-xmp
- CreateDate: 2008:06:26 22:43:23+04:00
- ModifyDate: 2008:06:26 18:57:540Z
- Rating: 0
- XMP-xmpMM
- DerivedFrom: