- Раздел: Тесты фототехники
- Дата съёмки: 21.05.2007 21:55
- Дата загрузки фото: 30.06.2008 23:21
- Оригинальная фотография: 7240 x 5433 (9,0 Мб)
- Технические характеристики:
- Фотоаппарат: Phase One P45
- Выдержка: 1/500
- Диафрагма: 7,1
- Светочувствительность: 100
- Фокусное расстояние: 80,0mm
- Полный EXIF
- Adobe
- ColorTransform: YCbCr
- Composite
- Aperture: 7,1
- FocalLength35efl: 80,0mm
- LightValue: 14,6
- ShutterSpeed: 1/500
- ExifIFD
- ApertureValue: 7,1
- ColorSpace: sRGB
- CreateDate: 2007:05:18 13:44:07
- DateTimeOriginal: 2007:05:18 13:44:07
- ExifImageLength: 5433
- ExifImageWidth: 7240
- ExposureCompensation: 0
- ExposureProgram: Unknown (0)
- ExposureTime: 1/500
- FNumber: 7,1
- FocalLength: 80,0mm
- ISO: 100
- LightSource: Unknown (0)
- ShutterSpeedValue: 1/500
- WhiteBalance: Auto
- ICC-header
- ICC-meas
- ICC-view
- IFD0
- Make: Phase One A/S
- Model: P45
- ModifyDate: 2007:05:21 21:55:54
- Orientation: Horizontal (normal)
- TimeZoneOffset: 4 4
- IFD1
- IPTC
- XMP-aux
- XMP-crs
- AlreadyApplied: True
- BlueHue: 0
- BlueSaturation: 0
- Brightness: +50
- CameraProfile: Beta
- ChromaticAberrationB: 0
- ChromaticAberrationR: 0
- ColorNoiseReduction: 18
- Contrast: +25
- ConvertToGrayscale: False
- Exposure: 0.00
- FillLight: 0
- GreenHue: 0
- GreenSaturation: 0
- HasCrop: False
- HasSettings: True
- HighlightRecovery: 0
- HueAdjustmentAqua: 0
- HueAdjustmentBlue: 0
- HueAdjustmentGreen: 0
- HueAdjustmentMagenta: 0
- HueAdjustmentOrange: 0
- HueAdjustmentPurple: 0
- HueAdjustmentRed: 0
- HueAdjustmentYellow: 0
- LuminanceAdjustmentAqua: 0
- LuminanceAdjustmentBlue: 0
- LuminanceAdjustmentGreen: 0
- LuminanceAdjustmentMagenta: 0
- LuminanceAdjustmentOrange: 0
- LuminanceAdjustmentPurple: 0
- LuminanceAdjustmentRed: 0
- LuminanceAdjustmentYellow: 0
- LuminanceSmoothing: 0
- ParametricDarks: -8
- ParametricHighlightSplit: 75
- ParametricHighlights: 0
- ParametricLights: +18
- ParametricMidtoneSplit: 50
- ParametricShadowSplit: 25
- ParametricShadows: 0
- RawFileName: CF000475.TIF
- RedHue: 0
- RedSaturation: 0
- Saturation: +45
- SaturationAdjustmentAqua: 0
- SaturationAdjustmentBlue: 0
- SaturationAdjustmentGreen: 0
- SaturationAdjustmentMagenta: 0
- SaturationAdjustmentOrange: 0
- SaturationAdjustmentPurple: 0
- SaturationAdjustmentRed: 0
- SaturationAdjustmentYellow: 0
- ShadowTint: 0
- Shadows: 0
- Sharpness: 0
- SplitToningBalance: 0
- SplitToningHighlightHue: 0
- SplitToningHighlightSaturation: 0
- SplitToningShadowHue: 0
- SplitToningShadowSaturation: 0
- Temperature: 5500
- Tint: 0
- ToneCurve: 0, 0, 32, 22, 64, 56, 128, 128, 192, 196, 255, 255
- ToneCurveName: Medium Contrast
- Version: 4.0
- Vibrance: 0
- VignetteAmount: 0
- WhiteBalance: Custom
- XMP-dc
- XMP-exif
- DateTimeDigitized: 2007:05:18 13:44:07+04:00
- DateTimeOriginal: 2007:05:18 13:44:07+04:00
- XMP-tiff
- XMP-xmp
- CreateDate: 2007:05:21 21:55:54+04:00
- ModifyDate: 2007:05:21 21:55:54+04:00
- Rating: 0
- XMP-xmpMM
- DerivedFrom: