- Раздел: Друзья, встречи
- Дата съёмки: 12.07.2008 18:22
- Дата загрузки фото: 13.07.2008 03:02
- Оригинальная фотография: 3181 x 2552 (2,6 Мб)
- Технические характеристики:
- Фотоаппарат: Nikon D80
- Выдержка: 1/60
- Гиперфокальное расстояние: 5,75 m
- Диафрагма: 5,0
- Светочувствительность: 250
- Фокусное расстояние: 24,0mm (35mm эквивалент: 36,0mm)
- Экспокоррекция: +3
- Полный EXIF
- Adobe
- ColorTransform: YCbCr
- Composite
- Aperture: 5,0
- CircleOfConfusion: 0,020 mm
- FocalLength35efl: 24,0mm (35mm equivalent: 36,0mm)
- HyperfocalDistance: 5,75 m
- LightValue: 9,2
- ScaleFactor35efl: 1,5
- ShutterSpeed: 1/60
- ExifIFD
- ApertureValue: 5,0
- CFAPattern: [Green,Blue][Red,Green]
- Contrast: Low
- CreateDate: 2008:07:12 18:22:30
- CustomRendered: Normal
- DateTimeOriginal: 2008:07:12 18:22:30
- DigitalZoomRatio: 1
- ExposureCompensation: +3
- ExposureMode: Manual
- ExposureProgram: Manual
- ExposureTime: 1/60
- FNumber: 5,0
- Flash: No Flash
- FocalLength: 24,0mm
- FocalLengthIn35mmFormat: 36mm
- GainControl: None
- ISO: 250
- LightSource: Unknown (0)
- MaxApertureValue: 2,8
- MeteringMode: Multi-segment
- Saturation: Normal
- SceneCaptureType: Standard
- SceneType: Directly photographed
- SensingMethod: One-chip color area
- Sharpness: Normal
- ShutterSpeedValue: 1/60
- UserComment: Tsemenko Ilya ilya@topmods.net 80508
- WhiteBalance: Auto
- ICC-header
- ICC-meas
- ICC-view
- IFD0
- Make: NIKON CORPORATION
- Model: NIKON D80
- ModifyDate: 2008:07:13 00:38:54
- Software: Ver.1.10
- XMP-aux
- ImageNumber: 9004
- Lens: 24.0 mm f/2.8
- LensInfo: 240/10 240/10 28/10 28/10
- XMP-crs
- AlreadyApplied: True
- BlueHue: 0
- BlueSaturation: 0
- Brightness: +61
- CameraProfile: ACR 3.6
- ChromaticAberrationB: 0
- ChromaticAberrationR: 0
- Clarity: 0
- ColorNoiseReduction: 25
- Contrast: +44
- ConvertToGrayscale: False
- CropAngle: -0.605215
- CropBottom: 0.986211
- CropHeight: 2552
- CropLeft: 0.056458
- CropRight: 0.885047
- CropTop: 0.014712
- CropUnit: 0
- CropWidth: 3181
- Defringe: 0
- Exposure: 0.00
- FillLight: 0
- GreenHue: 0
- GreenSaturation: 0
- HasCrop: True
- HasSettings: True
- HighlightRecovery: 15
- HueAdjustmentAqua: 0
- HueAdjustmentBlue: 0
- HueAdjustmentGreen: 0
- HueAdjustmentMagenta: 0
- HueAdjustmentOrange: 0
- HueAdjustmentPurple: 0
- HueAdjustmentRed: 0
- HueAdjustmentYellow: 0
- LuminanceAdjustmentAqua: 0
- LuminanceAdjustmentBlue: 0
- LuminanceAdjustmentGreen: 0
- LuminanceAdjustmentMagenta: 0
- LuminanceAdjustmentOrange: 0
- LuminanceAdjustmentPurple: 0
- LuminanceAdjustmentRed: 0
- LuminanceAdjustmentYellow: 0
- LuminanceSmoothing: 0
- ParametricDarks: 0
- ParametricHighlightSplit: 75
- ParametricHighlights: 0
- ParametricLights: 0
- ParametricMidtoneSplit: 50
- ParametricShadowSplit: 25
- ParametricShadows: 0
- RedHue: 0
- RedSaturation: 0
- Saturation: 0
- SaturationAdjustmentAqua: 0
- SaturationAdjustmentBlue: 0
- SaturationAdjustmentGreen: 0
- SaturationAdjustmentMagenta: 0
- SaturationAdjustmentOrange: 0
- SaturationAdjustmentPurple: 0
- SaturationAdjustmentRed: 0
- SaturationAdjustmentYellow: 0
- ShadowTint: 0
- Shadows: 11
- SharpenDetail: 25
- SharpenEdgeMasking: 0
- SharpenRadius: +1.0
- Sharpness: 25
- SplitToningBalance: 0
- SplitToningHighlightHue: 0
- SplitToningHighlightSaturation: 0
- SplitToningShadowHue: 0
- SplitToningShadowSaturation: 0
- Temperature: 6450
- Tint: -3
- ToneCurve: 0, 0, 32, 22, 64, 56, 128, 128, 192, 196, 255, 255
- ToneCurveName: Medium Contrast
- Version: 1.0
- Vibrance: 0
- VignetteAmount: 0
- WhiteBalance: As Shot
- XMP-exif
- DateTimeDigitized: 2008:07:12 18:22:30.00+03:00
- DateTimeOriginal: 2008:07:12 18:22:30.00+03:00
- FlashFired: False
- FlashFunction: False
- FlashMode: Unknown
- FlashRedEyeMode: False
- FlashReturn: No return detection
- FocalLengthIn35mmFormat: 36
- SubjectDistanceRange: Unknown
- XMP-tiff
- ImageHeight: 2552
- ImageWidth: 3181
- XMP-xmp
- ModifyDate: 2008:07:13 00:38:54+03:00
- Просмотров: 464
- Рейтинг: голосов еще нет
- Отзывов: 2