- Раздел: Животные
- Дата съёмки: 15.07.2008 11:54
- Дата загрузки фото: 20.07.2008 20:41
- Оригинальная фотография: 2901 x 1916 (553 Кб)
- Технические характеристики:
- Фотоаппарат: Sony DSLR-A100
- Выдержка: 1/320
- Гиперфокальное расстояние: 1026,99 m
- Диафрагма: 6,3
- Светочувствительность: 100
- Фокусное расстояние: 360,0mm (35mm эквивалент: 540,0mm)
- Полный EXIF
- Adobe
- ColorTransform: YCbCr
- Composite
- Aperture: 6,3
- CircleOfConfusion: 0,020 mm
- FocalLength35efl: 360,0mm (35mm equivalent: 540,0mm)
- HyperfocalDistance: 1026,99 m
- LightValue: 13,6
- ScaleFactor35efl: 1,5
- ShutterSpeed: 1/320
- ExifIFD
- ApertureValue: 6,3
- BrightnessValue: 8,87
- Contrast: Normal
- CreateDate: 2008:07:15 00:00:00
- CustomRendered: Normal
- DateTimeOriginal: 2008:07:15 00:00:00
- DigitalZoomRatio: 0
- ExposureCompensation: 0
- ExposureMode: Auto
- ExposureProgram: Aperture-priority AE
- ExposureTime: 1/320
- FNumber: 6,3
- Flash: Off
- FocalLength: 360,0mm
- FocalLengthIn35mmFormat: 540mm
- GainControl: None
- ISO: 100
- LightSource: Unknown (0)
- MaxApertureValue: 6,3
- MeteringMode: Spot
- Saturation: Normal
- SceneCaptureType: Standard
- SceneType: Directly photographed
- Sharpness: Normal
- ShutterSpeedValue: 1/320
- SubjectLocation: 1936 1296 329 393
- WhiteBalance: Auto
- ICC-header
- ICC-meas
- ICC-view
- IFD0
- Copyright: Dmitry Rybas
- ImageDescription: Turkie 2008
- Make: SONY
- Model: DSLR-A100
- ModifyDate: 2008:07:20 20:37:46
- Software: DSLR-A100 v1.04
- IPTC
- Caption-Abstract: Turkie 2008
- CopyrightNotice: Dmitry Rybas
- Keywords: turkie2008
- Sub-location: Turkie
- XMP-crs
- AlreadyApplied: True
- BlueHue: 0
- BlueSaturation: 0
- Brightness: +67
- CameraProfile: ACR 4.4
- ChromaticAberrationB: 0
- ChromaticAberrationR: 0
- Clarity: 0
- ColorNoiseReduction: 25
- Contrast: 0
- ConvertToGrayscale: False
- CropAngle: -1.448257
- CropBottom: 0.886015
- CropHeight: 1916
- CropLeft: 0.191942
- CropRight: 0.953376
- CropTop: 0.175507
- CropUnit: 0
- CropWidth: 2901
- Defringe: 0
- Exposure: +0.60
- FillLight: 0
- GreenHue: 0
- GreenSaturation: 0
- HasCrop: True
- HasSettings: True
- HighlightRecovery: 100
- HueAdjustmentAqua: 0
- HueAdjustmentBlue: 0
- HueAdjustmentGreen: 0
- HueAdjustmentMagenta: 0
- HueAdjustmentOrange: 0
- HueAdjustmentPurple: 0
- HueAdjustmentRed: 0
- HueAdjustmentYellow: 0
- LuminanceAdjustmentAqua: 0
- LuminanceAdjustmentBlue: 0
- LuminanceAdjustmentGreen: 0
- LuminanceAdjustmentMagenta: 0
- LuminanceAdjustmentOrange: 0
- LuminanceAdjustmentPurple: 0
- LuminanceAdjustmentRed: 0
- LuminanceAdjustmentYellow: 0
- LuminanceSmoothing: 0
- ParametricDarks: 0
- ParametricHighlightSplit: 75
- ParametricHighlights: 0
- ParametricLights: 0
- ParametricMidtoneSplit: 50
- ParametricShadowSplit: 25
- ParametricShadows: 0
- RedHue: 0
- RedSaturation: 0
- Saturation: 0
- SaturationAdjustmentAqua: 0
- SaturationAdjustmentBlue: 0
- SaturationAdjustmentGreen: 0
- SaturationAdjustmentMagenta: 0
- SaturationAdjustmentOrange: 0
- SaturationAdjustmentPurple: 0
- SaturationAdjustmentRed: 0
- SaturationAdjustmentYellow: 0
- ShadowTint: 0
- Shadows: 13
- SharpenDetail: 25
- SharpenEdgeMasking: 0
- SharpenRadius: +1.0
- Sharpness: 25
- SplitToningBalance: 0
- SplitToningHighlightHue: 0
- SplitToningHighlightSaturation: 0
- SplitToningShadowHue: 0
- SplitToningShadowSaturation: 0
- Temperature: 4950
- Tint: +17
- ToneCurve: 0, 0, 32, 22, 64, 56, 128, 128, 192, 196, 255, 255
- ToneCurveName: Medium Contrast
- Version: 4.4
- Vibrance: 0
- VignetteAmount: 0
- WhiteBalance: As Shot
- XMP-dc
- Description: Turkie 2008
- Rights: Dmitry Rybas
- Subject: turkie2008
- XMP-exif
- DateTimeDigitized: 2008:07:15 11:54:51+04:00
- DateTimeOriginal: 2008:07:15 11:54:51+04:00
- FlashFired: False
- FlashFunction: False
- FlashMode: Off
- FlashRedEyeMode: False
- FlashReturn: No return detection
- FocalLengthIn35mmFormat: 540
- SubjectArea: 1936, 1296, 329, 393
- XMP-iptcCore
- CreatorContactInfoCiUrlWork: wrest.livejournal.com
- Location: Turkie
- XMP-tiff
- ImageHeight: 1916
- ImageWidth: 2901
- XMP-xmp
- Label: Red
- ModifyDate: 2008:07:20 20:37:46+04:00
- Rating: 2
- XMP-xmpRights
- Marked: True
- WebStatement: wrest.livejournal.com
- Просмотров: 1252
- Рейтинг: голосов еще нет
- Отзывов: 0