- Раздел: Цветы
- Дата съёмки: 27.07.2008 15:49
- Дата загрузки фото: 29.07.2008 12:49
- Оригинальная фотография: 3338 x 2235 (2,9 Мб)
- Технические характеристики:
- Фотоаппарат: Sony DSLR-A100
- Выдержка: 1/400
- Гиперфокальное расстояние: 393,14 m
- Диафрагма: 5,6
- Светочувствительность: 100
- Фокусное расстояние: 210,0mm (35mm эквивалент: 315,0mm)
- Полный EXIF
- Adobe
- ColorTransform: YCbCr
- Composite
- Aperture: 5,6
- CircleOfConfusion: 0,020 mm
- FocalLength35efl: 210,0mm (35mm equivalent: 315,0mm)
- HyperfocalDistance: 393,14 m
- LightValue: 13,6
- ScaleFactor35efl: 1,5
- ShutterSpeed: 1/400
- ExifIFD
- ApertureValue: 5,6
- BrightnessValue: 8,75
- Contrast: Normal
- CreateDate: 2008:07:27 00:00:00
- CustomRendered: Normal
- DateTimeOriginal: 2008:07:27 00:00:00
- DigitalZoomRatio: 0
- ExposureCompensation: 0
- ExposureMode: Auto
- ExposureProgram: Aperture-priority AE
- ExposureTime: 1/400
- FNumber: 5,6
- Flash: Off
- FocalLength: 210,0mm
- FocalLengthIn35mmFormat: 315mm
- GainControl: None
- ISO: 100
- LightSource: Shade
- MaxApertureValue: 4,0
- MeteringMode: Multi-segment
- Saturation: Normal
- SceneCaptureType: Standard
- SceneType: Directly photographed
- Sharpness: Normal
- ShutterSpeedValue: 1/400
- SubjectLocation: 1936 1296 329 393
- WhiteBalance: Manual
- ICC-header
- ICC-meas
- ICC-view
- IFD0
- Copyright: wrest.livejournal.com
- Make: SONY
- Model: DSLR-A100
- ModifyDate: 2008:07:29 12:46:46
- Software: DSLR-A100 v1.04
- IPTC
- CopyrightNotice: wrest.livejournal.com
- Keywords: kolomenskoe
- XMP-crs
- AlreadyApplied: True
- BlueHue: 0
- BlueSaturation: 0
- Brightness: +75
- CameraProfile: ACR 4.4
- ChromaticAberrationB: -26
- ChromaticAberrationR: +29
- Clarity: 100
- ColorNoiseReduction: 25
- Contrast: +64
- ConvertToGrayscale: False
- CropAngle: 0
- CropBottom: 0.86218
- CropHeight: 2235
- CropLeft: 0.13782
- CropRight: 1
- CropTop: 0
- CropUnit: 0
- CropWidth: 3338
- Defringe: 1
- Exposure: -0.10
- FillLight: 0
- GreenHue: 0
- GreenSaturation: 0
- HasCrop: True
- HasSettings: True
- HighlightRecovery: 100
- HueAdjustmentAqua: 0
- HueAdjustmentBlue: 0
- HueAdjustmentGreen: 0
- HueAdjustmentMagenta: 0
- HueAdjustmentOrange: 0
- HueAdjustmentPurple: 0
- HueAdjustmentRed: 0
- HueAdjustmentYellow: 0
- LuminanceAdjustmentAqua: 0
- LuminanceAdjustmentBlue: 0
- LuminanceAdjustmentGreen: 0
- LuminanceAdjustmentMagenta: 0
- LuminanceAdjustmentOrange: 0
- LuminanceAdjustmentPurple: 0
- LuminanceAdjustmentRed: 0
- LuminanceAdjustmentYellow: 0
- LuminanceSmoothing: 0
- ParametricDarks: 0
- ParametricHighlightSplit: 75
- ParametricHighlights: 0
- ParametricLights: 0
- ParametricMidtoneSplit: 50
- ParametricShadowSplit: 25
- ParametricShadows: 0
- RedHue: 0
- RedSaturation: 0
- Saturation: 0
- SaturationAdjustmentAqua: 0
- SaturationAdjustmentBlue: 0
- SaturationAdjustmentGreen: 0
- SaturationAdjustmentMagenta: 0
- SaturationAdjustmentOrange: 0
- SaturationAdjustmentPurple: 0
- SaturationAdjustmentRed: 0
- SaturationAdjustmentYellow: 0
- ShadowTint: 0
- Shadows: 14
- SharpenDetail: 55
- SharpenEdgeMasking: 0
- SharpenRadius: +1.0
- Sharpness: 48
- SplitToningBalance: 0
- SplitToningHighlightHue: 0
- SplitToningHighlightSaturation: 0
- SplitToningShadowHue: 0
- SplitToningShadowSaturation: 0
- Temperature: 5050
- Tint: +14
- ToneCurve: 0, 0, 32, 22, 64, 56, 128, 128, 192, 196, 255, 255
- ToneCurveName: Medium Contrast
- Version: 4.4
- Vibrance: 0
- VignetteAmount: 0
- WhiteBalance: Custom
- XMP-dc
- Description:
- Rights: wrest.livejournal.com
- Subject: kolomenskoe
- XMP-exif
- DateTimeDigitized: 2008:07:27 15:49:00+04:00
- DateTimeOriginal: 2008:07:27 15:49:00+04:00
- FlashFired: False
- FlashFunction: False
- FlashMode: Off
- FlashRedEyeMode: False
- FlashReturn: No return detection
- FocalLengthIn35mmFormat: 315
- SubjectArea: 1936, 1296, 329, 393
- XMP-tiff
- ImageHeight: 2235
- ImageWidth: 3338
- XMP-xmp
- ModifyDate: 2008:07:29 12:46:46+04:00
- Rating: 2
- XMP-xmpRights
- Просмотров: 527
- Рейтинг: голосов еще нет
- Отзывов: 0