- Раздел: Природа
- Дата съёмки: 01.08.2008 16:33
- Дата загрузки фото: 05.08.2008 16:36
- Оригинальная фотография: 5373 x 3692 (2,7 Мб)
- Технические характеристики:
- Фотоаппарат: Sony DSLR-A100
- Выдержка: 1/200
- Гиперфокальное расстояние: 2,88 m
- Диафрагма: 10,0
- Светочувствительность: 100
- Фокусное расстояние: 24,0mm (35mm эквивалент: 36,0mm)
- Экспокоррекция: 0,7
- Полный EXIF
- Adobe
- ColorTransform: YCbCr
- Composite
- Aperture: 10,0
- CircleOfConfusion: 0,020 mm
- FocalLength35efl: 24,0mm (35mm equivalent: 36,0mm)
- HyperfocalDistance: 2,88 m
- LightValue: 14,3
- ScaleFactor35efl: 1,5
- ShutterSpeed: 1/200
- ExifIFD
- ApertureValue: 10,0
- BrightnessValue: 10
- ColorSpace: sRGB
- Contrast: Normal
- CreateDate: 2008:08:01 16:33:07
- CustomRendered: Normal
- DateTimeOriginal: 2008:08:01 16:33:07
- DigitalZoomRatio: 0
- ExifImageLength: 3692
- ExifImageWidth: 5373
- ExposureCompensation: 0,7
- ExposureMode: Auto bracket
- ExposureProgram: Program AE
- ExposureTime: 1/200
- FNumber: 10,0
- Flash: Off
- FocalLength: 24,0mm
- FocalLengthIn35mmFormat: 36mm
- GainControl: None
- ISO: 100
- LightSource: Unknown (0)
- MaxApertureValue: 4,0
- MeteringMode: Center-weighted average
- Saturation: Normal
- SceneCaptureType: Standard
- SceneType: Directly photographed
- Sharpness: Normal
- ShutterSpeedValue: 1/200
- SubjectLocation: 2721 982 329 393
- WhiteBalance: Auto
- ICC-header
- ICC-meas
- ICC-view
- IFD0
- ImageDescription: SONY DSC
- Make: SONY
- Model: DSLR-A100
- ModifyDate: 2008:08:05 14:47:20
- Orientation: Horizontal (normal)
- TimeZoneOffset: 4 4
- IFD1
- IPTC
- Caption-Abstract: SONY DSC
- XMP-crs
- AlreadyApplied: True
- BlueHue: 0
- BlueSaturation: 0
- Brightness: +80
- CameraProfile: ACR 3.5
- ChromaticAberrationB: 0
- ChromaticAberrationR: 0
- ColorNoiseReduction: 25
- Contrast: +37
- ConvertToGrayscale: False
- CropAngle: -0.030743
- CropBottom: 0.994704
- CropHeight: 3
- CropLeft: 0.012071
- CropRight: 0.997389
- CropTop: 0.014582
- CropUnit: 3
- CropWidth: 2
- Exposure: +0.75
- FillLight: 0
- GreenHue: 0
- GreenSaturation: 0
- HasCrop: True
- HasSettings: True
- HighlightRecovery: 100
- HueAdjustmentAqua: +28
- HueAdjustmentBlue: +5
- HueAdjustmentGreen: +22
- HueAdjustmentMagenta: 0
- HueAdjustmentOrange: 0
- HueAdjustmentPurple: -100
- HueAdjustmentRed: 0
- HueAdjustmentYellow: 0
- LuminanceAdjustmentAqua: +100
- LuminanceAdjustmentBlue: -67
- LuminanceAdjustmentGreen: 0
- LuminanceAdjustmentMagenta: 0
- LuminanceAdjustmentOrange: 0
- LuminanceAdjustmentPurple: 0
- LuminanceAdjustmentRed: 0
- LuminanceAdjustmentYellow: 0
- LuminanceSmoothing: 0
- ParametricDarks: 0
- ParametricHighlightSplit: 75
- ParametricHighlights: 0
- ParametricLights: 0
- ParametricMidtoneSplit: 50
- ParametricShadowSplit: 25
- ParametricShadows: 0
- RawFileName: DSC09632.ARW
- RedHue: 0
- RedSaturation: 0
- Saturation: +38
- SaturationAdjustmentAqua: -14
- SaturationAdjustmentBlue: +46
- SaturationAdjustmentGreen: -6
- SaturationAdjustmentMagenta: -91
- SaturationAdjustmentOrange: 0
- SaturationAdjustmentPurple: +100
- SaturationAdjustmentRed: 0
- SaturationAdjustmentYellow: +6
- ShadowTint: 0
- Shadows: 5
- Sharpness: 66
- SplitToningBalance: 0
- SplitToningHighlightHue: 0
- SplitToningHighlightSaturation: 0
- SplitToningShadowHue: 0
- SplitToningShadowSaturation: 0
- Temperature: 5100
- Tint: +3
- ToneCurve: 0, 0, 32, 22, 64, 56, 128, 128, 192, 196, 255, 255
- ToneCurveName: Medium Contrast
- Version: 4.0
- Vibrance: +23
- VignetteAmount: 0
- WhiteBalance: Custom
- XMP-dc
- Description: SONY DSC
- Format: image/jpeg
- XMP-exif
- DateTimeDigitized: 2008:08:01 16:33:07+04:00
- DateTimeOriginal: 2008:08:01 16:33:07+04:00
- FlashFired: False
- FlashFunction: False
- FlashMode: Off
- FlashRedEyeMode: False
- FlashReturn: No return detection
- FocalLengthIn35mmFormat: 36
- SubjectArea: 2721, 982, 329, 393
- XMP-tiff
- ImageHeight: 3362
- ImageWidth: 5043
- XMP-xmp
- CreateDate: 2008:08:01 16:33:07+04:00
- ModifyDate: 2008:08:05 14:47:20+04:00
- XMP-xmpMM