- Раздел: Хобби
- Дата съёмки: 03.08.2008 12:40
- Дата загрузки фото: 06.08.2008 13:52
- Оригинальная фотография: 531 x 700 (189 Кб)
- Технические характеристики:
- Фотоаппарат: FujiFilm FinePix S3Pro
- Выдержка: 1/45
- Гиперфокальное расстояние: 11,02 m
- Диафрагма: 5,6
- Светочувствительность: 100
- Фокусное расстояние: 35,0mm (35mm эквивалент: 53,0mm)
- Полный EXIF
- Adobe
- ColorTransform: YCbCr
- Composite
- Aperture: 5,6
- CircleOfConfusion: 0,020 mm
- FocalLength35efl: 35,0mm (35mm equivalent: 53,0mm)
- HyperfocalDistance: 11,02 m
- LightValue: 10,5
- ScaleFactor35efl: 1,5
- ShutterSpeed: 1/45
- ExifIFD
- ApertureValue: 5,6
- BrightnessValue: 5,5
- ColorSpace: sRGB
- CreateDate: 2008:07:27 17:04:58
- CustomRendered: Custom
- DateTimeOriginal: 2008:07:27 17:04:58
- ExifImageLength: 700
- ExifImageWidth: 531
- ExposureCompensation: 0
- ExposureMode: Auto
- ExposureProgram: Aperture-priority AE
- ExposureTime: 1/45
- FNumber: 5,6
- Flash: No Flash
- FocalLength: 35,0mm
- FocalLengthIn35mmFormat: 53mm
- ISO: 100
- LightSource: Daylight
- MaxApertureValue: 2,8
- MeteringMode: Center-weighted average
- SceneCaptureType: Standard
- SceneType: Directly photographed
- SensingMethod: One-chip color area
- ShutterSpeedValue: 1/45
- WhiteBalance: Manual
- ICC-header
- ICC-meas
- ICC-view
- IFD0
- Make: FUJIFILM
- Model: FinePix S3Pro
- ModifyDate: 2008:08:03 12:40:06
- Orientation: Horizontal (normal)
- IFD1
- IPTC
- XMP-aux
- Lens: 35.0-70.0 mm f/2.8
- LensInfo: 3500/100 7000/100 280/100 280/100
- XMP-crs
- AlreadyApplied: True
- BlueHue: 0
- BlueSaturation: 0
- Brightness: +50
- CameraProfile: ACR 4.4
- ChromaticAberrationB: 0
- ChromaticAberrationR: 0
- Clarity: 0
- ColorNoiseReduction: 25
- Contrast: +25
- ConvertToGrayscale: False
- CropAngle: 0
- CropBottom: 1
- CropLeft: 0
- CropRight: 0.878425
- CropTop: 0.005115
- Defringe: 0
- Exposure: -0.40
- FillLight: 0
- GreenHue: 0
- GreenSaturation: 0
- HasCrop: True
- HasSettings: True
- HighlightRecovery: 65
- HueAdjustmentAqua: 0
- HueAdjustmentBlue: 0
- HueAdjustmentGreen: 0
- HueAdjustmentMagenta: 0
- HueAdjustmentOrange: 0
- HueAdjustmentPurple: 0
- HueAdjustmentRed: 0
- HueAdjustmentYellow: 0
- LuminanceAdjustmentAqua: 0
- LuminanceAdjustmentBlue: 0
- LuminanceAdjustmentGreen: 0
- LuminanceAdjustmentMagenta: 0
- LuminanceAdjustmentOrange: 0
- LuminanceAdjustmentPurple: 0
- LuminanceAdjustmentRed: 0
- LuminanceAdjustmentYellow: 0
- LuminanceSmoothing: 0
- ParametricDarks: 0
- ParametricHighlightSplit: 75
- ParametricHighlights: 0
- ParametricLights: 0
- ParametricMidtoneSplit: 50
- ParametricShadowSplit: 25
- ParametricShadows: 0
- PostCropVignetteAmount: 0
- RawFileName: DSCF2470.RAF
- RedHue: 0
- RedSaturation: 0
- Saturation: 0
- SaturationAdjustmentAqua: 0
- SaturationAdjustmentBlue: 0
- SaturationAdjustmentGreen: 0
- SaturationAdjustmentMagenta: 0
- SaturationAdjustmentOrange: 0
- SaturationAdjustmentPurple: 0
- SaturationAdjustmentRed: 0
- SaturationAdjustmentYellow: 0
- ShadowTint: 0
- Shadows: 5
- SharpenDetail: 25
- SharpenEdgeMasking: 0
- SharpenRadius: +1.0
- Sharpness: 25
- SplitToningBalance: 0
- SplitToningHighlightHue: 0
- SplitToningHighlightSaturation: 0
- SplitToningShadowHue: 0
- SplitToningShadowSaturation: 0
- Temperature: 4800
- Tint: +2
- ToneCurve: 0, 0, 32, 22, 64, 56, 128, 128, 192, 196, 255, 255
- ToneCurveName: Medium Contrast
- Version: 4.5
- Vibrance: 0
- VignetteAmount: 0
- WhiteBalance: As Shot
- XMP-dc
- XMP-exif
- DateTimeDigitized: 2008:07:27 17:04:58+12:00
- DateTimeOriginal: 2008:07:27 17:04:58+12:00
- FlashFired: False
- FlashFunction: False
- FlashMode: Unknown
- FlashRedEyeMode: False
- FlashReturn: No return detection
- FocalLengthIn35mmFormat: 53
- SubjectDistanceRange: Unknown
- XMP-tiff
- XMP-xmp
- CreateDate: 2008:08:03 12:40:06+12:00
- ModifyDate: 2008:08:03 12:40:06+12:00
- Rating: 0
- XMP-xmpMM
- DerivedFrom:
- Просмотров: 159
- Рейтинг: голосов еще нет
- Отзывов: 0