- Раздел: Другое, разное
- Дата съёмки: неизвестно
- Дата загрузки фото: 09.08.2008 09:27
- Оригинальная фотография: 2029 x 926 (944 Кб)
- Технические характеристики:
- Фотоаппарат: Olympus C4040Z
- Выдержка: 6,0
- Диафрагма: 8,0
- Светочувствительность: 100
- Фокусное расстояние: 21,0mm
- Полный EXIF
- Adobe
- ColorTransform: YCbCr
- Composite
- Aperture: 8,0
- FocalLength35efl: 21,0mm
- LightValue: 3,4
- ShutterSpeed: 6,0
- ExifIFD
- ApertureValue: 8,0
- ExposureCompensation: 0
- ExposureProgram: Manual
- ExposureTime: 6,0
- FNumber: 8,0
- Flash: No Flash
- FocalLength: 21,0mm
- ISO: 100
- LightSource: Unknown (0)
- MaxApertureValue: 2,6
- MeteringMode: Multi-segment
- SceneType: Directly photographed
- ShutterSpeedValue: 6,0
- ICC-header
- ICC-meas
- ICC-view
- IFD0
- ImageDescription: OLYMPUS DIGITAL CAMERA
- Make: OLYMPUS OPTICAL CO.,LTD
- Model: C4040Z
- ModifyDate: 2008:08:09 08:20:27
- Software: v552u-A79
- IPTC
- Caption-Abstract: OLYMPUS DIGITAL CAMERA
- XMP-crs
- AlreadyApplied: True
- BlueHue: 0
- BlueSaturation: 0
- Brightness: +73
- CameraProfile: Embedded
- ChromaticAberrationB: 0
- ChromaticAberrationR: 0
- Clarity: 100
- ColorNoiseReduction: 100
- Contrast: 0
- ConvertToGrayscale: False
- CropAngle: -1.353858
- CropBottom: 0.910387
- CropHeight: 926
- CropLeft: 0.013141
- CropRight: 0.915392
- CropTop: 0.394912
- CropUnit: 0
- CropWidth: 2029
- Defringe: 0
- Exposure: -1.14
- FillLight: 0
- GreenHue: 0
- GreenSaturation: 0
- HasCrop: True
- HasSettings: True
- HighlightRecovery: 76
- HueAdjustmentAqua: 0
- HueAdjustmentBlue: 0
- HueAdjustmentGreen: 0
- HueAdjustmentMagenta: 0
- HueAdjustmentOrange: 0
- HueAdjustmentPurple: 0
- HueAdjustmentRed: 0
- HueAdjustmentYellow: 0
- IncrementalTemperature: 0
- IncrementalTint: 0
- LuminanceAdjustmentAqua: 0
- LuminanceAdjustmentBlue: 0
- LuminanceAdjustmentGreen: 0
- LuminanceAdjustmentMagenta: 0
- LuminanceAdjustmentOrange: 0
- LuminanceAdjustmentPurple: 0
- LuminanceAdjustmentRed: 0
- LuminanceAdjustmentYellow: 0
- LuminanceSmoothing: 100
- ParametricDarks: 0
- ParametricHighlightSplit: 75
- ParametricHighlights: 0
- ParametricLights: 0
- ParametricMidtoneSplit: 50
- ParametricShadowSplit: 25
- ParametricShadows: 0
- RedHue: 0
- RedSaturation: 0
- Saturation: 0
- SaturationAdjustmentAqua: 0
- SaturationAdjustmentBlue: 0
- SaturationAdjustmentGreen: 0
- SaturationAdjustmentMagenta: 0
- SaturationAdjustmentOrange: 0
- SaturationAdjustmentPurple: 0
- SaturationAdjustmentRed: 0
- SaturationAdjustmentYellow: 0
- ShadowTint: 0
- Shadows: 3
- SharpenDetail: 25
- SharpenEdgeMasking: 0
- SharpenRadius: +1.0
- Sharpness: 0
- SplitToningBalance: 0
- SplitToningHighlightHue: 0
- SplitToningHighlightSaturation: 0
- SplitToningShadowHue: 0
- SplitToningShadowSaturation: 0
- ToneCurve: 0, 0, 255, 255
- ToneCurveName: Linear
- Version: 1.0
- Vibrance: 0
- VignetteAmount: 0
- WhiteBalance: As Shot
- XMP-dc
- Description: OLYMPUS DIGITAL CAMERA
- XMP-exif
- FlashFired: False
- FlashFunction: False
- FlashMode: Unknown
- FlashRedEyeMode: False
- FlashReturn: No return detection
- XMP-tiff
- ImageHeight: 926
- ImageWidth: 2029
- XMP-xmp
- ModifyDate: 2008:08:09 08:20:27+03:00
- Просмотров: 232
- Рейтинг: голосов еще нет
- Отзывов: 0