- Раздел: Животные
- Дата съёмки: 03.09.2008 12:25
- Дата загрузки фото: 09.08.2008 16:31
- Оригинальная фотография: 4096 x 2731 (2,3 Мб)
- Технические характеристики:
- Фотоаппарат: Canon EOS-1D Mark II
- Выдержка: 1/2000
- Гиперфокальное расстояние: 509,73 m
- Диафрагма: 2,8
- Светочувствительность: 100
- Фокусное расстояние: 200,0mm (35mm эквивалент: 214,4mm)
- Полный EXIF
- Adobe
- ColorTransform: YCbCr
- Composite
- Aperture: 2,8
- CircleOfConfusion: 0,028 mm
- FocalLength35efl: 200,0mm (35mm equivalent: 214,4mm)
- HyperfocalDistance: 509,73 m
- LightValue: 13,9
- ScaleFactor35efl: 1,1
- ShutterSpeed: 1/2000
- ExifIFD
- ApertureValue: 2,8
- CreateDate: 2008:09:03 12:25:22
- CustomRendered: Normal
- DateTimeOriginal: 2008:09:03 12:25:22
- ExposureCompensation: 0
- ExposureMode: Auto
- ExposureProgram: Aperture-priority AE
- ExposureTime: 1/2000
- FNumber: 2,8
- Flash: Off
- FocalLength: 200,0mm
- ISO: 100
- MaxApertureValue: 2,8
- MeteringMode: Multi-segment
- SceneCaptureType: Standard
- ShutterSpeedValue: 1/2000
- WhiteBalance: Auto
- ICC-header
- ICC-meas
- ICC-view
- IFD0
- Artist: Romas
- Make: Canon
- Model: Canon EOS-1D Mark II
- ModifyDate: 2008:08:08 16:15:39
- IPTC
- By-line: Romas
- XMP-aux
- Firmware: 1.2.6
- FlashCompensation: 0
- ImageNumber: 45025
- Lens: 80.0-200.0 mm
- LensInfo: 80/1 200/1 0/0 0/0
- OwnerName: Romas
- SerialNumber: 227438
- XMP-crs
- AlreadyApplied: True
- BlueHue: 0
- BlueSaturation: 0
- Brightness: +50
- CameraProfile: ACR 4.4
- ChromaticAberrationB: 0
- ChromaticAberrationR: 0
- Clarity: 0
- ColorNoiseReduction: 4
- Contrast: +25
- ConvertToGrayscale: False
- Defringe: 0
- Exposure: 0.00
- FillLight: 0
- GreenHue: 0
- GreenSaturation: 0
- HasCrop: False
- HasSettings: True
- HighlightRecovery: 21
- HueAdjustmentAqua: 0
- HueAdjustmentBlue: 0
- HueAdjustmentGreen: 0
- HueAdjustmentMagenta: 0
- HueAdjustmentOrange: 0
- HueAdjustmentPurple: 0
- HueAdjustmentRed: 0
- HueAdjustmentYellow: 0
- LuminanceAdjustmentAqua: 0
- LuminanceAdjustmentBlue: 0
- LuminanceAdjustmentGreen: 0
- LuminanceAdjustmentMagenta: 0
- LuminanceAdjustmentOrange: 0
- LuminanceAdjustmentPurple: 0
- LuminanceAdjustmentRed: 0
- LuminanceAdjustmentYellow: 0
- LuminanceSmoothing: 0
- ParametricDarks: 0
- ParametricHighlightSplit: 75
- ParametricHighlights: 0
- ParametricLights: 0
- ParametricMidtoneSplit: 50
- ParametricShadowSplit: 25
- ParametricShadows: 0
- PostCropVignetteAmount: 0
- RawFileName: 039.CR2
- RedHue: 0
- RedSaturation: 0
- Saturation: 0
- SaturationAdjustmentAqua: 0
- SaturationAdjustmentBlue: 0
- SaturationAdjustmentGreen: 0
- SaturationAdjustmentMagenta: 0
- SaturationAdjustmentOrange: 0
- SaturationAdjustmentPurple: 0
- SaturationAdjustmentRed: 0
- SaturationAdjustmentYellow: 0
- ShadowTint: 0
- Shadows: 0
- SharpenDetail: 80
- SharpenEdgeMasking: 0
- SharpenRadius: +0.8
- Sharpness: 25
- SplitToningBalance: 0
- SplitToningHighlightHue: 0
- SplitToningHighlightSaturation: 0
- SplitToningShadowHue: 0
- SplitToningShadowSaturation: 0
- Temperature: 4650
- Tint: -6
- ToneCurve: 0, 0, 32, 22, 64, 56, 128, 128, 192, 196, 255, 255
- ToneCurveName: Medium Contrast
- Version: 4.5
- Vibrance: 0
- VignetteAmount: 0
- WhiteBalance: As Shot
- XMP-dc
- XMP-exif
- DateTimeDigitized: 2008:09:03 12:25:22+03:00
- DateTimeOriginal: 2008:09:03 12:25:22+03:00
- ExifImageLength: 2731
- ExifImageWidth: 4096
- FlashFired: False
- FlashFunction: False
- FlashMode: Off
- FlashRedEyeMode: False
- FlashReturn: No return detection
- XMP-tiff
- ImageHeight: 2731
- ImageWidth: 4096
- XMP-xmp
- CreateDate: 2008:09:03 12:25:22+03:00
- ModifyDate: 2008:08:08 16:15:39+03:00
- Просмотров: 767
- Рейтинг: голосов еще нет
- Отзывов: 0