- Раздел: Другое, разное
- Дата съёмки: 13.08.2008 01:03
- Дата загрузки фото: 13.08.2008 02:58
- Оригинальная фотография: 2012 x 2396 (1,8 Мб)
- Технические характеристики:
- Фотоаппарат: Nikon D200
- Выдержка: 1/200
- Гиперфокальное расстояние: 15,14 m
- Диафрагма: 4,0
- Светочувствительность: 400
- Фокусное расстояние: 35,0mm (35mm эквивалент: 52,0mm)
- Экспокоррекция: +1/3
- Полный EXIF
- Adobe
- ColorTransform: YCbCr
- Composite
- Aperture: 4,0
- CircleOfConfusion: 0,020 mm
- FocalLength35efl: 35,0mm (35mm equivalent: 52,0mm)
- HyperfocalDistance: 15,14 m
- LightValue: 9,6
- ScaleFactor35efl: 1,5
- ShutterSpeed: 1/200
- ExifIFD
- ApertureValue: 4,0
- CFAPattern: [Green,Red][Blue,Green]
- Contrast: High
- CreateDate: 2008:08:13 01:03:49
- CustomRendered: Normal
- DateTimeOriginal: 2008:08:13 01:03:49
- DigitalZoomRatio: 1
- ExposureCompensation: +1/3
- ExposureMode: Manual
- ExposureProgram: Manual
- ExposureTime: 1/200
- FNumber: 4,0
- Flash: Fired, Return not detected
- FocalLength: 35,0mm
- FocalLengthIn35mmFormat: 52mm
- GainControl: Low gain up
- ISO: 400
- LightSource: Unknown (0)
- MaxApertureValue: 1,0
- MeteringMode: Multi-segment
- Saturation: Normal
- SceneCaptureType: Standard
- SceneType: Directly photographed
- SensingMethod: One-chip color area
- Sharpness: Hard
- ShutterSpeedValue: 1/200
- UserComment: ILYA_MGP@MAIL.RU;ICQ:86080981 (C)TiN
- WhiteBalance: Auto
- ICC-header
- ICC-meas
- ICC-view
- IFD0
- Make: NIKON CORPORATION
- Model: NIKON D200
- ModifyDate: 2008:08:13 01:39:11
- Software: Ver.2.00
- XMP-aux
- ImageNumber: 12330
- Lens: 0.0 mm f/0.0
- LensInfo: 0/10 0/10 0/10 0/10
- XMP-crs
- AlreadyApplied: True
- BlueHue: 0
- BlueSaturation: 0
- Brightness: +4
- CameraProfile: ACR 3.3
- ChromaticAberrationB: 0
- ChromaticAberrationR: 0
- Clarity: +100
- ColorNoiseReduction: 25
- Contrast: +71
- ConvertToGrayscale: True
- CropAngle: 4.79715
- CropBottom: 0.986216
- CropHeight: 2396
- CropLeft: 0.194398
- CropRight: 0.660486
- CropTop: 0
- CropUnit: 0
- CropWidth: 2012
- Defringe: 0
- Exposure: +1.52
- FillLight: 12
- GrayMixerAqua: -20
- GrayMixerBlue: +6
- GrayMixerGreen: -25
- GrayMixerMagenta: +6
- GrayMixerOrange: -15
- GrayMixerPurple: +14
- GrayMixerRed: -5
- GrayMixerYellow: -19
- GreenHue: 0
- GreenSaturation: 0
- HasCrop: True
- HasSettings: True
- HighlightRecovery: 100
- LuminanceSmoothing: 0
- ParametricDarks: 0
- ParametricHighlightSplit: 75
- ParametricHighlights: 0
- ParametricLights: 0
- ParametricMidtoneSplit: 50
- ParametricShadowSplit: 25
- ParametricShadows: 0
- PostCropVignetteAmount: 0
- RedHue: 0
- RedSaturation: 0
- ShadowTint: 0
- Shadows: 68
- SharpenDetail: 25
- SharpenEdgeMasking: 0
- SharpenRadius: +1.0
- Sharpness: 25
- SplitToningBalance: 0
- SplitToningHighlightHue: 0
- SplitToningHighlightSaturation: 0
- SplitToningShadowHue: 0
- SplitToningShadowSaturation: 0
- Temperature: 50000
- Tint: -50
- ToneCurve: 0, 0, 32, 22, 64, 56, 128, 128, 192, 196, 255, 255
- ToneCurveName: Medium Contrast
- Version: 4.5
- VignetteAmount: 0
- WhiteBalance: Custom
- XMP-exif
- DateTimeDigitized: 2008:08:13 01:03:49.64+03:00
- DateTimeOriginal: 2008:08:13 01:03:49.64+03:00
- ExifImageLength: 2396
- ExifImageWidth: 2012
- FlashFired: True
- FlashFunction: False
- FlashMode: Unknown
- FlashRedEyeMode: False
- FlashReturn: Return not detected
- FocalLengthIn35mmFormat: 52
- SubjectDistanceRange: Unknown
- XMP-tiff
- ImageHeight: 2396
- ImageWidth: 2012
- XMP-xmp
- CreateDate: 2008:08:13 01:03:49.64+03:00
- ModifyDate: 2008:08:13 01:39:11+03:00
- Просмотров: 204
- Рейтинг: голосов еще нет
- Отзывов: 0