- Раздел: Портрет
- Дата съёмки: 14.08.2008 11:18
- Дата загрузки фото: 14.08.2008 18:29
- Оригинальная фотография: 3072 x 2048 (2,9 Мб)
- Технические характеристики:
- Фотоаппарат: Canon EOS 10D
- Выдержка: 1/160
- Диафрагма: 9,0
- Светочувствительность: 100
- Фокусное расстояние: 34,0mm
- Экспокоррекция: +2/3
- Полный EXIF
- Adobe
- ColorTransform: YCbCr
- Composite
- Aperture: 9,0
- FocalLength35efl: 34,0mm
- LightValue: 13,7
- ShutterSpeed: 1/160
- ExifIFD
- ApertureValue: 9,0
- CreateDate: 2008:08:14 11:18:34
- DateTimeOriginal: 2008:08:14 11:18:34
- ExposureCompensation: +2/3
- ExposureProgram: Program AE
- ExposureTime: 1/160
- FNumber: 9,0
- Flash: No Flash
- FocalLength: 34,0mm
- ISO: 100
- MaxApertureValue: 4,0
- MeteringMode: Multi-segment
- ShutterSpeedValue: 1/160
- ICC-header
- ICC-meas
- ICC-view
- IFD0
- Make: Canon
- Model: Canon EOS 10D
- ModifyDate: 2008:08:14 15:56:54
- TimeZoneOffset: 4 4
- XMP-aux
- Firmware: 2.0.1
- Lens: 17.0-40.0 mm
- LensInfo: 17/1 40/1 0/0 0/0
- SerialNumber: 1720511286
- XMP-crs
- AlreadyApplied: True
- BlueHue: 0
- BlueSaturation: 0
- Brightness: +50
- CameraProfile: ACR 2.4
- ChromaticAberrationB: 0
- ChromaticAberrationR: 0
- Clarity: 0
- ColorNoiseReduction: 25
- Contrast: +25
- ConvertToGrayscale: False
- Defringe: 0
- Exposure: 0.00
- FillLight: 0
- GreenHue: 0
- GreenSaturation: 0
- HasCrop: False
- HasSettings: True
- HighlightRecovery: 100
- HueAdjustmentAqua: 0
- HueAdjustmentBlue: 0
- HueAdjustmentGreen: 0
- HueAdjustmentMagenta: 0
- HueAdjustmentOrange: 0
- HueAdjustmentPurple: 0
- HueAdjustmentRed: 0
- HueAdjustmentYellow: 0
- LuminanceAdjustmentAqua: 0
- LuminanceAdjustmentBlue: 0
- LuminanceAdjustmentGreen: 0
- LuminanceAdjustmentMagenta: 0
- LuminanceAdjustmentOrange: 0
- LuminanceAdjustmentPurple: 0
- LuminanceAdjustmentRed: 0
- LuminanceAdjustmentYellow: 0
- LuminanceSmoothing: 0
- ParametricDarks: 0
- ParametricHighlightSplit: 75
- ParametricHighlights: 0
- ParametricLights: 0
- ParametricMidtoneSplit: 50
- ParametricShadowSplit: 25
- ParametricShadows: 0
- RedHue: 0
- RedSaturation: 0
- Saturation: 0
- SaturationAdjustmentAqua: 0
- SaturationAdjustmentBlue: 0
- SaturationAdjustmentGreen: 0
- SaturationAdjustmentMagenta: 0
- SaturationAdjustmentOrange: 0
- SaturationAdjustmentPurple: 0
- SaturationAdjustmentRed: 0
- SaturationAdjustmentYellow: 0
- ShadowTint: 0
- Shadows: 16
- SharpenDetail: 25
- SharpenEdgeMasking: 0
- SharpenRadius: +1.0
- Sharpness: 25
- SplitToningBalance: 0
- SplitToningHighlightHue: 0
- SplitToningHighlightSaturation: 0
- SplitToningShadowHue: 0
- SplitToningShadowSaturation: 0
- Temperature: 6300
- Tint: +27
- ToneCurve: 0, 0, 32, 22, 64, 56, 128, 128, 192, 196, 255, 255
- ToneCurveName: Medium Contrast
- Version: 1.0
- Vibrance: 0
- VignetteAmount: 0
- WhiteBalance: As Shot
- XMP-exif
- DateTimeDigitized: 2008:08:14 11:18:34+04:00
- DateTimeOriginal: 2008:08:14 11:18:34+04:00
- FlashFired: False
- XMP-tiff
- ImageHeight: 2048
- ImageWidth: 3072
- XMP-xmp
- ModifyDate: 2008:08:14 15:56:54+04:00
- Просмотров: 1245
- Рейтинг: голосов еще нет
- Отзывов: 0