- Раздел: Другое, разное
- Дата съёмки: 23.08.2008 02:52
- Дата загрузки фото: 23.08.2008 17:35
- Оригинальная фотография: 3872 x 2592 (1,9 Мб)
- Технические характеристики:
- Фотоаппарат: Nikon D200
- Выдержка: 1/80
- Гиперфокальное расстояние: 11,36 m
- Диафрагма: 4,5
- Светочувствительность: 200
- Фокусное расстояние: 32,0mm (35mm эквивалент: 48,0mm)
- Полный EXIF
- Adobe
- ColorTransform: YCbCr
- Composite
- Aperture: 4,5
- CircleOfConfusion: 0,020 mm
- FocalLength35efl: 32,0mm (35mm equivalent: 48,0mm)
- HyperfocalDistance: 11,36 m
- LightValue: 9,7
- ScaleFactor35efl: 1,5
- ShutterSpeed: 1/80
- ExifIFD
- ApertureValue: 4,5
- CFAPattern: [Green,Red][Blue,Green]
- Contrast: Normal
- CreateDate: 2008:08:23 02:52:44
- CustomRendered: Normal
- DateTimeOriginal: 2008:08:23 02:52:44
- DigitalZoomRatio: 1
- ExposureCompensation: 0
- ExposureMode: Manual
- ExposureProgram: Manual
- ExposureTime: 1/80
- FNumber: 4,5
- Flash: No Flash
- FocalLength: 32,0mm
- FocalLengthIn35mmFormat: 48mm
- GainControl: None
- ISO: 200
- LightSource: Unknown (0)
- MaxApertureValue: 4,4
- MeteringMode: Multi-segment
- Saturation: Normal
- SceneCaptureType: Standard
- SceneType: Directly photographed
- SensingMethod: One-chip color area
- Sharpness: Normal
- ShutterSpeedValue: 1/80
- WhiteBalance: Auto
- ICC-header
- ICC-meas
- ICC-view
- IFD0
- Make: NIKON CORPORATION
- Model: NIKON D200
- ModifyDate: 2008:08:23 16:33:57
- Software: Ver.1.00
- XMP-aux
- ImageNumber: 16951
- Lens: 18.0-55.0 mm f/3.5-5.6
- LensInfo: 180/10 550/10 35/10 56/10
- XMP-crs
- AlreadyApplied: True
- BlueHue: 0
- BlueSaturation: 0
- Brightness: 0
- CameraProfile: Embedded
- ChromaticAberrationB: 0
- ChromaticAberrationR: 0
- Clarity: +21
- ColorNoiseReduction: 100
- Contrast: -16
- ConvertToGrayscale: False
- Defringe: 0
- Exposure: +0.10
- FillLight: 12
- GreenHue: 0
- GreenSaturation: 0
- HasCrop: False
- HasSettings: True
- HighlightRecovery: 48
- HueAdjustmentAqua: 0
- HueAdjustmentBlue: 0
- HueAdjustmentGreen: 0
- HueAdjustmentMagenta: 0
- HueAdjustmentOrange: 0
- HueAdjustmentPurple: 0
- HueAdjustmentRed: +5
- HueAdjustmentYellow: 0
- IncrementalTemperature: -60
- IncrementalTint: -50
- LuminanceAdjustmentAqua: 0
- LuminanceAdjustmentBlue: 0
- LuminanceAdjustmentGreen: 0
- LuminanceAdjustmentMagenta: 0
- LuminanceAdjustmentOrange: 0
- LuminanceAdjustmentPurple: 0
- LuminanceAdjustmentRed: -2
- LuminanceAdjustmentYellow: 0
- LuminanceSmoothing: 0
- ParametricDarks: 0
- ParametricHighlightSplit: 75
- ParametricHighlights: 0
- ParametricLights: 0
- ParametricMidtoneSplit: 50
- ParametricShadowSplit: 25
- ParametricShadows: 0
- PostCropVignetteAmount: 0
- RedHue: 0
- RedSaturation: 0
- Saturation: +31
- SaturationAdjustmentAqua: 0
- SaturationAdjustmentBlue: 0
- SaturationAdjustmentGreen: 0
- SaturationAdjustmentMagenta: 0
- SaturationAdjustmentOrange: -100
- SaturationAdjustmentPurple: 0
- SaturationAdjustmentRed: +40
- SaturationAdjustmentYellow: 0
- ShadowTint: 0
- Shadows: 0
- SharpenDetail: 0
- SharpenEdgeMasking: 0
- SharpenRadius: +1.4
- Sharpness: 73
- SplitToningBalance: 0
- SplitToningHighlightHue: 0
- SplitToningHighlightSaturation: 0
- SplitToningShadowHue: 0
- SplitToningShadowSaturation: 0
- ToneCurve: 0, 0, 255, 255
- ToneCurveName: Linear
- Version: 4.5
- Vibrance: -29
- VignetteAmount: 0
- WhiteBalance: Custom
- XMP-exif
- DateTimeDigitized: 2008:08:23 02:52:44.16+03:00
- DateTimeOriginal: 2008:08:23 02:52:44.16+03:00
- ExifImageLength: 2592
- ExifImageWidth: 3872
- FlashFired: False
- FlashFunction: False
- FlashMode: Unknown
- FlashRedEyeMode: False
- FlashReturn: No return detection
- FocalLengthIn35mmFormat: 48
- SubjectDistanceRange: Unknown
- XMP-tiff
- ImageHeight: 2592
- ImageWidth: 3872
- XMP-xmp
- CreateDate: 2008:08:23 02:52:44.16+03:00
- ModifyDate: 2008:08:23 16:33:57+03:00
- Просмотров: 297
- Рейтинг: голосов еще нет
- Отзывов: 0