- Раздел: Другое, разное
- Дата съёмки: 19.08.2008 02:09
- Дата загрузки фото: 25.08.2008 03:56
- Оригинальная фотография: 800 x 579 (607 Кб)
- Технические характеристики:
- Фотоаппарат: Canon PowerShot G9
- Выдержка: 1/60
- Гиперфокальное расстояние: 15,41 m
- Диафрагма: 2,8
- Светочувствительность: 100
- Фокусное расстояние: 7,4mm (35mm эквивалент: 175,2mm)
- Полный EXIF
- Adobe
- ColorTransform: YCbCr
- Composite
- Aperture: 2,8
- CircleOfConfusion: 0,001 mm
- FlashOn: On
- FocalLength35efl: 7,4mm (35mm equivalent: 175,2mm)
- HyperfocalDistance: 15,41 m
- LightValue: 8,9
- ScaleFactor35efl: 23,7
- ShutterSpeed: 1/60
- ExifIFD
- ApertureValue: 2,8
- CreateDate: 2008:08:19 02:09:43
- CustomRendered: Normal
- DateTimeOriginal: 2008:08:19 02:09:43
- DigitalZoomRatio: 1
- ExposureCompensation: 0
- ExposureMode: Manual
- ExposureTime: 1/60
- FNumber: 2,8
- Flash: On, Red-eye reduction
- FocalLength: 7,4mm
- ISO: 100
- MaxApertureValue: 2,8
- MeteringMode: Multi-segment
- SceneCaptureType: Standard
- SensingMethod: One-chip color area
- ShutterSpeedValue: 1/60
- WhiteBalance: Manual
- ICC-header
- ICC-meas
- ICC-view
- IFD0
- Make: Canon
- Model: Canon PowerShot G9
- ModifyDate: 2008:08:19 09:18:14
- Software: ACD Systems Digital Imaging
- XMP-aux
- Firmware: 1.00
- FlashCompensation: 0
- Lens: 7.4-44.4 mm
- LensInfo: 7400/1000 44400/1000 0/0 0/0
- XMP-crs
- AlreadyApplied: True
- BlueHue: +11
- BlueSaturation: -21
- Brightness: +64
- CameraProfile: ACR 2.4
- ChromaticAberrationB: 0
- ChromaticAberrationR: 0
- Clarity: 0
- ColorNoiseReduction: 25
- Contrast: +32
- ConvertToGrayscale: True
- Defringe: 0
- Exposure: 0.00
- FillLight: 0
- GrayMixerAqua: -13
- GrayMixerBlue: +16
- GrayMixerGreen: -19
- GrayMixerMagenta: +19
- GrayMixerOrange: -5
- GrayMixerPurple: +25
- GrayMixerRed: +10
- GrayMixerYellow: -12
- GreenHue: +16
- GreenSaturation: +51
- HasCrop: False
- HasSettings: True
- HighlightRecovery: 0
- IncrementalTemperature: 0
- IncrementalTint: 0
- LuminanceSmoothing: 0
- ParametricDarks: -3
- ParametricHighlightSplit: 75
- ParametricHighlights: 0
- ParametricLights: -2
- ParametricMidtoneSplit: 50
- ParametricShadowSplit: 25
- ParametricShadows: -14
- PostCropVignetteAmount: 0
- RedHue: +23
- RedSaturation: +10
- ShadowTint: +4
- Shadows: 0
- SharpenDetail: 50
- SharpenEdgeMasking: 0
- SharpenRadius: +1.0
- Sharpness: 25
- SplitToningBalance: 0
- SplitToningHighlightHue: 215
- SplitToningHighlightSaturation: 49
- SplitToningShadowHue: 216
- SplitToningShadowSaturation: 12
- ToneCurve: 0, 0, 255, 255
- ToneCurveName: Linear
- Version: 4.5
- VignetteAmount: -100
- VignetteMidpoint: 40
- WhiteBalance: As Shot
- XMP-exif
- DateTimeDigitized: 2008:08:19 02:09:43+04:00
- DateTimeOriginal: 2008:08:19 02:09:43+04:00
- ExifImageLength: 579
- ExifImageWidth: 800
- FlashFired: True
- FlashFunction: False
- FlashMode: On
- FlashRedEyeMode: True
- FlashReturn: No return detection
- XMP-tiff
- ImageHeight: 579
- ImageWidth: 800
- XMP-xmp
- CreateDate: 2008:08:19 02:09:43+04:00
- ModifyDate: 2008:08:19 09:18:14+04:00