- Раздел: Природа
- Дата съёмки: 16.08.2008 18:17
- Дата загрузки фото: 04.09.2008 22:32
- Оригинальная фотография: 1000 x 706 (775 Кб)
- Технические характеристики:
- Фотоаппарат: FujiFilm FinePix S6500fd
- Выдержка: 1/200
- Гиперфокальное расстояние: 3,36 m
- Диафрагма: 2,8
- Светочувствительность: 100
- Фокусное расстояние: 6,2mm (35mm эквивалент: 45,6mm)
- Полный EXIF
- Adobe
- ColorTransform: YCbCr
- Composite
- Aperture: 2,8
- CircleOfConfusion: 0,004 mm
- FocalLength35efl: 6,2mm (35mm equivalent: 45,6mm)
- HyperfocalDistance: 3,36 m
- LightValue: 10,6
- ScaleFactor35efl: 7,4
- ShutterSpeed: 1/200
- ExifIFD
- ApertureValue: 2,8
- BrightnessValue: 5,19
- CreateDate: 2008:08:16 18:17:43
- CustomRendered: Normal
- DateTimeOriginal: 2008:08:16 18:17:43
- ExposureCompensation: 0
- ExposureMode: Manual
- ExposureProgram: Manual
- ExposureTime: 1/200
- FNumber: 2,8
- Flash: Off
- FocalLength: 6,2mm
- ISO: 100
- LightSource: Unknown (0)
- MaxApertureValue: 2,8
- MeteringMode: Spot
- SceneCaptureType: Standard
- SceneType: Directly photographed
- SensingMethod: One-chip color area
- Sharpness: Hard
- ShutterSpeedValue: 1/200
- WhiteBalance: Auto
- ICC-header
- ICC-meas
- ICC-view
- IFD0
- Make: FUJIFILM
- Model: FinePix S6500fd
- ModifyDate: 2008:09:04 22:22:03
- Software: Digital Camera FinePix S6500fd Ver1.00
- XMP-crs
- AlreadyApplied: True
- BlueHue: 0
- BlueSaturation: 0
- Brightness: +50
- CameraProfile: ACR 4.4
- ChromaticAberrationB: 0
- ChromaticAberrationR: 0
- Clarity: 0
- ColorNoiseReduction: 25
- Contrast: +25
- ConvertToGrayscale: False
- CropAngle: 0
- CropBottom: 0.941406
- CropHeight: 706
- CropLeft: 0
- CropRight: 1
- CropTop: 0
- CropUnit: 0
- CropWidth: 1000
- Defringe: 0
- Exposure: 0.00
- FillLight: 0
- GreenHue: 0
- GreenSaturation: 0
- HasCrop: True
- HasSettings: True
- HighlightRecovery: 0
- HueAdjustmentAqua: 0
- HueAdjustmentBlue: 0
- HueAdjustmentGreen: 0
- HueAdjustmentMagenta: 0
- HueAdjustmentOrange: 0
- HueAdjustmentPurple: 0
- HueAdjustmentRed: 0
- HueAdjustmentYellow: 0
- LuminanceAdjustmentAqua: 0
- LuminanceAdjustmentBlue: 0
- LuminanceAdjustmentGreen: 0
- LuminanceAdjustmentMagenta: 0
- LuminanceAdjustmentOrange: 0
- LuminanceAdjustmentPurple: 0
- LuminanceAdjustmentRed: 0
- LuminanceAdjustmentYellow: 0
- LuminanceSmoothing: 0
- ParametricDarks: 0
- ParametricHighlightSplit: 75
- ParametricHighlights: 0
- ParametricLights: 0
- ParametricMidtoneSplit: 50
- ParametricShadowSplit: 25
- ParametricShadows: 0
- PostCropVignetteAmount: 0
- RedHue: 0
- RedSaturation: 0
- Saturation: +14
- SaturationAdjustmentAqua: 0
- SaturationAdjustmentBlue: 0
- SaturationAdjustmentGreen: 0
- SaturationAdjustmentMagenta: 0
- SaturationAdjustmentOrange: 0
- SaturationAdjustmentPurple: 0
- SaturationAdjustmentRed: 0
- SaturationAdjustmentYellow: 0
- ShadowTint: 0
- Shadows: 5
- SharpenDetail: 25
- SharpenEdgeMasking: 0
- SharpenRadius: +1.0
- Sharpness: 25
- SplitToningBalance: 0
- SplitToningHighlightHue: 0
- SplitToningHighlightSaturation: 0
- SplitToningShadowHue: 0
- SplitToningShadowSaturation: 0
- Temperature: 4350
- Tint: +2
- ToneCurve: 0, 0, 32, 22, 64, 56, 128, 128, 192, 196, 255, 255
- ToneCurveName: Medium Contrast
- Version: 4.5
- Vibrance: +14
- VignetteAmount: 0
- WhiteBalance: As Shot
- XMP-exif
- DateTimeDigitized: 2008:08:16 18:17:43+04:00
- DateTimeOriginal: 2008:08:16 18:17:43+04:00
- ExifImageLength: 706
- ExifImageWidth: 1000
- FlashFired: False
- FlashFunction: False
- FlashMode: Off
- FlashRedEyeMode: False
- FlashReturn: No return detection
- SubjectDistanceRange: Unknown
- XMP-tiff
- ImageHeight: 706
- ImageWidth: 1000
- XMP-xmp
- CreateDate: 2008:08:16 18:17:43+04:00
- ModifyDate: 2008:09:04 22:22:03+04:00