- Раздел: Путешествия
- Дата съёмки: 03.08.2008 16:58
- Дата загрузки фото: 06.09.2008 12:31
- Оригинальная фотография: 3872 x 2592 (5,6 Мб)
- Технические характеристики:
- Фотоаппарат: Pentax K200D
- Выдержка: 1/180
- Гиперфокальное расстояние: 17,75 m
- Диафрагма: 4,5
- Светочувствительность: 100
- Фокусное расстояние: 40,0mm (35mm эквивалент: 60,0mm)
- Экспокоррекция: +1
- Полный EXIF
- Adobe
- ColorTransform: YCbCr
- Composite
- Aperture: 4,5
- CircleOfConfusion: 0,020 mm
- FocalLength35efl: 40,0mm (35mm equivalent: 60,0mm)
- HyperfocalDistance: 17,75 m
- LightValue: 11,8
- ScaleFactor35efl: 1,5
- ShutterSpeed: 1/180
- ExifIFD
- ApertureValue: 4,5
- CFAPattern: [Red,Green][Green,Blue]
- Contrast: Normal
- CreateDate: 2008:08:03 16:58:40
- CustomRendered: Normal
- DateTimeOriginal: 2008:08:03 16:58:40
- ExposureCompensation: +1
- ExposureMode: Manual
- ExposureProgram: Shutter speed priority AE
- ExposureTime: 1/180
- FNumber: 4,5
- Flash: On
- FocalLength: 40,0mm
- FocalLengthIn35mmFormat: 60mm
- ISO: 100
- MeteringMode: Multi-segment
- Saturation: High
- SceneCaptureType: Standard
- SensingMethod: One-chip color area
- Sharpness: Hard
- ShutterSpeedValue: 1/180
- SubjectDistanceRange: Distant
- WhiteBalance: Manual
- ICC-header
- ICC-meas
- ICC-view
- IFD0
- Copyright: Made by Balashevich Viachaslau - For home use only
- Make: PENTAX Corporation
- Model: PENTAX K200D
- ModifyDate: 2008:09:05 17:11:48
- Software: K200D Ver 1.00
- IPTC
- CopyrightNotice: Made by Balashevich Viachaslau - For home use only
- XMP-aux
- Lens: smc PENTAX-FA 24-90mm F3.5-4.5 AL[IF]
- LensID: 4 34
- LensInfo: 240/10 900/10 35/10 45/10
- XMP-crs
- AlreadyApplied: True
- BlueHue: 0
- BlueSaturation: 0
- Brightness: +50
- CameraProfile: Embedded
- ChromaticAberrationB: 0
- ChromaticAberrationR: 0
- Clarity: 10
- ColorNoiseReduction: 5
- Contrast: +35
- ConvertToGrayscale: False
- Defringe: 0
- Exposure: 0.00
- FillLight: 5
- GreenHue: 0
- GreenSaturation: 0
- HasCrop: False
- HasSettings: True
- HighlightRecovery: 0
- HueAdjustmentAqua: 0
- HueAdjustmentBlue: 0
- HueAdjustmentGreen: +5
- HueAdjustmentMagenta: 0
- HueAdjustmentOrange: 0
- HueAdjustmentPurple: 0
- HueAdjustmentRed: 0
- HueAdjustmentYellow: 0
- LuminanceAdjustmentAqua: 0
- LuminanceAdjustmentBlue: -15
- LuminanceAdjustmentGreen: +10
- LuminanceAdjustmentMagenta: 0
- LuminanceAdjustmentOrange: 0
- LuminanceAdjustmentPurple: 0
- LuminanceAdjustmentRed: 0
- LuminanceAdjustmentYellow: 0
- LuminanceSmoothing: 0
- ParametricDarks: 0
- ParametricHighlightSplit: 75
- ParametricHighlights: 0
- ParametricLights: 0
- ParametricMidtoneSplit: 50
- ParametricShadowSplit: 25
- ParametricShadows: 0
- RedHue: 0
- RedSaturation: 0
- Saturation: +5
- SaturationAdjustmentAqua: 0
- SaturationAdjustmentBlue: +15
- SaturationAdjustmentGreen: +20
- SaturationAdjustmentMagenta: 0
- SaturationAdjustmentOrange: 0
- SaturationAdjustmentPurple: 0
- SaturationAdjustmentRed: 0
- SaturationAdjustmentYellow: 0
- ShadowTint: 0
- Shadows: 4
- SharpenDetail: 40
- SharpenEdgeMasking: 0
- SharpenRadius: +0.6
- Sharpness: 40
- SplitToningBalance: 0
- SplitToningHighlightHue: 0
- SplitToningHighlightSaturation: 0
- SplitToningShadowHue: 0
- SplitToningShadowSaturation: 0
- Temperature: 4950
- Tint: -22
- ToneCurve: 0, 0, 32, 22, 64, 56, 128, 128, 192, 196, 255, 255
- ToneCurveName: Medium Contrast
- Version: 1.0
- Vibrance: +5
- VignetteAmount: 0
- WhiteBalance: As Shot
- XMP-dc
- Rights: Made by Balashevich Viachaslau - For home use only
- XMP-exif
- DateTimeDigitized: 2008:08:03 16:58:40+03:00
- DateTimeOriginal: 2008:08:03 16:58:40+03:00
- FlashFired: True
- FlashFunction: False
- FlashMode: On
- FlashRedEyeMode: False
- FlashReturn: No return detection
- FocalLengthIn35mmFormat: 60
- XMP-tiff
- ImageHeight: 2592
- ImageWidth: 3872
- XMP-xmp
- CreateDate: 2008:08:03 16:58:40+03:00
- ModifyDate: 2008:09:05 17:11:48+03:00
- XMP-xmpRights
- Marked: True
- UsageTerms: private use
- Просмотров: 346
- Рейтинг: голосов еще нет
- Отзывов: 0