- Раздел: Хобби
- Дата съёмки: 07.09.2008 23:39
- Дата загрузки фото: 08.09.2008 20:31
- Оригинальная фотография: 2187 x 1645 (701 Кб)
- Технические характеристики:
- Фотоаппарат: FujiFilm FinePix S5Pro
- Выдержка: 1/2300
- Гиперфокальное расстояние: 258,65 m
- Диафрагма: 1,4
- Светочувствительность: 200
- Фокусное расстояние: 85,0mm (35mm эквивалент: 128,0mm)
- Полный EXIF
- Composite
- Aperture: 1,4
- CircleOfConfusion: 0,020 mm
- FocalLength35efl: 85,0mm (35mm equivalent: 128,0mm)
- HyperfocalDistance: 258,65 m
- LightValue: 11,1
- ScaleFactor35efl: 1,5
- ShutterSpeed: 1/2300
- ExifIFD
- ApertureValue: 1,4
- BrightnessValue: 6,33
- ColorSpace: sRGB
- Contrast: Normal
- CreateDate: 2008:03:10 01:44:50
- CustomRendered: Normal
- DateTimeOriginal: 2008:03:10 01:44:50
- ExifImageLength: 1645
- ExifImageWidth: 2187
- ExposureCompensation: 0
- ExposureMode: Auto
- ExposureProgram: Aperture-priority AE
- ExposureTime: 1/2300
- FNumber: 1,4
- Flash: Off
- FocalLength: 85,0mm
- FocalLengthIn35mmFormat: 128mm
- ISO: 200
- LightSource: Unknown (0)
- MaxApertureValue: 1,4
- MeteringMode: Multi-segment
- Saturation: Normal
- SceneCaptureType: Standard
- SceneType: Directly photographed
- SensingMethod: One-chip color area
- Sharpness: Soft
- ShutterSpeedValue: 1/2300
- WhiteBalance: Auto
- ICC-header
- ICC-meas
- ICC-view
- IFD0
- Make: FUJIFILM
- Model: FinePix S5Pro
- ModifyDate: 2008:09:07 23:39:41
- Orientation: Horizontal (normal)
- IFD1
- IPTC
- XMP-crs
- AlreadyApplied: True
- BlueHue: 0
- BlueSaturation: 0
- Brightness: +50
- CameraProfile: ACR 4.4
- ChromaticAberrationB: 0
- ChromaticAberrationR: 0
- Clarity: 0
- ColorNoiseReduction: 25
- Contrast: +25
- ConvertToGrayscale: False
- CropAngle: 0
- CropBottom: 1
- CropLeft: 0.073718
- CropRight: 0.963675
- CropTop: 0
- Defringe: 0
- Exposure: 0.00
- FillLight: 5
- GreenHue: 0
- GreenSaturation: 0
- HasCrop: True
- HasSettings: True
- HighlightRecovery: 0
- HueAdjustmentAqua: 0
- HueAdjustmentBlue: 0
- HueAdjustmentGreen: 0
- HueAdjustmentMagenta: 0
- HueAdjustmentOrange: 0
- HueAdjustmentPurple: 0
- HueAdjustmentRed: 0
- HueAdjustmentYellow: 0
- LuminanceAdjustmentAqua: 0
- LuminanceAdjustmentBlue: 0
- LuminanceAdjustmentGreen: 0
- LuminanceAdjustmentMagenta: 0
- LuminanceAdjustmentOrange: 0
- LuminanceAdjustmentPurple: 0
- LuminanceAdjustmentRed: 0
- LuminanceAdjustmentYellow: 0
- LuminanceSmoothing: 0
- ParametricDarks: 0
- ParametricHighlightSplit: 75
- ParametricHighlights: 0
- ParametricLights: 0
- ParametricMidtoneSplit: 50
- ParametricShadowSplit: 25
- ParametricShadows: 0
- PostCropVignetteAmount: 0
- RawFileName: _DSF0428.RAF
- RedHue: 0
- RedSaturation: 0
- Saturation: 0
- SaturationAdjustmentAqua: 0
- SaturationAdjustmentBlue: 0
- SaturationAdjustmentGreen: 0
- SaturationAdjustmentMagenta: 0
- SaturationAdjustmentOrange: 0
- SaturationAdjustmentPurple: 0
- SaturationAdjustmentRed: 0
- SaturationAdjustmentYellow: 0
- ShadowTint: 0
- Shadows: 0
- SharpenDetail: 0
- SharpenEdgeMasking: 0
- SharpenRadius: +0.5
- Sharpness: 0
- SplitToningBalance: 0
- SplitToningHighlightHue: 0
- SplitToningHighlightSaturation: 0
- SplitToningShadowHue: 0
- SplitToningShadowSaturation: 0
- Temperature: 4700
- Tint: +13
- ToneCurve: 0, 0, 32, 22, 64, 56, 128, 128, 192, 196, 255, 255
- ToneCurveName: Medium Contrast
- Version: 4.5
- Vibrance: 0
- VignetteAmount: 0
- WhiteBalance: As Shot
- XMP-dc
- XMP-exif
- DateTimeDigitized: 2008:03:10 01:44:50+03:00
- DateTimeOriginal: 2008:03:10 01:44:50+03:00
- ExifImageLength: 4111
- ExifImageWidth: 5468
- FlashFired: False
- FlashFunction: False
- FlashMode: Off
- FlashRedEyeMode: False
- FlashReturn: No return detection
- FocalLengthIn35mmFormat: 128
- SubjectDistanceRange: Unknown
- XMP-tiff
- XMP-xmp
- CreateDate: 2008:09:07 23:39:41+04:00
- ModifyDate: 2008:09:07 23:39:41+04:00
- Rating: 0
- XMP-xmpMM
- DerivedFrom:
- Просмотров: 546
- Рейтинг: голосов еще нет
- Отзывов: 0