- Раздел: Тесты фототехники
- Дата съёмки: 30.08.2008 12:24
- Дата загрузки фото: 08.09.2008 21:35
- Оригинальная фотография: 3648 x 2736 (2,7 Мб)
- Технические характеристики:
- Фотоаппарат: Olympus E-400
- Выдержка: 1/800
- Диафрагма: 5,6
- Светочувствительность: 100
- Фокусное расстояние: 14,0mm
- Полный EXIF
- Adobe
- ColorTransform: YCbCr
- Composite
- Aperture: 5,6
- FocalLength35efl: 14,0mm
- LightValue: 14,6
- ShutterSpeed: 1/800
- ExifIFD
- ApertureValue: 5,6
- CFAPattern: [Green,Red][Blue,Green]
- Contrast: Normal
- CreateDate: 2008:08:30 12:24:12
- CustomRendered: Normal
- DateTimeOriginal: 2008:08:30 12:24:12
- DigitalZoomRatio: 1
- ExposureCompensation: 0
- ExposureMode: Auto
- ExposureProgram: Creative (Slow speed)
- ExposureTime: 1/800
- FNumber: 5,6
- Flash: Auto, Did not fire
- FocalLength: 14,0mm
- GainControl: None
- ISO: 100
- LightSource: Unknown (0)
- MaxApertureValue: 3,5
- MeteringMode: Multi-segment
- Saturation: High
- SceneCaptureType: Standard
- Sharpness: Normal
- ShutterSpeedValue: 1/800
- WhiteBalance: Auto
- ICC-header
- ICC-meas
- ICC-view
- IFD0
- ImageDescription: OLYMPUS DIGITAL CAMERA
- Make: OLYMPUS IMAGING CORP.
- Model: E-400
- ModifyDate: 2008:09:08 19:23:39
- Software: Version 1.2
- TimeZoneOffset: 2 2
- IPTC
- Caption-Abstract: OLYMPUS DIGITAL CAMERA
- XMP-aux
- FlashCompensation: 0
- Lens: 14.0-42.0 mm f/3.5-5.6
- LensInfo: 14/1 42/1 35/10 56/10
- LensSerialNumber: 212036244
- SerialNumber: C56535675
- XMP-crs
- AlreadyApplied: True
- BlueHue: 0
- BlueSaturation: 0
- Brightness: +50
- CameraProfile: ACR 3.6
- ChromaticAberrationB: 0
- ChromaticAberrationR: 0
- ColorNoiseReduction: 0
- Contrast: +31
- ConvertToGrayscale: False
- Exposure: 0.00
- FillLight: 0
- GreenHue: 0
- GreenSaturation: 0
- HasCrop: False
- HasSettings: True
- HighlightRecovery: 80
- HueAdjustmentAqua: 0
- HueAdjustmentBlue: 0
- HueAdjustmentGreen: 0
- HueAdjustmentMagenta: 0
- HueAdjustmentOrange: 0
- HueAdjustmentPurple: 0
- HueAdjustmentRed: 0
- HueAdjustmentYellow: 0
- LuminanceAdjustmentAqua: 0
- LuminanceAdjustmentBlue: 0
- LuminanceAdjustmentGreen: 0
- LuminanceAdjustmentMagenta: 0
- LuminanceAdjustmentOrange: 0
- LuminanceAdjustmentPurple: 0
- LuminanceAdjustmentRed: 0
- LuminanceAdjustmentYellow: 0
- LuminanceSmoothing: 0
- ParametricDarks: 0
- ParametricHighlightSplit: 75
- ParametricHighlights: 0
- ParametricLights: 0
- ParametricMidtoneSplit: 50
- ParametricShadowSplit: 25
- ParametricShadows: 0
- RawFileName: P8301572.ORF
- RedHue: 0
- RedSaturation: 0
- Saturation: +3
- SaturationAdjustmentAqua: 0
- SaturationAdjustmentBlue: 0
- SaturationAdjustmentGreen: 0
- SaturationAdjustmentMagenta: 0
- SaturationAdjustmentOrange: 0
- SaturationAdjustmentPurple: 0
- SaturationAdjustmentRed: 0
- SaturationAdjustmentYellow: 0
- ShadowTint: 0
- Shadows: 9
- Sharpness: 0
- SplitToningBalance: 0
- SplitToningHighlightHue: 0
- SplitToningHighlightSaturation: 0
- SplitToningShadowHue: 0
- SplitToningShadowSaturation: 0
- Temperature: 5700
- Tint: +11
- ToneCurve: 0, 0, 32, 22, 64, 56, 128, 128, 192, 196, 255, 255
- ToneCurveName: Medium Contrast
- Version: 4.0
- Vibrance: +20
- VignetteAmount: 0
- WhiteBalance: As Shot
- XMP-dc
- Description: OLYMPUS DIGITAL CAMERA
- XMP-exif
- DateTimeDigitized: 2008:08:30 12:24:12+02:00
- DateTimeOriginal: 2008:08:30 12:24:12+02:00
- FlashFired: False
- FlashFunction: False
- FlashMode: Auto
- FlashRedEyeMode: False
- FlashReturn: No return detection
- XMP-tiff
- ImageHeight: 2736
- ImageWidth: 3648
- XMP-xmp
- CreatorTool: Version 1.2
- ModifyDate: 2008:09:08 19:23:39+02:00
- Просмотров: 674
- Рейтинг: голосов еще нет
- Отзывов: 0