- Раздел: Портрет
- Дата съёмки: 15.09.2008 23:23
- Дата загрузки фото: 24.09.2008 10:19
- Оригинальная фотография: 320 x 480 (153 Кб)
- Технические характеристики:
- Фотоаппарат: Canon EOS DIGITAL REBEL XSi
- Выдержка: 1/800
- Гиперфокальное расстояние: 299,32 m
- Диафрагма: 4,0
- Светочувствительность: 400
- Фокусное расстояние: 50,0 mm (35 mm equivalent: 719,5 mm)
- Полный EXIF
- Adobe
- ColorTransform: YCbCr
- Composite
- Aperture: 4,0
- CircleOfConfusion: 0,002 mm
- FOV: 2,0 deg
- FocalLength35efl: 50,0 mm (35 mm equivalent: 719,5 mm)
- HyperfocalDistance: 299,32 m
- ScaleFactor35efl: 14,4
- ShutterSpeed: 1/800
- ExifIFD
- ApertureValue: 4,0
- ColorSpace: sRGB
- CreateDate: 2008:09:05 18:43:13
- CustomRendered: Normal
- DateTimeOriginal: 2008:09:05 18:43:13
- ExifImageHeight: 480
- ExifImageWidth: 320
- ExposureCompensation: 0
- ExposureMode: Auto
- ExposureProgram: Aperture-priority AE
- ExposureTime: 1/800
- FNumber: 4,0
- Flash: Off
- FocalLength: 50,0 mm
- ISO: 400
- MaxApertureValue: 1,8
- MeteringMode: Multi-segment
- SceneCaptureType: Standard
- ShutterSpeedValue: 1/800
- WhiteBalance: Auto
- ICC-header
- ICC-meas
- ICC-view
- IFD0
- Artist: Lelyak Konstantin
- Copyright: Lelyak Konstantin
- Make: Canon
- Model: Canon EOS DIGITAL REBEL XSi
- ModifyDate: 2008:09:15 23:23:48
- Orientation: Horizontal (normal)
- IFD1
- IPTC
- By-line: Lelyak Konstantin
- CopyrightNotice: Lelyak Konstantin
- Headline: Photoset Mary 05 aug 2008
- Keywords: Mary
- Writer-Editor: Lelyak Konstantin
- XMP-aux
- Firmware: 1.0.4
- FlashCompensation: 0
- ImageNumber: 0
- Lens: EF50mm f/1.8 II
- LensInfo: 50/1 50/1 0/0 0/0
- SerialNumber: 620216116
- XMP-crs
- AlreadyApplied: True
- BlueHue: +11
- BlueSaturation: -70
- Brightness: +57
- CameraProfile: ACR 2.4
- ChromaticAberrationB: 0
- ChromaticAberrationR: 0
- Clarity: 0
- ColorNoiseReduction: 25
- Contrast: +25
- ConvertToGrayscale: False
- Defringe: 0
- Exposure: +0.75
- FillLight: 0
- GreenHue: +11
- GreenSaturation: +25
- HasCrop: False
- HasSettings: True
- HighlightRecovery: 0
- HueAdjustmentAqua: 0
- HueAdjustmentBlue: 0
- HueAdjustmentGreen: 0
- HueAdjustmentMagenta: 0
- HueAdjustmentOrange: 0
- HueAdjustmentPurple: 0
- HueAdjustmentRed: 0
- HueAdjustmentYellow: 0
- LuminanceAdjustmentAqua: 0
- LuminanceAdjustmentBlue: 0
- LuminanceAdjustmentGreen: 0
- LuminanceAdjustmentMagenta: 0
- LuminanceAdjustmentOrange: 0
- LuminanceAdjustmentPurple: 0
- LuminanceAdjustmentRed: 0
- LuminanceAdjustmentYellow: 0
- LuminanceSmoothing: 0
- ParametricDarks: -3
- ParametricHighlightSplit: 75
- ParametricHighlights: 0
- ParametricLights: 0
- ParametricMidtoneSplit: 50
- ParametricShadowSplit: 25
- ParametricShadows: -14
- PostCropVignetteAmount: 0
- RedHue: +96
- RedSaturation: +3
- Saturation: -71
- SaturationAdjustmentAqua: 0
- SaturationAdjustmentBlue: 0
- SaturationAdjustmentGreen: 0
- SaturationAdjustmentMagenta: 0
- SaturationAdjustmentOrange: 0
- SaturationAdjustmentPurple: 0
- SaturationAdjustmentRed: 0
- SaturationAdjustmentYellow: 0
- ShadowTint: +8
- Shadows: 11
- SharpenDetail: 20
- SharpenEdgeMasking: 70
- SharpenRadius: +1.2
- Sharpness: 25
- SplitToningBalance: 0
- SplitToningHighlightHue: 0
- SplitToningHighlightSaturation: 0
- SplitToningShadowHue: 0
- SplitToningShadowSaturation: 0
- Temperature: 12500
- Tint: +35
- ToneCurve: 0, 0, 255, 255
- ToneCurveName: Linear
- Version: 4.5
- Vibrance: 0
- VignetteAmount: -61
- VignetteMidpoint: 34
- WhiteBalance: Custom
- XMP-dc
- Creator: Lelyak Konstantin
- Format: image/jpeg
- Rights: Lelyak Konstantin
- Subject: Mary
- XMP-exif
- DateTimeDigitized: 2008:09:05 18:43:13.02+04:00
- DateTimeOriginal: 2008:09:05 18:43:13.02+04:00
- FlashFired: False
- FlashFunction: False
- FlashMode: Off
- FlashRedEyeMode: False
- FlashReturn: No return detection
- XMP-iptcCore
- CreatorContactInfoCiAdrCity: Moscow
- XMP-tiff
- ImageHeight: 4272
- ImageWidth: 2848
- XMP-xmp
- CreateDate: 2008:09:15 23:23:48+04:00
- ModifyDate: 2008:09:15 23:23:48+04:00
- XMP-xmpMM
- XMP-xmpRights
- Marked: True
- WebStatement: www.lelyak.ru