- Раздел: Природа
- Дата съёмки: 08.10.2008 16:26
- Дата загрузки фото: 08.10.2008 14:47
- Оригинальная фотография: 1200 x 800 (511 Кб)
- Технические характеристики:
- Фотоаппарат: Canon EOS 450D
- Выдержка: 1/3200
- Гиперфокальное расстояние: 28,93 m
- Диафрагма: 3,5
- Светочувствительность: 200
- Фокусное расстояние: 23,0 mm (35 mm equivalent: 132,3 mm)
- Полный EXIF
- Adobe
- ColorTransform: YCbCr
- Composite
- Aperture: 3,5
- CircleOfConfusion: 0,005 mm
- FOV: 15,0 deg
- FocalLength35efl: 23,0 mm (35 mm equivalent: 132,3 mm)
- HyperfocalDistance: 28,93 m
- ScaleFactor35efl: 5,8
- ShutterSpeed: 1/3200
- ExifIFD
- ApertureValue: 3,5
- ColorSpace: Uncalibrated
- CreateDate: 2008:10:07 17:49:21
- CustomRendered: Normal
- DateTimeOriginal: 2008:10:07 17:49:21
- ExifImageHeight: 800
- ExifImageWidth: 1200
- ExposureCompensation: 0
- ExposureMode: Auto
- ExposureProgram: Aperture-priority AE
- ExposureTime: 1/3200
- FNumber: 3,5
- Flash: Off
- FocalLength: 23,0 mm
- ISO: 200
- MaxApertureValue: 3,5
- MeteringMode: Multi-segment
- SceneCaptureType: Standard
- ShutterSpeedValue: 1/3200
- WhiteBalance: Auto
- ICC-header
- IFD0
- Make: Canon
- Model: Canon EOS 450D
- ModifyDate: 2008:10:08 16:26:15
- Orientation: Horizontal (normal)
- IFD1
- IPTC
- XMP-aux
- Firmware: 1.0.4
- FlashCompensation: 0
- ImageNumber: 0
- Lens: EF-S18-55mm f/3.5-5.6 IS
- LensInfo: 18/1 55/1 0/0 0/0
- SerialNumber: 580132129
- XMP-crs
- AlreadyApplied: True
- BlueHue: 0
- BlueSaturation: 0
- Brightness: +50
- CameraProfile: ACR 4.4
- ChromaticAberrationB: 0
- ChromaticAberrationR: 0
- Clarity: 100
- ColorNoiseReduction: 25
- Contrast: +25
- ConvertToGrayscale: False
- CropAngle: -1.44818
- CropBottom: 0.963464
- CropLeft: 0.010149
- CropRight: 0.989851
- CropTop: 0.036536
- Defringe: 0
- Exposure: +1.05
- FillLight: 0
- GreenHue: 0
- GreenSaturation: 0
- HasCrop: True
- HasSettings: True
- HighlightRecovery: 100
- HueAdjustmentAqua: -2
- HueAdjustmentBlue: +1
- HueAdjustmentGreen: -3
- HueAdjustmentMagenta: -1
- HueAdjustmentOrange: -1
- HueAdjustmentPurple: -100
- HueAdjustmentRed: +78
- HueAdjustmentYellow: +32
- LuminanceAdjustmentAqua: 0
- LuminanceAdjustmentBlue: -25
- LuminanceAdjustmentGreen: -4
- LuminanceAdjustmentMagenta: +1
- LuminanceAdjustmentOrange: +23
- LuminanceAdjustmentPurple: -34
- LuminanceAdjustmentRed: -1
- LuminanceAdjustmentYellow: +9
- LuminanceSmoothing: 0
- ParametricDarks: 0
- ParametricHighlightSplit: 75
- ParametricHighlights: +100
- ParametricLights: 0
- ParametricMidtoneSplit: 50
- ParametricShadowSplit: 25
- ParametricShadows: -100
- RawFileName: _MG_3673.CR2
- RedHue: 0
- RedSaturation: 0
- Saturation: 0
- SaturationAdjustmentAqua: +3
- SaturationAdjustmentBlue: +16
- SaturationAdjustmentGreen: +1
- SaturationAdjustmentMagenta: -6
- SaturationAdjustmentOrange: +18
- SaturationAdjustmentPurple: +24
- SaturationAdjustmentRed: -4
- SaturationAdjustmentYellow: +3
- ShadowTint: 0
- Shadows: 11
- SharpenDetail: 25
- SharpenEdgeMasking: 0
- SharpenRadius: +1.0
- Sharpness: 25
- SplitToningBalance: 0
- SplitToningHighlightHue: 0
- SplitToningHighlightSaturation: 0
- SplitToningShadowHue: 0
- SplitToningShadowSaturation: 0
- Temperature: 5500
- Tint: +10
- ToneCurve: 0, 0, 32, 22, 64, 56, 128, 128, 192, 196, 255, 255
- ToneCurveName: Medium Contrast
- Version: 4.4.1
- Vibrance: 0
- VignetteAmount: 0
- WhiteBalance: Daylight
- XMP-dc
- XMP-exif
- ColorSpace: Unknown (-1)
- DateTimeDigitized: 2008:10:07 17:49:21.03+06:00
- DateTimeOriginal: 2008:10:07 17:49:21.03+06:00
- FlashFired: False
- FlashFunction: False
- FlashMode: Off
- FlashRedEyeMode: False
- FlashReturn: No return detection
- XMP-tiff
- ImageHeight: 2745
- ImageWidth: 4117
- XMP-xmp
- CreateDate: 2008:10:08 16:26:15+06:00
- ModifyDate: 2008:10:08 16:26:15+06:00
- XMP-xmpMM
- DerivedFrom:
- Просмотров: 278
- Рейтинг: голосов еще нет
- Отзывов: 0