- Раздел: Макро
- Дата съёмки: 16.10.2008 20:59
- Дата загрузки фото: 16.10.2008 19:04
- Оригинальная фотография: 1600 x 1200 (311 Кб)
- Технические характеристики:
- Фотоаппарат: Canon EOS 400D DIGITAL
- Выдержка: 1/250
- Гиперфокальное расстояние: 387,31 m
- Диафрагма: 13,0
- Светочувствительность: 400
- Фокусное расстояние: 200,0 mm (35 mm equivalent: 756,4 mm)
- Экспокоррекция: -1/3
- Полный EXIF
- Adobe
- ColorTransform: YCbCr
- Composite
- Aperture: 13,0
- CircleOfConfusion: 0,008 mm
- FOV: 2,0 deg
- FocalLength35efl: 200,0 mm (35 mm equivalent: 756,4 mm)
- HyperfocalDistance: 387,31 m
- ScaleFactor35efl: 3,8
- ShutterSpeed: 1/250
- ExifIFD
- ApertureValue: 13,0
- ColorSpace: sRGB
- CreateDate: 2008:08:29 12:44:08
- CustomRendered: Normal
- DateTimeOriginal: 2008:08:29 12:44:08
- ExifImageHeight: 1200
- ExifImageWidth: 1600
- ExposureCompensation: -1/3
- ExposureMode: Auto
- ExposureProgram: Aperture-priority AE
- ExposureTime: 1/250
- FNumber: 13,0
- Flash: Off
- FocalLength: 200,0 mm
- ISO: 400
- MaxApertureValue: 4,0
- MeteringMode: Partial
- SceneCaptureType: Standard
- ShutterSpeedValue: 1/250
- WhiteBalance: Auto
- ICC-header
- ICC-meas
- ICC-view
- IFD0
- Artist: Evgeny Baharev
- Make: Canon
- Model: Canon EOS 400D DIGITAL
- ModifyDate: 2008:10:16 20:59:25
- Orientation: Horizontal (normal)
- IFD1
- IPTC
- By-line: Evgeny Baharev
- City: Shadrinsk
- Country-PrimaryLocationName: Russia
- Credit: Evgeny Baharev
- DateCreated: 2008:08:29
- Keywords: Makro
- Province-State: Kurgan region
- XMP-aux
- Firmware: 1.1.0
- FlashCompensation: 0
- ImageNumber: 208
- Lens: EF70-200mm f/4L IS USM
- LensInfo: 70/1 200/1 0/0 0/0
- OwnerName: unknown
- SerialNumber: 1430801320
- XMP-crs
- AlreadyApplied: True
- BlueHue: 0
- BlueSaturation: 0
- Brightness: +46
- CameraProfile: ACR 4.4
- ChromaticAberrationB: 0
- ChromaticAberrationR: 0
- Clarity: +45
- ColorNoiseReduction: 25
- Contrast: +35
- ConvertToGrayscale: False
- Defringe: 0
- Exposure: +0.20
- FillLight: 14
- GreenHue: 0
- GreenSaturation: 0
- HasCrop: False
- HasSettings: True
- HighlightRecovery: 30
- HueAdjustmentAqua: 0
- HueAdjustmentBlue: 0
- HueAdjustmentGreen: 0
- HueAdjustmentMagenta: 0
- HueAdjustmentOrange: 0
- HueAdjustmentPurple: 0
- HueAdjustmentRed: 0
- HueAdjustmentYellow: 0
- LuminanceAdjustmentAqua: 0
- LuminanceAdjustmentBlue: 0
- LuminanceAdjustmentGreen: 0
- LuminanceAdjustmentMagenta: 0
- LuminanceAdjustmentOrange: 0
- LuminanceAdjustmentPurple: 0
- LuminanceAdjustmentRed: 0
- LuminanceAdjustmentYellow: 0
- LuminanceSmoothing: 0
- ParametricDarks: 0
- ParametricHighlightSplit: 75
- ParametricHighlights: 0
- ParametricLights: 0
- ParametricMidtoneSplit: 50
- ParametricShadowSplit: 25
- ParametricShadows: 0
- PostCropVignetteAmount: 0
- RawFileName: IMG_0909.CR2
- RedHue: 0
- RedSaturation: 0
- Saturation: 0
- SaturationAdjustmentAqua: 0
- SaturationAdjustmentBlue: 0
- SaturationAdjustmentGreen: 0
- SaturationAdjustmentMagenta: 0
- SaturationAdjustmentOrange: 0
- SaturationAdjustmentPurple: 0
- SaturationAdjustmentRed: 0
- SaturationAdjustmentYellow: 0
- ShadowTint: 0
- Shadows: 3
- SharpenDetail: 25
- SharpenEdgeMasking: 0
- SharpenRadius: +1.0
- Sharpness: 65
- SplitToningBalance: 0
- SplitToningHighlightHue: 0
- SplitToningHighlightSaturation: 0
- SplitToningShadowHue: 0
- SplitToningShadowSaturation: 0
- Temperature: 4850
- Tint: +17
- ToneCurve: 0, 0, 32, 22, 64, 56, 128, 128, 192, 196, 255, 255
- ToneCurveName: Medium Contrast
- Version: 4.5
- Vibrance: +10
- VignetteAmount: 0
- WhiteBalance: As Shot
- XMP-dc
- Creator: Evgeny Baharev
- Format: image/jpeg
- Subject: Makro
- XMP-exif
- DateTimeDigitized: 2008:08:29 12:44:08+06:00
- DateTimeOriginal: 2008:08:29 12:44:08+06:00
- FlashFired: False
- FlashFunction: False
- FlashMode: Off
- FlashRedEyeMode: False
- FlashReturn: No return detection
- XMP-illustrator
- XMP-iptcCore
- CreatorContactInfoCiAdrCity: Lyantor
- CreatorContactInfoCiAdrCtry: Russia
- CreatorContactInfoCiAdrExtadr: 2-64-1
- CreatorContactInfoCiAdrPcode: 628449
- CreatorContactInfoCiAdrRegion: Tumen region
- CreatorContactInfoCiEmailWork: ctdth@bk.ru
- CreatorContactInfoCiTelWork: +79044897590
- IntellectualGenre: makro
- Location: K-Marksa st. 124
- XMP-lr
- HierarchicalSubject: Makro
- XMP-tiff
- XMP-xmp
- CreateDate: 2008:10:16 20:59:25+06:00
- ModifyDate: 2008:10:16 20:59:25+06:00
- Rating: 0
- XMP-xmpMM
- XMP-xmpRights
- Просмотров: 578
- Рейтинг: голосов еще нет
- Отзывов: 1