- Раздел: Другое, разное
- Дата съёмки: 16.10.2008 09:16
- Дата загрузки фото: 16.10.2008 19:00
- Оригинальная фотография: 4288 x 2848 (6,3 Мб)
- Технические характеристики:
- Фотоаппарат: Nikon D300
- Выдержка: 1/320
- Гиперфокальное расстояние: 3,59 m
- Диафрагма: 8,0
- Светочувствительность: 400
- Фокусное расстояние: 24,0 mm (35 mm equivalent: 36,0 mm)
- Полный EXIF
- Adobe
- ColorTransform: YCbCr
- Composite
- Aperture: 8,0
- CircleOfConfusion: 0,020 mm
- FOV: 53,0 deg
- FocalLength35efl: 24,0 mm (35 mm equivalent: 36,0 mm)
- HyperfocalDistance: 3,59 m
- ScaleFactor35efl: 1,5
- ShutterSpeed: 1/320
- ExifIFD
- ApertureValue: 8,0
- CFAPattern: [Red,Green][Green,Blue]
- ColorSpace: sRGB
- Contrast: Normal
- CreateDate: 2008:10:07 17:44:00
- CustomRendered: Normal
- DateTimeOriginal: 2008:10:07 17:44:00
- DigitalZoomRatio: 1
- ExifImageHeight: 2848
- ExifImageWidth: 4288
- ExposureCompensation: 0
- ExposureMode: Auto
- ExposureProgram: Aperture-priority AE
- ExposureTime: 1/320
- FNumber: 8,0
- Flash: No Flash
- FocalLength: 24,0 mm
- FocalLengthIn35mmFormat: 36 mm
- GainControl: Low gain up
- ISO: 400
- LightSource: Unknown
- MaxApertureValue: 2,8
- MeteringMode: Multi-segment
- Saturation: Normal
- SceneCaptureType: Standard
- SceneType: Directly photographed
- SensingMethod: One-chip color area
- Sharpness: Normal
- ShutterSpeedValue: 1/320
- SubjectDistanceRange: Unknown
- WhiteBalance: Auto
- ICC-header
- ICC-meas
- ICC-view
- IFD0
- Artist: IbragimuS
- ImageDescription: IbragimuS
- Make: NIKON CORPORATION
- Model: NIKON D300
- ModifyDate: 2008:10:16 09:16:09
- Orientation: Horizontal (normal)
- IFD1
- IPTC
- By-line: IbragimuS
- Caption-Abstract: IbragimuS
- XMP-aux
- ImageNumber: 2444
- Lens: 24.0-70.0 mm f/2.8
- LensInfo: 240/10 700/10 28/10 28/10
- SerialNumber: 6031292
- XMP-crs
- AlreadyApplied: True
- BlueHue: +3
- BlueSaturation: -20
- Brightness: +15
- CameraProfile: ACR 4.3
- ChromaticAberrationB: 0
- ChromaticAberrationR: 0
- Clarity: +25
- ColorNoiseReduction: 42
- Contrast: +65
- ConvertToGrayscale: False
- Defringe: 0
- Exposure: -0.50
- FillLight: 46
- GreenHue: 0
- GreenSaturation: -5
- HasCrop: False
- HasSettings: True
- HighlightRecovery: 29
- HueAdjustmentAqua: 0
- HueAdjustmentBlue: +5
- HueAdjustmentGreen: -2
- HueAdjustmentMagenta: -3
- HueAdjustmentOrange: -41
- HueAdjustmentPurple: -16
- HueAdjustmentRed: +4
- HueAdjustmentYellow: +7
- LuminanceAdjustmentAqua: -5
- LuminanceAdjustmentBlue: -33
- LuminanceAdjustmentGreen: +43
- LuminanceAdjustmentMagenta: +4
- LuminanceAdjustmentOrange: -4
- LuminanceAdjustmentPurple: +15
- LuminanceAdjustmentRed: -1
- LuminanceAdjustmentYellow: +33
- LuminanceSmoothing: 0
- ParametricDarks: +7
- ParametricHighlightSplit: 81
- ParametricHighlights: -30
- ParametricLights: +10
- ParametricMidtoneSplit: 34
- ParametricShadowSplit: 24
- ParametricShadows: -10
- PostCropVignetteAmount: 0
- RedHue: +3
- RedSaturation: +2
- Saturation: 0
- SaturationAdjustmentAqua: +17
- SaturationAdjustmentBlue: +37
- SaturationAdjustmentGreen: +65
- SaturationAdjustmentMagenta: +10
- SaturationAdjustmentOrange: +100
- SaturationAdjustmentPurple: +8
- SaturationAdjustmentRed: +26
- SaturationAdjustmentYellow: +37
- ShadowTint: 0
- Shadows: 0
- SharpenDetail: 40
- SharpenEdgeMasking: 20
- SharpenRadius: +0.9
- Sharpness: 75
- SplitToningBalance: 0
- SplitToningHighlightHue: 0
- SplitToningHighlightSaturation: 0
- SplitToningShadowHue: 0
- SplitToningShadowSaturation: 0
- Temperature: 4754
- Tint: +10
- ToneCurve: 0, 0, 255, 255
- ToneCurveName: Linear
- Version: 4.5
- Vibrance: 0
- VignetteAmount: 0
- WhiteBalance: Custom
- XMP-dc
- Creator: IbragimuS
- Description: IbragimuS
- Format: image/jpeg
- XMP-exif
- DateTimeDigitized: 2008:10:07 17:44:00.08+04:00
- DateTimeOriginal: 2008:10:07 17:44:00.08+04:00
- FlashFired: False
- FlashFunction: False
- FlashMode: Unknown
- FlashRedEyeMode: False
- FlashReturn: No return detection
- XMP-iptcCore
- CreatorContactInfoCiAdrCity: Saint Pitersburg
- CreatorContactInfoCiAdrCtry: Russia
- XMP-tiff
- ImageHeight: 2848
- ImageWidth: 4288
- XMP-xmp
- CreateDate: 2008:10:16 09:16:09+04:00
- ModifyDate: 2008:10:16 09:16:09+04:00
- XMP-xmpMM
- DerivedFrom: