- Раздел: Макро
- Дата съёмки: 18.10.2008 02:16
- Дата загрузки фото: 18.10.2008 01:31
- Оригинальная фотография: 1600 x 1200 (316 Кб)
- Технические характеристики:
- Фотоаппарат: Canon EOS 400D DIGITAL
- Выдержка: 1/200
- Гиперфокальное расстояние: 314,69 m
- Диафрагма: 16,0
- Светочувствительность: 100
- Фокусное расстояние: 200,0 mm (35 mm equivalent: 756,4 mm)
- Полный EXIF
- Adobe
- ColorTransform: YCbCr
- Composite
- Aperture: 16,0
- CircleOfConfusion: 0,008 mm
- FOV: 2,0 deg
- FocalLength35efl: 200,0 mm (35 mm equivalent: 756,4 mm)
- HyperfocalDistance: 314,69 m
- ScaleFactor35efl: 3,8
- ShutterSpeed: 1/200
- ExifIFD
- ApertureValue: 16,0
- ColorSpace: sRGB
- CreateDate: 2008:10:14 08:53:37
- CustomRendered: Normal
- DateTimeOriginal: 2008:10:14 08:53:37
- ExifImageHeight: 1200
- ExifImageWidth: 1600
- ExposureCompensation: 0
- ExposureMode: Manual
- ExposureProgram: Manual
- ExposureTime: 1/200
- FNumber: 16,0
- Flash: On
- FocalLength: 200,0 mm
- ISO: 100
- MaxApertureValue: 4,0
- MeteringMode: Partial
- SceneCaptureType: Standard
- ShutterSpeedValue: 1/200
- WhiteBalance: Auto
- ICC-header
- ICC-meas
- ICC-view
- IFD0
- Artist: Evgeny Baharev
- Make: Canon
- Model: Canon EOS 400D DIGITAL
- ModifyDate: 2008:10:18 02:16:13
- Orientation: Horizontal (normal)
- IFD1
- IPTC
- By-line: Evgeny Baharev
- City: Lyantor
- Country-PrimaryLocationName: Russia
- Credit: Evgeny Baharev
- DateCreated: 2008:10:14
- Province-State: Tumen region
- XMP-aux
- Firmware: 1.1.0
- FlashCompensation: 0
- ImageNumber: 160
- Lens: EF70-200mm f/4L IS USM
- LensInfo: 70/1 200/1 0/0 0/0
- OwnerName: unknown
- SerialNumber: 1430801320
- XMP-crs
- AlreadyApplied: True
- BlueHue: 0
- BlueSaturation: 0
- Brightness: +46
- CameraProfile: ACR 4.4
- ChromaticAberrationB: 0
- ChromaticAberrationR: 0
- Clarity: +45
- ColorNoiseReduction: 25
- Contrast: +35
- ConvertToGrayscale: False
- Defringe: 0
- Exposure: +0.20
- FillLight: 14
- GreenHue: 0
- GreenSaturation: 0
- HasCrop: False
- HasSettings: True
- HighlightRecovery: 30
- HueAdjustmentAqua: 0
- HueAdjustmentBlue: 0
- HueAdjustmentGreen: 0
- HueAdjustmentMagenta: 0
- HueAdjustmentOrange: 0
- HueAdjustmentPurple: 0
- HueAdjustmentRed: 0
- HueAdjustmentYellow: 0
- LuminanceAdjustmentAqua: 0
- LuminanceAdjustmentBlue: 0
- LuminanceAdjustmentGreen: 0
- LuminanceAdjustmentMagenta: 0
- LuminanceAdjustmentOrange: 0
- LuminanceAdjustmentPurple: 0
- LuminanceAdjustmentRed: 0
- LuminanceAdjustmentYellow: 0
- LuminanceSmoothing: 0
- ParametricDarks: 0
- ParametricHighlightSplit: 75
- ParametricHighlights: 0
- ParametricLights: 0
- ParametricMidtoneSplit: 50
- ParametricShadowSplit: 25
- ParametricShadows: 0
- PostCropVignetteAmount: 0
- RawFileName: IMG_3018.CR2
- RedHue: 0
- RedSaturation: 0
- Saturation: 0
- SaturationAdjustmentAqua: 0
- SaturationAdjustmentBlue: 0
- SaturationAdjustmentGreen: 0
- SaturationAdjustmentMagenta: 0
- SaturationAdjustmentOrange: 0
- SaturationAdjustmentPurple: 0
- SaturationAdjustmentRed: 0
- SaturationAdjustmentYellow: 0
- ShadowTint: 0
- Shadows: 3
- SharpenDetail: 25
- SharpenEdgeMasking: 0
- SharpenRadius: +1.0
- Sharpness: 65
- SplitToningBalance: 0
- SplitToningHighlightHue: 0
- SplitToningHighlightSaturation: 0
- SplitToningShadowHue: 0
- SplitToningShadowSaturation: 0
- Temperature: 4850
- Tint: +17
- ToneCurve: 0, 0, 32, 22, 64, 56, 128, 128, 192, 196, 255, 255
- ToneCurveName: Medium Contrast
- Version: 4.5
- Vibrance: +10
- VignetteAmount: 0
- WhiteBalance: As Shot
- XMP-dc
- Creator: Evgeny Baharev
- Format: image/jpeg
- XMP-exif
- DateTimeDigitized: 2008:10:14 08:53:37+06:00
- DateTimeOriginal: 2008:10:14 08:53:37+06:00
- FlashFired: True
- FlashFunction: False
- FlashMode: On
- FlashRedEyeMode: False
- FlashReturn: No return detection
- XMP-illustrator
- XMP-iptcCore
- CreatorContactInfoCiAdrCity: Lyantor
- CreatorContactInfoCiAdrCtry: Russia
- CreatorContactInfoCiAdrExtadr: 2-64-1
- CreatorContactInfoCiAdrPcode: 628449
- CreatorContactInfoCiAdrRegion: Tumen region
- CreatorContactInfoCiEmailWork: ctdth@bk.ru
- CreatorContactInfoCiTelWork: +79044897590
- IntellectualGenre: makro
- Location: Magistralnaya st. 18a
- XMP-tiff
- XMP-xmp
- CreateDate: 2008:10:18 02:16:13+06:00
- ModifyDate: 2008:10:18 02:16:13+06:00
- Rating: 0
- XMP-xmpMM
- XMP-xmpRights
- Просмотров: 325
- Рейтинг: голосов еще нет
- Отзывов: 0