- Раздел: Другое, разное
- Дата съёмки: 16.11.2008 22:20
- Дата загрузки фото: 03.12.2008 02:23
- Оригинальная фотография: 577 x 705 ( 52 Кб)
- Технические характеристики:
- Фотоаппарат: Canon PowerShot G9
- Выдержка: 1/60
- Гиперфокальное расстояние: 38,10 m
- Диафрагма: 4,0
- Светочувствительность: 200
- Фокусное расстояние: 25,0 mm (35 mm equivalent: 182,9 mm)
- Полный EXIF
- Composite
- Aperture: 4,0
- CircleOfConfusion: 0,004 mm
- FOV: 11,0 deg
- FocalLength35efl: 25,0 mm (35 mm equivalent: 182,9 mm)
- HyperfocalDistance: 38,10 m
- ScaleFactor35efl: 7,3
- ShutterSpeed: 1/60
- ExifIFD
- ApertureValue: 4,0
- CreateDate: 2008:11:16 22:20:37
- CustomRendered: Normal
- DateTimeOriginal: 2008:11:16 22:20:37
- ExifImageHeight: 705
- ExifImageWidth: 577
- ExposureCompensation: 0
- ExposureMode: Manual
- ExposureTime: 1/60
- FNumber: 4,0
- Flash: Off
- FocalLength: 25,0 mm
- ISO: 200
- MaxApertureValue: 4,0
- MeteringMode: Multi-segment
- SceneCaptureType: Standard
- SensingMethod: One-chip color area
- ShutterSpeedValue: 1/60
- WhiteBalance: Auto
- ICC-header
- ICC-meas
- ICC-view
- IFD0
- Make: Canon
- Model: Canon PowerShot G9
- ModifyDate: 2008:11:30 18:43:17
- Orientation: Horizontal (normal)
- Software: ACD Systems Digital Imaging
- XMP-aux
- Firmware: 1.00
- FlashCompensation: 0
- Lens: 7.4-44.4 mm
- LensInfo: 7400/1000 44400/1000 0/0 0/0
- XMP-crs
- AlreadyApplied: True
- BlueHue: 0
- BlueSaturation: 0
- Brightness: +50
- CameraProfile: ACR 4.4
- ChromaticAberrationB: 0
- ChromaticAberrationR: 0
- Clarity: +67
- ColorNoiseReduction: 25
- Contrast: +80
- ConvertToGrayscale: False
- Defringe: 0
- Exposure: +1.00
- FillLight: 78
- GreenHue: 0
- GreenSaturation: 0
- HasCrop: False
- HasSettings: True
- HighlightRecovery: 79
- HueAdjustmentAqua: 0
- HueAdjustmentBlue: 0
- HueAdjustmentGreen: 0
- HueAdjustmentMagenta: 0
- HueAdjustmentOrange: 0
- HueAdjustmentPurple: 0
- HueAdjustmentRed: 0
- HueAdjustmentYellow: 0
- IncrementalTemperature: 0
- IncrementalTint: 0
- LuminanceAdjustmentAqua: 0
- LuminanceAdjustmentBlue: 0
- LuminanceAdjustmentGreen: 0
- LuminanceAdjustmentMagenta: 0
- LuminanceAdjustmentOrange: 0
- LuminanceAdjustmentPurple: 0
- LuminanceAdjustmentRed: 0
- LuminanceAdjustmentYellow: 0
- LuminanceSmoothing: 0
- ParametricDarks: +38
- ParametricHighlightSplit: 75
- ParametricHighlights: -15
- ParametricLights: -4
- ParametricMidtoneSplit: 50
- ParametricShadowSplit: 25
- ParametricShadows: -35
- PostCropVignetteAmount: 0
- RedHue: 0
- RedSaturation: 0
- Saturation: -73
- SaturationAdjustmentAqua: -29
- SaturationAdjustmentBlue: 0
- SaturationAdjustmentGreen: -52
- SaturationAdjustmentMagenta: -60
- SaturationAdjustmentOrange: -29
- SaturationAdjustmentPurple: -35
- SaturationAdjustmentRed: 0
- SaturationAdjustmentYellow: -48
- ShadowTint: 0
- Shadows: 76
- SharpenDetail: 25
- SharpenEdgeMasking: 0
- SharpenRadius: +1.0
- Sharpness: 25
- SplitToningBalance: 0
- SplitToningHighlightHue: 214
- SplitToningHighlightSaturation: 16
- SplitToningShadowHue: 214
- SplitToningShadowSaturation: 24
- ToneCurve: 0, 0, 32, 22, 64, 56, 128, 128, 192, 196, 255, 255
- ToneCurveName: Medium Contrast
- Version: 4.5
- Vibrance: +69
- VignetteAmount: 0
- WhiteBalance: As Shot
- XMP-exif
- DateTimeDigitized: 2008:11:16 22:20:37+03:00
- DateTimeOriginal: 2008:11:16 22:20:37+03:00
- DigitalZoomRatio: 1
- ExifImageHeight: 768
- ExifImageWidth: 1024
- FlashFired: False
- FlashFunction: False
- FlashMode: Off
- FlashRedEyeMode: False
- FlashReturn: No return detection
- XMP-tiff
- ImageHeight: 768
- ImageWidth: 1024
- XMP-xmp
- CreateDate: 2008:11:16 22:20:37+03:00
- ModifyDate: 2008:11:30 18:42:52+03:00
- Просмотров: 276
- Рейтинг: голосов еще нет
- Отзывов: 0