- Раздел: Другое, разное
- Дата съёмки: 07.09.2008 11:11
- Дата загрузки фото: 03.12.2008 02:24
- Оригинальная фотография: 409 x 600 ( 78 Кб)
- Технические характеристики:
- Фотоаппарат: Canon PowerShot G9
- Выдержка: 1/30
- Гиперфокальное расстояние: 2,51 m
- Диафрагма: 2,8
- Светочувствительность: 200
- Фокусное расстояние: 7,4 mm (35 mm equivalent: 28,6 mm)
- Полный EXIF
- Composite
- Aperture: 2,8
- CircleOfConfusion: 0,008 mm
- FOV: 64,0 deg
- FocalLength35efl: 7,4 mm (35 mm equivalent: 28,6 mm)
- HyperfocalDistance: 2,51 m
- ScaleFactor35efl: 3,9
- ShutterSpeed: 1/30
- ExifIFD
- ApertureValue: 2,8
- CreateDate: 2008:09:07 11:11:10
- CustomRendered: Normal
- DateTimeOriginal: 2008:09:07 11:11:10
- ExifImageHeight: 600
- ExifImageWidth: 409
- ExposureCompensation: 0
- ExposureMode: Manual
- ExposureTime: 1/30
- FNumber: 2,8
- Flash: Off
- FocalLength: 7,4 mm
- ISO: 200
- MaxApertureValue: 2,8
- MeteringMode: Multi-segment
- SceneCaptureType: Standard
- SensingMethod: One-chip color area
- ShutterSpeedValue: 1/30
- WhiteBalance: Manual
- ICC-header
- ICC-meas
- ICC-view
- IFD0
- Make: Canon
- Model: Canon PowerShot G9
- ModifyDate: 2008:12:01 23:12:22
- Orientation: Horizontal (normal)
- Software: ACD Systems Digital Imaging
- XMP-aux
- Firmware: 1.00
- FlashCompensation: 0
- Lens: 7.4-44.4 mm
- LensInfo: 7400/1000 44400/1000 0/0 0/0
- XMP-crs
- AlreadyApplied: True
- BlueHue: 0
- BlueSaturation: 0
- Brightness: +50
- CameraProfile: ACR 2.4
- ChromaticAberrationB: 0
- ChromaticAberrationR: 0
- Clarity: +100
- ColorNoiseReduction: 25
- Contrast: +25
- ConvertToGrayscale: False
- Defringe: 0
- Exposure: +1.00
- FillLight: 100
- GreenHue: 0
- GreenSaturation: 0
- HasCrop: False
- HasSettings: True
- HighlightRecovery: 100
- HueAdjustmentAqua: 0
- HueAdjustmentBlue: 0
- HueAdjustmentGreen: 0
- HueAdjustmentMagenta: 0
- HueAdjustmentOrange: 0
- HueAdjustmentPurple: 0
- HueAdjustmentRed: 0
- HueAdjustmentYellow: 0
- IncrementalTemperature: 0
- IncrementalTint: 0
- LuminanceAdjustmentAqua: 0
- LuminanceAdjustmentBlue: 0
- LuminanceAdjustmentGreen: 0
- LuminanceAdjustmentMagenta: 0
- LuminanceAdjustmentOrange: 0
- LuminanceAdjustmentPurple: 0
- LuminanceAdjustmentRed: 0
- LuminanceAdjustmentYellow: 0
- LuminanceSmoothing: 0
- ParametricDarks: 0
- ParametricHighlightSplit: 75
- ParametricHighlights: 0
- ParametricLights: 0
- ParametricMidtoneSplit: 50
- ParametricShadowSplit: 25
- ParametricShadows: 0
- PostCropVignetteAmount: 0
- RedHue: 0
- RedSaturation: 0
- Saturation: -81
- SaturationAdjustmentAqua: 0
- SaturationAdjustmentBlue: 0
- SaturationAdjustmentGreen: 0
- SaturationAdjustmentMagenta: 0
- SaturationAdjustmentOrange: 0
- SaturationAdjustmentPurple: 0
- SaturationAdjustmentRed: 0
- SaturationAdjustmentYellow: 0
- ShadowTint: 0
- Shadows: 50
- SharpenDetail: 25
- SharpenEdgeMasking: 0
- SharpenRadius: +1.0
- Sharpness: 25
- SplitToningBalance: 0
- SplitToningHighlightHue: 65
- SplitToningHighlightSaturation: 50
- SplitToningShadowHue: 205
- SplitToningShadowSaturation: 75
- ToneCurve: 0, 0, 32, 16, 64, 50, 128, 128, 192, 202, 255, 255
- ToneCurveName: Strong Contrast
- Version: 4.5
- Vibrance: +100
- VignetteAmount: -94
- VignetteMidpoint: 25
- WhiteBalance: As Shot
- XMP-exif
- DateTimeDigitized: 2008:09:07 11:11:10+04:00
- DateTimeOriginal: 2008:09:07 11:11:10+04:00
- DigitalZoomRatio: 1
- ExifImageHeight: 2000
- ExifImageWidth: 1361
- FlashFired: False
- FlashFunction: False
- FlashMode: Off
- FlashRedEyeMode: False
- FlashReturn: No return detection
- XMP-tiff
- ImageHeight: 2000
- ImageWidth: 1361
- XMP-xmp
- CreateDate: 2008:09:07 11:11:10+04:00
- ModifyDate: 2008:12:01 02:01:01+03:00
- Просмотров: 296
- Рейтинг: голосов еще нет
- Отзывов: 0