- Раздел: Другое, разное
- Дата съёмки: 13.08.2008 19:05
- Дата загрузки фото: 03.12.2008 02:24
- Оригинальная фотография: 800 x 593 (138 Кб)
- Технические характеристики:
- Фотоаппарат: Canon PowerShot G9
- Выдержка: 1/1000
- Гиперфокальное расстояние: 1,27 m
- Диафрагма: 2,8
- Светочувствительность: 80
- Фокусное расстояние: 7,4 mm (35 mm equivalent: 14,4 mm)
- Полный EXIF
- Composite
- Aperture: 2,8
- CircleOfConfusion: 0,015 mm
- FOV: 102,0 deg
- FocalLength35efl: 7,4 mm (35 mm equivalent: 14,4 mm)
- HyperfocalDistance: 1,27 m
- ScaleFactor35efl: 2,0
- ShutterSpeed: 1/1000
- ExifIFD
- ApertureValue: 2,8
- ColorSpace: sRGB
- CreateDate: 2008:08:13 19:05:13
- CustomRendered: Normal
- DateTimeOriginal: 2008:08:13 19:05:13
- DigitalZoomRatio: 1
- ExifImageHeight: 593
- ExifImageWidth: 800
- ExposureCompensation: 0
- ExposureMode: Manual
- ExposureTime: 1/1000
- FNumber: 2,8
- Flash: Off
- FocalLength: 7,4 mm
- ISO: 80
- MaxApertureValue: 2,8
- MeteringMode: Multi-segment
- SceneCaptureType: Standard
- SensingMethod: One-chip color area
- ShutterSpeedValue: 1/1000
- WhiteBalance: Manual
- ICC-header
- ICC-meas
- ICC-view
- IFD0
- Make: Canon
- Model: Canon PowerShot G9
- ModifyDate: 2008:12:01 13:36:59
- Orientation: Horizontal (normal)
- Software: ACD Systems Digital Imaging
- IFD1
- XMP-aux
- Firmware: 1.00
- FlashCompensation: 0
- Lens: 7.4-44.4 mm
- LensInfo: 7400/1000 44400/1000 0/0 0/0
- XMP-crs
- AlreadyApplied: True
- BlueHue: 0
- BlueSaturation: 0
- Brightness: +50
- CameraProfile: ACR 2.4
- ChromaticAberrationB: 0
- ChromaticAberrationR: 0
- Clarity: +6
- ColorNoiseReduction: 25
- Contrast: +25
- ConvertToGrayscale: False
- Defringe: 0
- Exposure: 0.00
- FillLight: 0
- GreenHue: 0
- GreenSaturation: 0
- HasCrop: False
- HasSettings: True
- HighlightRecovery: 15
- HueAdjustmentAqua: 0
- HueAdjustmentBlue: 0
- HueAdjustmentGreen: 0
- HueAdjustmentMagenta: 0
- HueAdjustmentOrange: 0
- HueAdjustmentPurple: 0
- HueAdjustmentRed: 0
- HueAdjustmentYellow: 0
- LuminanceAdjustmentAqua: 0
- LuminanceAdjustmentBlue: 0
- LuminanceAdjustmentGreen: 0
- LuminanceAdjustmentMagenta: 0
- LuminanceAdjustmentOrange: 0
- LuminanceAdjustmentPurple: 0
- LuminanceAdjustmentRed: 0
- LuminanceAdjustmentYellow: 0
- LuminanceSmoothing: 0
- ParametricDarks: -14
- ParametricHighlightSplit: 86
- ParametricHighlights: +25
- ParametricLights: +12
- ParametricMidtoneSplit: 41
- ParametricShadowSplit: 15
- ParametricShadows: -50
- PostCropVignetteAmount: 0
- RedHue: 0
- RedSaturation: 0
- Saturation: 0
- SaturationAdjustmentAqua: 0
- SaturationAdjustmentBlue: 0
- SaturationAdjustmentGreen: 0
- SaturationAdjustmentMagenta: 0
- SaturationAdjustmentOrange: 0
- SaturationAdjustmentPurple: 0
- SaturationAdjustmentRed: 0
- SaturationAdjustmentYellow: 0
- ShadowTint: 0
- Shadows: 5
- SharpenDetail: 25
- SharpenEdgeMasking: 0
- SharpenRadius: +1.0
- Sharpness: 25
- SplitToningBalance: 0
- SplitToningHighlightHue: 65
- SplitToningHighlightSaturation: 50
- SplitToningShadowHue: 205
- SplitToningShadowSaturation: 75
- Temperature: 5400
- Tint: +8
- ToneCurve: 0, 0, 32, 22, 64, 56, 128, 128, 192, 196, 255, 255
- ToneCurveName: Medium Contrast
- Version: 4.5
- Vibrance: +10
- VignetteAmount: 0
- WhiteBalance: As Shot
- XMP-dc
- XMP-exif
- DateTimeDigitized: 2008:08:13 19:05:13+04:00
- DateTimeOriginal: 2008:08:13 19:05:13+04:00
- ExifImageHeight: 2856
- ExifImageWidth: 3852
- FlashFired: False
- FlashFunction: False
- FlashMode: Off
- FlashRedEyeMode: False
- FlashReturn: No return detection
- XMP-tiff
- ImageHeight: 3000
- ImageWidth: 4000
- XMP-xmp
- CreateDate: 2008:08:13 19:05:13+04:00
- ModifyDate: 2008:12:01 13:35:52+03:00
- XMP-xmpMM
- Просмотров: 328
- Рейтинг: голосов еще нет
- Отзывов: 0