- Раздел: Другое, разное
- Дата съёмки: 04.12.2008 12:10
- Дата загрузки фото: 07.12.2008 02:25
- Оригинальная фотография: 664 x 1000 ( 85 Кб)
- Технические характеристики:
- Фотоаппарат: Samsung GX20
- Выдержка: 1/8
- Гиперфокальное расстояние: 26,80 m
- Диафрагма: 5,6
- Светочувствительность: 400
- Фокусное расстояние: 55,0 mm (35 mm equivalent: 82,0 mm)
- Полный EXIF
- Composite
- Aperture: 5,6
- CircleOfConfusion: 0,020 mm
- FOV: 24,0 deg
- FocalLength35efl: 55,0 mm (35 mm equivalent: 82,0 mm)
- HyperfocalDistance: 26,80 m
- ScaleFactor35efl: 1,5
- ShutterSpeed: 1/8
- ExifIFD
- ApertureValue: 5,6
- Contrast: Normal
- CreateDate: 2008:12:04 12:10:46
- CustomRendered: Normal
- DateTimeOriginal: 2008:12:04 12:10:46
- ExifImageHeight: 1000
- ExifImageWidth: 664
- ExposureCompensation: 0
- ExposureMode: Manual
- ExposureProgram: Manual
- ExposureTime: 1/8
- FNumber: 5,6
- Flash: On
- FocalLengthIn35mmFormat: 82 mm
- ISO: 400
- MeteringMode: Multi-segment
- Saturation: Normal
- SceneCaptureType: Standard
- SensingMethod: One-chip color area
- Sharpness: Hard
- ShutterSpeedValue: 1/8
- SubjectDistanceRange: Macro
- WhiteBalance: Auto
- ICC-header
- ICC-meas
- ICC-view
- IFD0
- Make: SAMSUNG TECHWIN Co.
- Model: SAMSUNG GX20
- ModifyDate: 2008:12:11 02:23:54
- Orientation: Horizontal (normal)
- Software: ACD Systems Digital Imaging
- XMP-aux
- XMP-crs
- AlreadyApplied: True
- BlueHue: 0
- BlueSaturation: 0
- Brightness: +50
- CameraProfile: ACR 4.4
- ChromaticAberrationB: 0
- ChromaticAberrationR: 0
- Clarity: +67
- ColorNoiseReduction: 25
- Contrast: +80
- ConvertToGrayscale: False
- Defringe: 0
- Exposure: 0.00
- FillLight: 78
- GreenHue: 0
- GreenSaturation: 0
- HasCrop: False
- HasSettings: True
- HighlightRecovery: 79
- HueAdjustmentAqua: 0
- HueAdjustmentBlue: 0
- HueAdjustmentGreen: 0
- HueAdjustmentMagenta: 0
- HueAdjustmentOrange: 0
- HueAdjustmentPurple: 0
- HueAdjustmentRed: 0
- HueAdjustmentYellow: 0
- LuminanceAdjustmentAqua: 0
- LuminanceAdjustmentBlue: 0
- LuminanceAdjustmentGreen: 0
- LuminanceAdjustmentMagenta: 0
- LuminanceAdjustmentOrange: 0
- LuminanceAdjustmentPurple: 0
- LuminanceAdjustmentRed: 0
- LuminanceAdjustmentYellow: 0
- LuminanceSmoothing: 0
- ParametricDarks: +38
- ParametricHighlightSplit: 75
- ParametricHighlights: -15
- ParametricLights: -4
- ParametricMidtoneSplit: 50
- ParametricShadowSplit: 25
- ParametricShadows: -35
- PostCropVignetteAmount: 0
- RedHue: 0
- RedSaturation: 0
- Saturation: -73
- SaturationAdjustmentAqua: -29
- SaturationAdjustmentBlue: 0
- SaturationAdjustmentGreen: -52
- SaturationAdjustmentMagenta: -60
- SaturationAdjustmentOrange: -29
- SaturationAdjustmentPurple: -35
- SaturationAdjustmentRed: 0
- SaturationAdjustmentYellow: -48
- ShadowTint: 0
- Shadows: 76
- SharpenDetail: 25
- SharpenEdgeMasking: 0
- SharpenRadius: +1.0
- Sharpness: 25
- SplitToningBalance: 0
- SplitToningHighlightHue: 214
- SplitToningHighlightSaturation: 16
- SplitToningShadowHue: 214
- SplitToningShadowSaturation: 24
- Temperature: 4300
- Tint: +1
- ToneCurve: 0, 0, 32, 22, 64, 56, 128, 128, 192, 196, 255, 255
- ToneCurveName: Medium Contrast
- Version: 4.5
- Vibrance: +69
- VignetteAmount: 0
- WhiteBalance: As Shot
- XMP-exif
- DateTimeDigitized: 2008:12:04 12:10:46+03:00
- DateTimeOriginal: 2008:12:04 12:10:46+03:00
- ExifImageHeight: 4672
- ExifImageWidth: 3104
- FlashFired: True
- FlashFunction: False
- FlashMode: On
- FlashRedEyeMode: False
- FlashReturn: No return detection
- FocalLength: 55,0 mm
- XMP-tiff
- ImageHeight: 4672
- ImageWidth: 3104
- XMP-xmp
- CreateDate: 2008:12:04 12:10:46+03:00
- ModifyDate: 2008:12:08 06:48:10+03:00
- Просмотров: 290
- Рейтинг: голосов еще нет
- Отзывов: 0