- Раздел: Другое, разное
- Дата съёмки: 03.01.2008 14:32
- Дата загрузки фото: 07.12.2008 02:26
- Оригинальная фотография: 800 x 532 ( 81 Кб)
- Технические характеристики:
- Фотоаппарат: Samsung GX20
- Выдержка: 1/6
- Гиперфокальное расстояние: 15,81 m
- Диафрагма: 4,5
- Светочувствительность: 400
- Фокусное расстояние: 37,5 mm (35 mm equivalent: 57,0 mm)
- Полный EXIF
- Composite
- Aperture: 4,5
- CircleOfConfusion: 0,020 mm
- FOV: 35,0 deg
- FocalLength35efl: 37,5 mm (35 mm equivalent: 57,0 mm)
- HyperfocalDistance: 15,81 m
- ScaleFactor35efl: 1,5
- ShutterSpeed: 1/6
- ExifIFD
- ApertureValue: 4,5
- Contrast: Normal
- CreateDate: 2008:01:03 14:32:33
- CustomRendered: Normal
- DateTimeOriginal: 2008:01:03 14:32:33
- ExifImageHeight: 532
- ExifImageWidth: 800
- ExposureCompensation: 0
- ExposureMode: Manual
- ExposureProgram: Manual
- ExposureTime: 1/6
- FNumber: 4,5
- Flash: Off
- FocalLengthIn35mmFormat: 57 mm
- ISO: 400
- MeteringMode: Spot
- Saturation: Normal
- SceneCaptureType: Standard
- SensingMethod: One-chip color area
- Sharpness: Hard
- ShutterSpeedValue: 1/6
- SubjectDistanceRange: Macro
- WhiteBalance: Auto
- ICC-header
- ICC-meas
- ICC-view
- IFD0
- Make: SAMSUNG TECHWIN Co.
- Model: SAMSUNG GX20
- ModifyDate: 2008:12:08 01:12:10
- Orientation: Horizontal (normal)
- Software: ACD Systems Digital Imaging
- XMP-aux
- XMP-crs
- AlreadyApplied: True
- BlueHue: 0
- BlueSaturation: 0
- Brightness: -29
- CameraProfile: ACR 2.4
- ChromaticAberrationB: 0
- ChromaticAberrationR: 0
- Clarity: +36
- ColorNoiseReduction: 0
- Contrast: +45
- ConvertToGrayscale: True
- Defringe: 0
- Exposure: +4.00
- FillLight: 7
- GrayMixerAqua: -31
- GrayMixerBlue: -19
- GrayMixerGreen: -27
- GrayMixerMagenta: -5
- GrayMixerOrange: -18
- GrayMixerPurple: -40
- GrayMixerRed: +7
- GrayMixerYellow: -24
- GreenHue: 0
- GreenSaturation: 0
- HasCrop: False
- HasSettings: True
- HighlightRecovery: 51
- IncrementalTemperature: +14
- IncrementalTint: -5
- LuminanceSmoothing: 0
- ParametricDarks: 0
- ParametricHighlightSplit: 75
- ParametricHighlights: 0
- ParametricLights: 0
- ParametricMidtoneSplit: 50
- ParametricShadowSplit: 25
- ParametricShadows: 0
- PostCropVignetteAmount: 0
- RedHue: 0
- RedSaturation: 0
- ShadowTint: -2
- Shadows: 4
- SharpenDetail: 25
- SharpenEdgeMasking: 0
- SharpenRadius: +1.0
- Sharpness: 25
- SplitToningBalance: -100
- SplitToningHighlightHue: 61
- SplitToningHighlightSaturation: 0
- SplitToningShadowHue: 237
- SplitToningShadowSaturation: 0
- ToneCurve: 0, 0, 32, 22, 64, 56, 128, 128, 192, 196, 255, 255
- ToneCurveName: Medium Contrast
- Version: 4.5
- VignetteAmount: -100
- VignetteMidpoint: 22
- WhiteBalance: Custom
- XMP-exif
- DateTimeDigitized: 2008:01:03 14:32:33+03:00
- DateTimeOriginal: 2008:01:03 14:32:33+03:00
- ExifImageHeight: 3104
- ExifImageWidth: 4672
- FlashFired: False
- FlashFunction: False
- FlashMode: Off
- FlashRedEyeMode: False
- FlashReturn: No return detection
- FocalLength: 37,5 mm
- XMP-tiff
- ImageHeight: 3104
- ImageWidth: 4672
- XMP-xmp
- CreateDate: 2008:01:03 14:32:33+03:00
- ModifyDate: 2008:12:08 01:11:52+03:00
- Просмотров: 319
- Рейтинг: голосов еще нет
- Отзывов: 0